BEGIN:VCALENDAR
VERSION:2.0
PRODID:-//StrefaMMA.pl - Portal sportów walki - ECPv5.16.3.1//NONSGML v1.0//EN
CALSCALE:GREGORIAN
METHOD:PUBLISH
X-ORIGINAL-URL:https://strefamma.pl
X-WR-CALDESC:Wydarzenia dla StrefaMMA.pl - Portal sportów walki
REFRESH-INTERVAL;VALUE=DURATION:PT1H
X-Robots-Tag:noindex
X-PUBLISHED-TTL:PT1H
BEGIN:VTIMEZONE
TZID:Europe/Warsaw
BEGIN:DAYLIGHT
TZOFFSETFROM:+0100
TZOFFSETTO:+0200
TZNAME:CEST
DTSTART:20220327T010000
END:DAYLIGHT
BEGIN:STANDARD
TZOFFSETFROM:+0200
TZOFFSETTO:+0100
TZNAME:CET
DTSTART:20221030T010000
END:STANDARD
END:VTIMEZONE
BEGIN:VEVENT
DTSTART;TZID=Europe/Warsaw:20220312T080000
DTEND;TZID=Europe/Warsaw:20220312T120000
DTSTAMP:20260425T053707
CREATED:20220311T184039Z
LAST-MODIFIED:20220311T184039Z
UID:32379-1647072000-1647086400@strefamma.pl
SUMMARY:XFC 55: Dobb vs. Kepu
DESCRIPTION:XFC 50 odbędzie się już 12 marca. Australijska federacja ponownie zapewni niesamowite emocje! \nW walce wieczoru w wadze średniej spotkają się Sam Dobb i Nick Kepu. Obaj zawodnicy są na początku swoich karier w MMA. W sumie dwaj Australijczycy stoczyli dotychczas 5 zawodowych starć i zaznali już smak porażki. \nW co-main evencie dojdzie do pojedynku w żeńskim MMA. Chiquita Lovini w debiucie podejmie Angelkę Momcilovic. \nKarta walk\nWalka wieczoru: \n\nSam Dobb vs. Nick Kepu\n\nPozostałe walki \n\nChiquita Lovini vs. A. Momcilovic\nSean Olsen vs  Viktor Lyall\nJosh Horne vs. Jake Deaves\nMitch Ferdi vs. K. Riddle-Johnston\nE. Faumuina vs. Wilma Letalu\nNikita Laptsevich vs. Nelson Murray\nLiam Sui vs. Abbas Alliwi\nMitchell Ruzicka vs. Jake Spanbroek
URL:https://strefamma.pl/event/xfc-55-dobb-vs-kepu/
LOCATION:Brisbane\, Australia\, Brisbane\, Australia
ATTACH;FMTTYPE=image/png:https://strefamma.pl/wp-content/uploads/2022/03/XFC-55-plakat.png
END:VEVENT
END:VCALENDAR