BEGIN:VCALENDAR
VERSION:2.0
PRODID:-//StrefaMMA.pl - Portal sportów walki - ECPv5.16.3.1//NONSGML v1.0//EN
CALSCALE:GREGORIAN
METHOD:PUBLISH
X-ORIGINAL-URL:https://strefamma.pl
X-WR-CALDESC:Wydarzenia dla StrefaMMA.pl - Portal sportów walki
REFRESH-INTERVAL;VALUE=DURATION:PT1H
X-Robots-Tag:noindex
X-PUBLISHED-TTL:PT1H
BEGIN:VTIMEZONE
TZID:Europe/Warsaw
BEGIN:DAYLIGHT
TZOFFSETFROM:+0100
TZOFFSETTO:+0200
TZNAME:CEST
DTSTART:20250330T010000
END:DAYLIGHT
BEGIN:STANDARD
TZOFFSETFROM:+0200
TZOFFSETTO:+0100
TZNAME:CET
DTSTART:20251026T010000
END:STANDARD
END:VTIMEZONE
BEGIN:VEVENT
DTSTART;TZID=Europe/Warsaw:20250208T220000
DTEND;TZID=Europe/Warsaw:20250209T080000
DTSTAMP:20260425T235201
CREATED:20250123T124205Z
LAST-MODIFIED:20250123T124329Z
UID:130306-1739052000-1739088000@strefamma.pl
SUMMARY:UFC 312: Du Plessis vs. Strickland 2
DESCRIPTION:W nocy z soboty 8 lutego na niedzielę 9 lutego w Sydney odbędzie się gala UFC 312. W najważniejszych walkach wieczoru zobaczymy dwa starcia o mistrzowskie tytuły. \nByły mistrz KSW Dricus Du Plessis powraca do Australii\, gdzie zanotował pierwszą udaną obronę pasa mistrzowskiego. Tym razem zmierzy się z Seanem Stricklandem\, któremu tytuł ten odebrał. Przed nimi do kolejnej obrony przystąpi Weili Zhang. Chińska fighterka\, która zakończyła karierę Joanny Jędrzejczyk zmierzy się z niepokonaną Tatianą Suarez. \nUFC 312: Kursy i zakłady bukmacherskie\nWszystkie walki z karty walk gali UFC 312: Du Plessis vs. Strickland 2 obstawicie na stronie i w aplikacji bukmachera Fortuna. Nowi użytkownicy otrzymają na start darmowe 30 zł za depozyt i rejestrację oraz zakład bez ryzyka do 100 zł. \n \nUFC 312: Karta walk\nWalka wieczoru: \n\n185 lb: Dricus Du Plessis (22-2) vs. Sean Strickland (29-6) – o pas mistrzowski wagi średniej\n\nKarta główna: \n\n115 lb: Weili Zhang (25-3) vs. Tatiana Suarez (10-0) – o pas mistrzowski wagi słomkowej\n265 lb: Tallison Teixeira (7-0) vs. Justin Tafa (7-4)\n205 lb: Jimmy Crute (12-4-1) vs. Rodolfo Bellato (12-2)\n170 lb: Jake Matthews (20-7) vs. Francisco Prado (12-2)\n\nKarta wstępna: \n\n145 lb: Jack Jenkins (13-3) vs. Gabriel Santos (11-2)\n135 lb: Cody Haddon (8-1) vs. Aleksandre Topuria (5-1)\n155 lb: Tom Nolan (8-1) vs. Viacheslav Borshchev (8-4-1)\n125 lb: Hyun Sung Park (9-0) vs. Nyamjargal Tumendemberel (8-1)\n\nKarta przedwstępna: \n\n155 lb: Quillan Salkilld (7-1) vs. Anshul Jubli (7-1)\n125 lb: Cong Wang (6-1) vs. Bruna Brasil (10-4-1)\n170 lb: Jonathan Micallef (7-0) vs. Kevin Joussett (10-3)\n125 lb: Rei Tsuruya (10-0) vs. Stewart Nicoll (8-1)\n\nOstatnia zmiana: 23.01.2025 r.
URL:https://strefamma.pl/event/ufc-312-du-plessis-vs-strickland-2/
LOCATION:Qudos Bank Arena\, Sydney\, Australia
ATTACH;FMTTYPE=image/jpeg:https://strefamma.pl/wp-content/uploads/2025/01/ufc-312-du-plessis-strickland-2.jpg
END:VEVENT
END:VCALENDAR