BEGIN:VCALENDAR
VERSION:2.0
PRODID:-//StrefaMMA.pl - Portal sportów walki - ECPv5.16.3.1//NONSGML v1.0//EN
CALSCALE:GREGORIAN
METHOD:PUBLISH
X-ORIGINAL-URL:https://strefamma.pl
X-WR-CALDESC:Wydarzenia dla StrefaMMA.pl - Portal sportów walki
REFRESH-INTERVAL;VALUE=DURATION:PT1H
X-Robots-Tag:noindex
X-PUBLISHED-TTL:PT1H
BEGIN:VTIMEZONE
TZID:Europe/Warsaw
BEGIN:DAYLIGHT
TZOFFSETFROM:+0100
TZOFFSETTO:+0200
TZNAME:CEST
DTSTART:20250330T010000
END:DAYLIGHT
BEGIN:STANDARD
TZOFFSETFROM:+0200
TZOFFSETTO:+0100
TZNAME:CET
DTSTART:20251026T010000
END:STANDARD
END:VTIMEZONE
BEGIN:VEVENT
DTSTART;TZID=Europe/Warsaw:20250906T190000
DTEND;TZID=Europe/Warsaw:20250907T020000
DTSTAMP:20260425T153810
CREATED:20250721T123420Z
LAST-MODIFIED:20250829T081940Z
UID:145356-1757185200-1757210400@strefamma.pl
SUMMARY:FAME 27: KINGDOM
DESCRIPTION:Organizacja FAME MMA powróci na ekrany odbiorników w sobotę\, 6 września. Na poprzedniej gali poznaliśmy walkę wieczoru tego wydarzenia. Największa organizacja freak fight w Europie powraca do jednej z największych hal sportowych w Polsce. FAME 27: KINGDOM odbędzie się w sobotę\, 6 września. Transmisja będzie dostępna wyłącznie w systemie Pay-Per-View. Tego wieczoru dojdzie do sensacyjnego debiutu we freakach. FAME MMA wypożyczyło z ONE Championship jedną z największych gwiazd europejskiej sceny. Roberto Soldić w walce wieczoru zmierzy się z Tomaszem Adamkiem. Formułą będzie oczywiście boks\, a panowie zawalczą na dystansie 8 rund po 3 minuty. \nFAME 27: kursy bukmacherskie\nWszystkie walki FAME 27  obstawisz u bukmachera FORTUNA. Nowi użytkownicy na start otrzymają aż do 300 zł. Wystarczy\, że pierwszy kupon z kursem min. 2.5 obstawicie za 50 zł\, za co otrzymacie 150 zł we freebetach. A to tylko jeden z wielu bonusów na start.  \nFAME 27: KINGDOM – karta walk\n\nWalka wieczoru: \n\n\n\n\nRoberto “Robocop” Soldić – Tomasz “Góral” Adamek\n\n\n\n\nKarta główna: \n\n\n\n\nLexy Chaplin – Klaudia “Sheeya” Kołodziejczyk\n\n\n\nMichał Materla – Dawid “Crazy” Załęcki\n\n\n\nŁukasz “Tuszol” Tuszyński – Marcin “Cesarz” Najman\n\n\n\nWiktor “Wronek” Wronka – Hubert Dajczman\n\n\n\nAlan “Alanik” Kwieciński – Michał “Matrix” Królik\n\n\n\nBartosz Szachta – Kamil “King Kong” Minda\n\n\n\n\nFree fighty (dostępne na YouTube): \n\n\n\n\nFilip Bątkowski – Oskar Wierzejski\n\n\n\nBartosz “Hermes” Jarzyński – Brajan “Bojan” Bojanko\n\n\nOstatnia modyfikacja: 28.08.2025 r.
URL:https://strefamma.pl/event/fame-27-kingdom/
LOCATION:PreZero Arena Gliwice\, Akademicka 50\, Gliwice\, Poland
ATTACH;FMTTYPE=image/jpeg:https://strefamma.pl/wp-content/uploads/2025/07/FAME-27-KINGDOM.jpg
END:VEVENT
END:VCALENDAR