BEGIN:VCALENDAR
VERSION:2.0
PRODID:-//StrefaMMA.pl - Portal sportów walki - ECPv5.16.3.1//NONSGML v1.0//EN
CALSCALE:GREGORIAN
METHOD:PUBLISH
X-WR-CALNAME:StrefaMMA.pl - Portal sportów walki
X-ORIGINAL-URL:https://strefamma.pl
X-WR-CALDESC:Wydarzenia dla StrefaMMA.pl - Portal sportów walki
REFRESH-INTERVAL;VALUE=DURATION:PT1H
X-Robots-Tag:noindex
X-PUBLISHED-TTL:PT1H
BEGIN:VTIMEZONE
TZID:Europe/Warsaw
BEGIN:DAYLIGHT
TZOFFSETFROM:+0100
TZOFFSETTO:+0200
TZNAME:CEST
DTSTART:20240331T010000
END:DAYLIGHT
BEGIN:STANDARD
TZOFFSETFROM:+0200
TZOFFSETTO:+0100
TZNAME:CET
DTSTART:20241027T010000
END:STANDARD
END:VTIMEZONE
BEGIN:VEVENT
DTSTART;TZID=Europe/Warsaw:20240511T190000
DTEND;TZID=Europe/Warsaw:20240512T010000
DTSTAMP:20260420T160815
CREATED:20240317T090022Z
LAST-MODIFIED:20240507T053420Z
UID:95746-1715454000-1715475600@strefamma.pl
SUMMARY:XTB KSW 94: Bartosiński vs. Michaliszyn
DESCRIPTION:Sporty walki wracają do ERGO Areny! KSW wraca do areny z kapitalną rozpiską\, którą zakończą niezwykle emocjonujące starcia. \nKibice w końcu otrzymają wyczekiwaną potyczkę w wadze ciężkiej. Artur Szpilka zmierzy się z Arkadiuszem Wrzoskiem i jeden z zawodników straci perfekcyjny rekord bez porażki. Wcześniej zaś dojdzie do starcia dla prawdziwych koneserów. O tymczasowy pas kategorii piórkowej zawalczą Robert Ruchała i Patryk Kaczmarczyk. \nWreszcie w walce wieczoru XTB KSW 94 miało dojść do hitowego rewanżu o koronę kategorii półśredniej. Adrian Bartosiński nie zmierzy się jednak z Andrzejem Grzebykiem\, który doznał kontuzji. W jego miejsce na ostatnią chwilę wskoczył niepokonany w KSW Igor Michaliszyn. \nKursy i zakłady na XTB KSW 94\nGalę XTB KSW 94 w całości obstawicie u bukmachera eFortuna.pl. Na start czekają na Was liczne bonusy. Za rejestrację i depozyt otrzymacie darmowe 30 zł. Do tego trzy pierwsze zakłady do 100 zł obstawicie w całości bez ryzyka! \nOdbieram bonusy na XTB KSW 94! \n \nXTB KSW 94: Bartosiński vs. Grzebyk – Karta walk\nWalka wieczoru: \n\n77\,1 kg/170 lb: Adrian Bartosiński #C (14-0\, 11 KO\, 1 Sub) vs. Igor Michaliszyn #3 (10-2\, 4 KO\, 3 Sub) – walka o tymczasowy pas kategorii półśredniej KSW\n\nKarta główna: \n\n120\,2 kg/265 lb: Arkadiusz Wrzosek #9 (4-0\, 2 KO\, 1 Sub) vs. Artur Szpilka (2-0\, 2 KO)\n65\,8 kg/145 lb: Robert Ruchała #1 (9-1\, 1 KO\, 3 Sub) vs. Patryk Kaczmarczyk #2 (11-2\, 3 KO\, 2 Sub – walka o tymczasowy pas kategorii piórkowej KSW\n65\,8 kg/145 lb: Ahmed Vila #7 (12-4-1 1 NC\, 6 Sub) vs. Kacper Formela (17-4\, 7 KO\, 3 Sub)\n83\,9 kg/185 lb: Michał Michalski #7 (11-5\, 6 KO\, 1 Sub) vs. Bartosz Leśko #10 (13-4-2\, 2 KO\, 7 Sub)\n120\,2 kg/265 lb: Ricardo Prasel #4 (13-4\, 4 KO\, 9 Sub) vs. Štefan Vojčák #6 (7-1\, 3 KO\, 3 Sub)\n65\,8 kg/145 lb: Daniel Tărchilă #10 (7-2\, 2 KO\, 3 Sub) vs. Dawid Kareta (5-3\, 1 KO\, 2 Sub)\n120\,2 kg/265 lb: Filip Stawowy #8 (10-4\, 8 KO\, 1 Sub) vs. Ivan Vitasović #10 (12-6-1\, 9 KO\, 2 Sub)\n56\,7 kg/125 lb: Adrianna Kreft (5-1\, 1 KO\, 2 Sub) vs. Mafalda Carmona (5-2\, 3 KO\, 1 Sub)\n120\,2 kg/265 lb: Patryk Tołkaczewski (0-1) vs. Michał Turyński (0-0)\n\nOstatnia zmiana: 07.05.2024 r.
URL:https://strefamma.pl/event/xtb-ksw-94-bartosinski-vs-michaliszyn/
LOCATION:Ergo Arena\, Gdańsk
ATTACH;FMTTYPE=image/jpeg:https://strefamma.pl/wp-content/uploads/2024/03/XTB-KSW-94-Bartosinski-vs.-Michaliszyn.jpg
END:VEVENT
END:VCALENDAR