BEGIN:VCALENDAR
VERSION:2.0
PRODID:-//StrefaMMA.pl - Portal sportów walki - ECPv5.16.3.1//NONSGML v1.0//EN
CALSCALE:GREGORIAN
METHOD:PUBLISH
X-WR-CALNAME:StrefaMMA.pl - Portal sportów walki
X-ORIGINAL-URL:https://strefamma.pl
X-WR-CALDESC:Wydarzenia dla StrefaMMA.pl - Portal sportów walki
REFRESH-INTERVAL;VALUE=DURATION:PT1H
X-Robots-Tag:noindex
X-PUBLISHED-TTL:PT1H
BEGIN:VTIMEZONE
TZID:Europe/Warsaw
BEGIN:DAYLIGHT
TZOFFSETFROM:+0100
TZOFFSETTO:+0200
TZNAME:CEST
DTSTART:20220327T010000
END:DAYLIGHT
BEGIN:STANDARD
TZOFFSETFROM:+0200
TZOFFSETTO:+0100
TZNAME:CET
DTSTART:20221030T010000
END:STANDARD
END:VTIMEZONE
BEGIN:VEVENT
DTSTART;TZID=Europe/Warsaw:20220618T010000
DTEND;TZID=Europe/Warsaw:20220618T083000
DTSTAMP:20260422T060151
CREATED:20220613T050046Z
LAST-MODIFIED:20220616T061032Z
UID:40468-1655514000-1655541000@strefamma.pl
SUMMARY:PFL 4: 2022 Regular Season
DESCRIPTION:W nocy z 17 na 18 czerwca do klatki powróci Marcin Held! Polak\, który dołączył do obecnego sezonu Professional Fighters League spotka się z Natanem Schulte! \nMarcin Held to niezwykle doświadczony zawodnik\, który występował już dla wielu organizacji. Polak najbardziej został zapamiętany z walk w Bellatorze\, gdzie zachwycał swoimi poddaniami. Rywalem Helda będzie Natan Schulte\, z którym to Marcin mierzył się w poprzednim sezonie Professional Fighting League. \nObstaw PFL 4  w STS!!\nPFL 4 obstawić można w STS. Wszyscy nowi użytkownicy otrzymują świetny bonus! \nWystarczy zarejestrować się na stronie bukmachera TUTAJ\, by móc oglądać UFC 275 za darmo już od karty wstępnej! STS oferuje dodatkowe 100% od pierwszego depozytu do kwoty aż 300 złotych. Ponadto gracz będzie mógł postawić pierwszy zakład bez ryzyka do 100 złotych. Wystarczy zarejestrować się – tutaj – wpłacić pieniądze i obstawić kupon. \n \n\nKarta walk PFL 4\nWalka wieczoru: \n\nClay Collard (21-9-0) vs. Alex Martinez (9-2-0)\n\nKarta główna: \n\nAntônio Carlos Júnior (14-5-0) vs. Bruce Souto (15-4-0)\nRaush Manfio (16-3-0) vs. Olivier Aubin-Mercier (14-5-0)\nJeremy Stephens (28-20-0) vs. Myles Price (11-8-0)\n\nKarta wstępna: \n\nOmari Akhmedov (22-7-1) vs. Teodoras Aukštuolis (11-6-0)\nNatan Schulte (21-5-1) vs. Marcin Held (27-8-0)\nEmiliano Sordi 23-10-1) vs. Delan Monte (8-2-0)\nRob Wilkinson (14-2-0) vs. Viktor Pešta (18-7-0)\nMarthin Hamlet (9-3-0) vs. Josh Silveira (8-0-0)\nBruno Miranda (14-3-0) vs. Nate Jennerman (15-5-0)\n\nOstatnia modyfikacja: 13.06.2022
URL:https://strefamma.pl/event/pfl-4-2022-regular-season/
LOCATION:Overtime Elite Arena\, Atlanta\, United States
ATTACH;FMTTYPE=image/png:https://strefamma.pl/wp-content/uploads/2022/06/PFL-4-Schilte-vs.-Held.png
END:VEVENT
END:VCALENDAR