BEGIN:VCALENDAR
VERSION:2.0
PRODID:-//StrefaMMA.pl - Portal sportów walki - ECPv5.16.3.1//NONSGML v1.0//EN
CALSCALE:GREGORIAN
METHOD:PUBLISH
X-WR-CALNAME:StrefaMMA.pl - Portal sportów walki
X-ORIGINAL-URL:https://strefamma.pl
X-WR-CALDESC:Wydarzenia dla StrefaMMA.pl - Portal sportów walki
REFRESH-INTERVAL;VALUE=DURATION:PT1H
X-Robots-Tag:noindex
X-PUBLISHED-TTL:PT1H
BEGIN:VTIMEZONE
TZID:Europe/Warsaw
BEGIN:DAYLIGHT
TZOFFSETFROM:+0100
TZOFFSETTO:+0200
TZNAME:CEST
DTSTART:20210328T010000
END:DAYLIGHT
BEGIN:STANDARD
TZOFFSETFROM:+0200
TZOFFSETTO:+0100
TZNAME:CET
DTSTART:20211031T010000
END:STANDARD
END:VTIMEZONE
BEGIN:VEVENT
DTSTART;TZID=Europe/Warsaw:20210813T233000
DTEND;TZID=Europe/Warsaw:20210814T060000
DTSTAMP:20260423T095312
CREATED:20210811T104336Z
LAST-MODIFIED:20210811T104336Z
UID:8981-1628897400-1628920800@strefamma.pl
SUMMARY:PFL 2021 #7: MacDonald vs. Cooper III
DESCRIPTION:W najbliższy weekend odbędzie już siódma gala tegorocznych rozgrywek w ramach gali PFL. W walce wieczoru weteran UFC i były mistrz Bellatora Rory MacDonald zmierzy się Rayem Cooperem III. Ponadto na tej gali wystąpi niedawny rywal Marcina Helda Olivier Aubin-Mercier\, który zawalczy Darrelem Horcherem. \nWalka wieczoru:\n170 lb: Rory MacDonald (22-7-1) vs. Ray Cooper III (22-7-1) \nKarta główna:\n170 lb: Magomed Magomedkerimov (28-5) vs. Sadibou Sy (9-5-2)\n155 lb: Clay Collard (20-8) vs. Raush Manfio (13-3)\n155 lb: Loik Radzhabov (14-3-1) vs. Alex Martinez (8-1) \nKarta wstępna:\n170 lb: Curtis Millender (18-8) vs. Gleison Tibau (35-15)\n155 lb: Olivier Aubin-Mercier (12-5) vs. Darrell Horcher (14-4)\n155 lb: Brett Cooper (27-15) vs. Tyler Hill (10-5)\n170 lb: Magomed Umalatov (10-0) vs. Micah Terrill (15-8)\n170 lb: Kyron Bowen (9-6) vs. Michael Lombardo (11-2)\n155 lb: Hopeton Stewart (5-1) vs. Elvin Espinosa (5-0)
URL:https://strefamma.pl/event/pfl-2021-7-macdonald-vs-cooper-iii/
LOCATION:USA
ATTACH;FMTTYPE=image/jpeg:https://strefamma.pl/wp-content/uploads/2021/08/pfl.jpg
END:VEVENT
END:VCALENDAR