BEGIN:VCALENDAR
VERSION:2.0
PRODID:-//StrefaMMA.pl - Portal sportów walki - ECPv5.16.3.1//NONSGML v1.0//EN
CALSCALE:GREGORIAN
METHOD:PUBLISH
X-ORIGINAL-URL:https://strefamma.pl
X-WR-CALDESC:Wydarzenia dla StrefaMMA.pl - Portal sportów walki
REFRESH-INTERVAL;VALUE=DURATION:PT1H
X-Robots-Tag:noindex
X-PUBLISHED-TTL:PT1H
BEGIN:VTIMEZONE
TZID:Europe/Warsaw
BEGIN:DAYLIGHT
TZOFFSETFROM:+0100
TZOFFSETTO:+0200
TZNAME:CEST
DTSTART:20230326T010000
END:DAYLIGHT
BEGIN:STANDARD
TZOFFSETFROM:+0200
TZOFFSETTO:+0100
TZNAME:CET
DTSTART:20231029T010000
END:STANDARD
END:VTIMEZONE
BEGIN:VEVENT
DTSTART;TZID=Europe/Warsaw:20231124T230000
DTEND;TZID=Europe/Warsaw:20231125T050000
DTSTAMP:20260420T172430
CREATED:20231114T184048Z
LAST-MODIFIED:20231114T184048Z
UID:85248-1700866800-1700888400@strefamma.pl
SUMMARY:PFL 10: 2023 PFL World Championship
DESCRIPTION:W ostatni weekend listopada w Waszyngtonie dojdzie do kolejnej gali organizacji PFL. Kibice obejrzą aż 12 pojedynków w ramach rozgrywek o punkty.\n\n \n\nKartę walk tym razem zamknie starcie czołowych lekkich w organizacji. Olivier Aubin-Mercier zmierzy się z Clayem Collardem. Obaj zawodnicy pozostają niepokonani\, co zwiastuje spore emocje!\n\n \n\nKolejną walkę stoczy też Kayla Harrison. Porównywana do samej Rondy Rousey Amerykanka spotka się w klatce z byłą fighterką UFC\, która w kratkę radzi sobie w PFL. Aspen Ladd po 3. pojedynkach ma jedną porażkę oraz dwie wygrane – przez poddanie i decyzję.\n\n \nKursy bukmacherskie na galę PFL 10: 2023 PFL World Championship\n \n\nGale Professional Fighters League w całości obstawicie u bukmachera Fortuna. Jeśli nie posiadacie jeszcze konta możecie skorzystać ze świetnej oferty powitalnej. Oprócz bonusu otrzymacie też 3x zakład bez ryzyka do 100\, 200 oraz 300 zł.\n\n \nOdbierz bonusy na PFL 10: 2023 PFL World Championship \n\n\nKARTA WALK\n\nWalka wieczoru:\n\n 	Clay Collard (24-10-0) vs Olivier Aubin-Mercier (20-5-0)\n\nKarta główna:\n\n 	Renan Ferreira (11-3-0) vs Denis Goltsov (32-7-0)\n 	Larissa Pacheco (22-4-0) vs Marina Mokhnatkina (11-3-0)\n 	Magomed Magomedkerimov (33-6-0) vs Sadibou Sy (16-6-2)\n 	Impa Kasanganay (14-3-0) vs Josh Silveira (12-1-0)\n 	Kayla Harrison (15-1-0) vs Aspen Ladd (11-4-0)\n 	Ray Cooper III (25-8-1) vs Derek Brunson (23-9-0)\n\nKarta wstępu:\n\n 	Jesus Pinedo (22-6-1) vs Gabriel Alves Braga (12-0-0)\n 	Biaggio Ali Walsh (5-1-0) vs Joel Galarza Lopez )3-0-0)\n 	Bubba Jenkins (21-7-0) vs Chris Wade (23-10-0)\n 	Khai Wu (7-4-0) vs Phil Caracappa (9-3-0)\n 	Jesse Stirn (15-6-0) vs Josh Blyden (9-2-0)\n\nOstatnia zmiana: 14.11.2023 r.
URL:https://strefamma.pl/event/pfl-10-2023-pfl-world-championship/
LOCATION:USA
ATTACH;FMTTYPE=image/jpeg:https://strefamma.pl/wp-content/uploads/2023/11/PFL-10-2023-PFL-World-Championship.jpg
END:VEVENT
END:VCALENDAR