BEGIN:VCALENDAR
VERSION:2.0
PRODID:-//StrefaMMA.pl - Portal sportów walki - ECPv5.16.3.1//NONSGML v1.0//EN
CALSCALE:GREGORIAN
METHOD:PUBLISH
X-WR-CALNAME:StrefaMMA.pl - Portal sportów walki
X-ORIGINAL-URL:https://strefamma.pl
X-WR-CALDESC:Wydarzenia dla StrefaMMA.pl - Portal sportów walki
REFRESH-INTERVAL;VALUE=DURATION:PT1H
X-Robots-Tag:noindex
X-PUBLISHED-TTL:PT1H
BEGIN:VTIMEZONE
TZID:Europe/Warsaw
BEGIN:DAYLIGHT
TZOFFSETFROM:+0100
TZOFFSETTO:+0200
TZNAME:CEST
DTSTART:20220327T010000
END:DAYLIGHT
BEGIN:STANDARD
TZOFFSETFROM:+0200
TZOFFSETTO:+0100
TZNAME:CET
DTSTART:20221030T010000
END:STANDARD
END:VTIMEZONE
BEGIN:VEVENT
DTSTART;TZID=Europe/Warsaw:20220420T233000
DTEND;TZID=Europe/Warsaw:20220421T233000
DTSTAMP:20260422T084911
CREATED:20220415T183057Z
LAST-MODIFIED:20220415T183057Z
UID:34997-1650497400-1650583800@strefamma.pl
SUMMARY:PFL 2022 #1: Regular Season
DESCRIPTION:Rusza kolejny sezon Professional Fighters League! Zdobywająca coraz większą rzeszę fanów federacja ponownie da niesamowite pojedynki. \nW tym sezonie PFL ponownie zawodnicy grają o milion dolarów\, walcząc na zasadach ligowych. Ostatecznie organizacja zdołała utrzymać na kontrakcie Kaylę Harrison\, choć na jej pojedynek będzie trzeba poczekać. \nW nocy z 20 na 21 kwietnia zobaczymy występy fighterów znanych z UFC. Rosjanin Omari Akhmedov zmierzy się z Viktorem Pestą\, który przegrywał chociażby z Marcinem Tyburą. Pojawi się również Kanadyjczyk Olivier Aubin-Mercier\, który zawalczy z Natanem Schultem. W walce wieczoru zaś pojawi się Clay Collard\, którego rywalem będzie Jeremy Stephens. Jak dobrze wiemy odejście „Lil’ Heathena” z UFC przypieczętował Mateusz Gamrot. \n \nKarta walk gali PFL\nWalka wieczoru: \n\nClay Collard (20-9-0) vs. Jeremy Stephens (28-19-0)\n\nPozostałe walki: \n\nRaush Manfio (15-3-0) vs. Don Madge (10-3-1)\nAntônio Carlos Júnior (13-5-0) vs. Delan Monte (8-1-0)\nNatan Schulte (21-4-1) vs. Olivier Aubin-Mercier (13-5-0)\nEmiliano Sordi (23-9-1) vs. Josh Silveira (8-0-0)\nAlex Martinez (8-2-0) vs. Stevie Ray (23-9-0)\nMarthin Hamlet (8-3-0) vs. Teodoras Aukštuolis (11-5-0)\nOmari Akhmedov (21-7-1) vs. Viktor Pešta (18-6-0)\nRob Wilkinson (13-2-0) vs. Bruce Souto (15-3-0)\nCory Hendricks (8-4-0) vs. Clinton Williams (9-5-0)\n\nOstatnia modyfikacja: 15.04.2022 r.
URL:https://strefamma.pl/event/pfl-2022-1-regular-season/
LOCATION:Esports Stadium Arlington\, Arlington\, United States
ATTACH;FMTTYPE=image/png:https://strefamma.pl/wp-content/uploads/2022/04/PFL-2022-1-Regular-Season.png
END:VEVENT
BEGIN:VEVENT
DTSTART;TZID=Europe/Warsaw:20220428T233000
DTEND;TZID=Europe/Warsaw:20220429T233000
DTSTAMP:20260422T084911
CREATED:20220422T182909Z
LAST-MODIFIED:20220427T170122Z
UID:35495-1651188600-1651275000@strefamma.pl
SUMMARY:PFL 2022 #2: Regular Season
DESCRIPTION:Obstaw Professional Fighters League #2 w STS!\n\nWszystkie wydarzenia gali PFL 2022 #2 możesz obstawić legalnie u największego polskiego bukmachera STS. Rejestrując się – tutaj – otrzymasz specjalne bonusy przygotowane dla wszystkich nowych użytkowników. \nSTS oferuje dodatkowe 100% od pierwszego depozytu aż do kwoty 300 złotych. Ponadto gracz będzie mógł postawić pierwszy zakład bez ryzyka do 100 złotych. Wystarczy zarejestrować się – tutaj – wpłacić pieniądze i obstawić kupon. \n \n\nKarta walk PFL 2022 #2: Regular Season\nWalka wieczoru: \n\nBruno Cappelozza (14-5-0) vs. Stuart Austin (15-7-0)\n\nKarta główna: \n\nBrendan Loughnane (21-4-0) vs. Ryoji Kudo (10-2-1)\nAnte Delija (19-5-0) vs. Matheus Scheffel (15-7-0)\nRenan Ferreira (8-2-0) vs. Jamelle Jones (12-7-0)\n\nKarta wstępna: \n\nLance Palmer (22-5-0) vs. Chris Wade (20-7-0)\nKyle Bochniak (11-5-0) vs. Bubba Jenkins (16-5-0)\nDenis Goltsov (27-7-0) vs. Sam Kei (8-5-0)\nKlidson Abreu (15-5-0) vs. Adam Keresh (5-0-0)\nSheymon Moraes (13-5-0) vs. Boston Salmon (8-3-0)\nAlejandro Flores (20-3-0) vs. Saba Bolaghi (14-2-1)\n\nOstatnia modyfikacja: 27.04.2022
URL:https://strefamma.pl/event/pfl-2022-2-regular-season/
LOCATION:Esports Stadium Arlington\, Arlington\, United States
ATTACH;FMTTYPE=image/png:https://strefamma.pl/wp-content/uploads/2022/04/PFL-2-2022.png
END:VEVENT
END:VCALENDAR