BEGIN:VCALENDAR
VERSION:2.0
PRODID:-//StrefaMMA.pl - Portal sportów walki - ECPv5.16.3.1//NONSGML v1.0//EN
CALSCALE:GREGORIAN
METHOD:PUBLISH
X-ORIGINAL-URL:https://strefamma.pl
X-WR-CALDESC:Wydarzenia dla StrefaMMA.pl - Portal sportów walki
REFRESH-INTERVAL;VALUE=DURATION:PT1H
X-Robots-Tag:noindex
X-PUBLISHED-TTL:PT1H
BEGIN:VTIMEZONE
TZID:Europe/Warsaw
BEGIN:DAYLIGHT
TZOFFSETFROM:+0100
TZOFFSETTO:+0200
TZNAME:CEST
DTSTART:20220327T010000
END:DAYLIGHT
BEGIN:STANDARD
TZOFFSETFROM:+0200
TZOFFSETTO:+0100
TZNAME:CET
DTSTART:20221030T010000
END:STANDARD
END:VTIMEZONE
BEGIN:VEVENT
DTSTART;TZID=Europe/Warsaw:20220506T233000
DTEND;TZID=Europe/Warsaw:20220507T233000
DTSTAMP:20260422T015844
CREATED:20220427T051016Z
LAST-MODIFIED:20220503T182752Z
UID:35829-1651879800-1651966200@strefamma.pl
SUMMARY:PFL 2022 #3: Regular Season
DESCRIPTION:Kolejny tydzień zmagań w Professional Fighters League! Bez wątpienia na ten tydzień czekał każdy fan PFL\, bo w nocy z 6 na 7 maja powraca Kayla Harrison! \nNiepokonana Amerykanka to zwyciężczyni ostatniego sezonu PFL 2021. Harrison ma rekord 12-0-0 i wielu ekspertom przypomina Rondę Rousey – choć w porównaniu do niej\, nie wszystkie poddania odniosła przez balachę! \nOprócz Kayli Harrison na PFL 2022 #3 pojawią się także inne znane w całym świecie MMA nazwiska: Anthony Pettis\, Rory MacDonald\, czy Gleison Tibau. Do klatki powróci także Brett Cooper\, którego można pamiętać z jednorazowego występu dla KSW i porażki z Mamedem Khalidovem. \n \nKarta walk PFL 2022 #3: Regular Season\nWalka wieczoru: \n\nKayla Harrison (12-0-0) vs. Marina Mokhnatkina (6-2-0)\n\nKarta główna: \n\nRay Cooper III (24-7-1) vs. Carlos Leal (16-3-0)\nAnthony Pettis (24-12-0) vs. Myles Price (11-7-0)\nRory MacDonald (22-8-1) vs. Brett Cooper (28-15-0)\n\nKarta wstępna: \n\nMagomed Magomedkerimov (29-6-0) vs. João Zeferino (26-9-0)\nGenah Fabian (4-2-0) vs. Julia Budd (16-3-0)\nSadibou Sy (9-6-2) vs. Nikolay Aleksakhin (26-6-0)\nLarissa Pacheco (15-4-0) vs. Zamzagul Fayzallanova (7-1-0)\nGleison Tibau (36-15-0) vs. Jarrah Hussein Al-Silawi (17-3-0)\nOlena Kolesnyk (5-4-0) vs. Abby Montes (3-0-0)\nVanessa Melo (11-8-0) vs. Martina Jindrová (4-2-0)\n\nOstatnia modyfikacja: 03.05.2022 r.
URL:https://strefamma.pl/event/pfl-2022-3-regular-season/
LOCATION:Esports Stadium Arlington\, Arlington\, United States
ATTACH;FMTTYPE=image/png:https://strefamma.pl/wp-content/uploads/2022/04/PFL-2022-3-plakat.png
END:VEVENT
END:VCALENDAR