BEGIN:VCALENDAR
VERSION:2.0
PRODID:-//StrefaMMA.pl - Portal sportów walki - ECPv5.16.3.1//NONSGML v1.0//EN
CALSCALE:GREGORIAN
METHOD:PUBLISH
X-ORIGINAL-URL:https://strefamma.pl
X-WR-CALDESC:Wydarzenia dla StrefaMMA.pl - Portal sportów walki
REFRESH-INTERVAL;VALUE=DURATION:PT1H
X-Robots-Tag:noindex
X-PUBLISHED-TTL:PT1H
BEGIN:VTIMEZONE
TZID:Europe/Warsaw
BEGIN:DAYLIGHT
TZOFFSETFROM:+0100
TZOFFSETTO:+0200
TZNAME:CEST
DTSTART:20240331T010000
END:DAYLIGHT
BEGIN:STANDARD
TZOFFSETFROM:+0200
TZOFFSETTO:+0100
TZNAME:CET
DTSTART:20241027T010000
END:STANDARD
END:VTIMEZONE
BEGIN:VEVENT
DTSTART;TZID=Europe/Warsaw:20240309T220000
DTEND;TZID=Europe/Warsaw:20240310T080000
DTSTAMP:20260420T202548
CREATED:20231220T123755Z
LAST-MODIFIED:20240304T135512Z
UID:87839-1710021600-1710057600@strefamma.pl
SUMMARY:UFC 299: O’Malley vs Vera 2
DESCRIPTION:Już 9 marca w Miami czekają nas niesamowite emocje związane z kolejną walką Polaka w UFC. Do klatki powróci nasz czołowy reprezentant kategorii lekkiej. \nWalką wieczoru lutowej gali UFC 299 będzie starcie o pas kategorii koguciej. Sean O’Malley\, który po tytuł sięgnął nokautując Sterlinga w 2. rundzie\, do pierwszej obrony przystąpi przeciwko zawodnikowi\, który dotychczas jako jedyny go pokonał. Marlon „Chito” Vera w ostatnich 5\, pojedynkach zwyciężał aż 4-krotnie. \nWcześniej tego wieczoru do oktagonu wejdzie Mateusz Gamrot. Polak będący na fali 2. wygranych z rzędu zmierzy się z przyszłym Hall of famerem UFC\, Rafaelem Dos Anjosem. Brazylijczyk\, który był też mistrzem dywizji lekkiej\, wraca po kolejnej nieudanej próbie zawojowania wagi półśredniej. \nKursy bukmacherskie\nWszystkie walki UFC 299: O’Malley vs Vera 2możecie obstawić na stronie i w aplikacji bukmachera Fortuna. Nowi użytkownicy na start otrzymają darmowe 30 zł\, a trzy pierwsze zakłady do 100 zł obstawicie bez ryzyka! To 300 zł\, które Fortuna zwróci na konto gracza. \nOdbierz bonusy na UFC 299! \n \nKarta walk\nWalka wieczoru: \n\nSean O’Malley (17-1-0) vs Marlon Vera (23-8-1) – walka o pas kategorii koguciej UFC\n\nKarta główna: \n\nDustin Poirier (29-8-0) vs Benoit Saint-Denis (13-1-0)\nKevin Holland (25-10-0) vs Michael „Venom” Page (21-2-0)\nGilbert Burns (22-6-0) vs Jack Della Maddalena (16-2-0)\nPetr Yan (16-5-0) vs Yadong Song (21-7-1)\n\nKarta wstępna: \n\nCurtis Blaydes (17-4-0) vs Jailton Almeida (20-2-0)\nKatlyn Cerminara (18-5-0) vs Maycee Barber (13-2-0)\nMateusz Gamrot (23-2-0) vs Rafael dos Anjos (32-15-0)\nPedro Munhoz (20-8-0) vs Kyler Phillips (11-2-0)\nMichel Pereira (29-11-0) vs Michał Oleksiejczuk (19-6-0)\nPhilipe Lins (17-5-0) vs Ion Cutelaba (17-9-1)\nRobelis Despaigne (4-0-0) vs Josh Parisian (15-7-0)\nCJ Vergara (12-4-1) vs Asu Almabaev (18-2-0)\nJoanne Wood (16-8-0) vs Maryna Moroz (11-5-0)\n\nOstatnia zmiana: 04.03.2024 r.
URL:https://strefamma.pl/event/ufc-299-omalley-vs-vera-2/
LOCATION:Kaseya Center\, 601 Biscayne Blvd\, Miami\, 33132\, United States
ATTACH;FMTTYPE=image/jpeg:https://strefamma.pl/wp-content/uploads/2023/12/UFC-299-OMalley-vs-Vera-2-Gamrot-oleksiejczuk.jpg
END:VEVENT
END:VCALENDAR