BEGIN:VCALENDAR
VERSION:2.0
PRODID:-//StrefaMMA.pl - Portal sportów walki - ECPv5.16.3.1//NONSGML v1.0//EN
CALSCALE:GREGORIAN
METHOD:PUBLISH
X-WR-CALNAME:StrefaMMA.pl - Portal sportów walki
X-ORIGINAL-URL:https://strefamma.pl
X-WR-CALDESC:Wydarzenia dla StrefaMMA.pl - Portal sportów walki
REFRESH-INTERVAL;VALUE=DURATION:PT1H
X-Robots-Tag:noindex
X-PUBLISHED-TTL:PT1H
BEGIN:VTIMEZONE
TZID:Europe/Warsaw
BEGIN:DAYLIGHT
TZOFFSETFROM:+0100
TZOFFSETTO:+0200
TZNAME:CEST
DTSTART:20230326T010000
END:DAYLIGHT
BEGIN:STANDARD
TZOFFSETFROM:+0200
TZOFFSETTO:+0100
TZNAME:CET
DTSTART:20231029T010000
END:STANDARD
END:VTIMEZONE
BEGIN:VEVENT
DTSTART;TZID=Europe/Warsaw:20230225T220000
DTEND;TZID=Europe/Warsaw:20230226T070000
DTSTAMP:20260422T003440
CREATED:20230213T072018Z
LAST-MODIFIED:20230213T080501Z
UID:65022-1677362400-1677394800@strefamma.pl
SUMMARY:UFC Vegas 70: Krylov vs. Spann
DESCRIPTION:Ostatnia gala drugiego miesiąca znów będzie miała miejsce w UFC Apex. UFC Vegas 70 uświetni pojedynek w wadze półciężkiej\, pomiędzy Nikitą Krylovem i Ryanem Spannem. \n30-letni „The Miner” w przerwał serię 2. porażek z rzędu w 67 sekund nokautując Alexandra Gustafssona\, a kilka miesięcy później pewną decyzją pokonując Volkana Oezdemira. Po drugiej stronie klatki stanie amerykański „Superman”\, który również poprawił swoją sytuację w organizacji. Jeszcze przed dwoma laty przegrywał przez duszenie z Anthonym Smithem\, ale w 2022 roku udało mu się poddać Iona Cutelabę\, a następnie w 80 sekund odprawić Dominicka Reyesa. Krylov zajmuje 6. pozycję w rankingu kategorii półciężkiej\, zaś Spann okupuje 9. lokatę. \nKursy bukmacherskie na galę UFC Vegas 70\nGalę UFC Vegas 70 obstawisz i obejrzysz w całości NA ŻYWO u bukmachera eFortuna.pl! Na start przygotowano specjalny BONUS i aż TRZY ZAKŁADY BEZ RYZYKA! \nZasady są proste: jeśli twój pierwszy kupon będzie zwycięski otrzymujesz wygraną\, jeżeli przegrasz Fortuna zwróci Ci wkład do 100 zł na konto gracza. Kolejny zakład bez ryzyka to kwota do 200 zł\, a ostatni to aż 300 zł\, które Fortuna zwróci\, jeśli również okaże się nietrafiony! \n-> Gram z Fortuną! Odbieram bonus\n \nKarta walk UFC Vegas 70\nWalka wieczoru: \n\nNikita Krylov (29-9-0) vs. Ryan Spann (21-7-0)\n\nCo-main event: \n\nTatiana Suarez (8-0-0) vs. Montana De La Rosa (12-7-1)\n\nKarta główna: \n\nMike Malott (8-1-1) vs. Yohan Lainesse (9-1-0)\nJordan Leavitt (10-2-0) vs. Victor Martinez (13-4-0)\nHailey Cowan (7-2-0) vs. Ailin Perez (7-2-0)\nAndré Muniz (23-4-0) vs. Brendan Allen (20-5-0)\n\nPozostałe walki: \n\nErick Gonzalez (14-7-0) vs. Darrius Flowers (12-5-1)\nAugusto Sakai (15-5-1) vs. Don’Tale Mayes (9-4-0)\nJose Johnson (15-7-0) vs. Garrett Armfield (8-3-0)\nOde Osbourne (11-5-0) vs. Denys Bondar (16-4-0)\nAlex Reyes (13-3-0) vs. Trevor Peek (7-0-0)\nNurullo Aliev (8-0-0) vs. Rafael Alves (20-11-0)\nGabriella Fernandes (8-1-0) vs. Jasmine Jasudavicius (7-2-0)\n\nOstatnie zmiany: 13.02.2023 r.
URL:https://strefamma.pl/event/ufc-vegas-70-krylov-vs-spann/
LOCATION:Las Vegas\, UFC Apex
ATTACH;FMTTYPE=image/jpeg:https://strefamma.pl/wp-content/uploads/2023/02/ufc-vEGAS-70-PLAKAT.jpg
END:VEVENT
END:VCALENDAR