BEGIN:VCALENDAR
VERSION:2.0
PRODID:-//StrefaMMA.pl - Portal sportów walki - ECPv5.16.3.1//NONSGML v1.0//EN
CALSCALE:GREGORIAN
METHOD:PUBLISH
X-ORIGINAL-URL:https://strefamma.pl
X-WR-CALDESC:Wydarzenia dla StrefaMMA.pl - Portal sportów walki
REFRESH-INTERVAL;VALUE=DURATION:PT1H
X-Robots-Tag:noindex
X-PUBLISHED-TTL:PT1H
BEGIN:VTIMEZONE
TZID:Europe/Warsaw
BEGIN:DAYLIGHT
TZOFFSETFROM:+0100
TZOFFSETTO:+0200
TZNAME:CEST
DTSTART:20210328T010000
END:DAYLIGHT
BEGIN:STANDARD
TZOFFSETFROM:+0200
TZOFFSETTO:+0100
TZNAME:CET
DTSTART:20211031T010000
END:STANDARD
END:VTIMEZONE
BEGIN:VEVENT
DTSTART;TZID=Europe/Warsaw:20211003T013000
DTEND;TZID=Europe/Warsaw:20211003T070000
DTSTAMP:20260424T214204
CREATED:20210913T214607Z
LAST-MODIFIED:20231113T125225Z
UID:11396-1633224600-1633244400@strefamma.pl
SUMMARY:UFC Vegas 38: Santos vs. Walker
DESCRIPTION:Na początku października odbędzie się UFC Vegas 38. W walce wieczoru Thiago Santos zawalczy z Johnym Walkerem. Na tej gali wystąpi nasz rodak Krzysztof Jotko zmierzy się z Mishą Cirkunovem. \nWalka wieczoru:\n205 lb: Thiago Santos vs. Johnny Walker \nKarta główna:\n135 lb: Bethe Correia vs. Karol Rosa\n155 lb: Jared Gordon vs. Joe Solecki\n155 lb: Grant Dawson vs. Diego Ferreira\n145 lb: Fernando Padilla vs. Sean Soriano\n135 lb: Gaetano Pirrello vs. Douglas Silva de Andrade\n185 lb: Kyle Daukaus vs. Kevin Holland\n205 lb: Jimmy Crute vs. Jamahal Hill \nKarta główna:\n155 lb: Jamie Mullarkey vs. Devonte Smith\n135 lb: Macy Chiasson vs. Aspen Ladd\n135 lb: Johnny Eduardo vs. Alejandro Perez\n155 lb: Alexander Hernandez vs. Leonardo Santos\n205 lb: Misha Cirkunov vs. Krzysztof Jotko\n170 lb: Alex Oliveira vs. Niko Price
URL:https://strefamma.pl/event/ufc-vegas-38-santos-vs-walker/
LOCATION:USA
ATTACH;FMTTYPE=image/jpeg:https://strefamma.pl/wp-content/uploads/2021/09/E84AShLVUAMEJo_.jpg
END:VEVENT
BEGIN:VEVENT
DTSTART;TZID=Europe/Warsaw:20211009T220000
DTEND;TZID=Europe/Warsaw:20211010T043000
DTSTAMP:20260424T214204
CREATED:20210914T134738Z
LAST-MODIFIED:20211006T094326Z
UID:11462-1633816800-1633840200@strefamma.pl
SUMMARY:UFC Vegas 39: Rodriguez vs. Dern
DESCRIPTION:W październiku odbędzie gala UFC Vegas 39\, gdzie w walce wieczoru Mackenzie Dern zmierzy się z Mariną Rodriguez. W co-main evencie Charles Rosa zmierzy się z Damonem Jacksonem. \nWalka wieczoru: \n115 lb: Mackenzie Dern (11-1) vs. Marina Rodriguez (14-1-2) \nKarta główna:\n170 lb: Randy Brown (13-4) vs. Jared Gooden (18-6)\n125 lb: Tim Elliott (17-11-1) vs. Matheus Nicolau (16-2-1)\n125 lb: Sabina Mazo (9-2) vs. Mariya Agapova (9-2)\n185 lb: Phil Hawes (11-2) vs. Deron Winn (7-2) \nKarta wstępna:\n135 lb: Chris Gutierrez (16-3-2) vs. Felipe Colares (10-2)\n265 lb: Aleander Romanov (14-0) vs. Jared Vanderaa (12-5)\n145 lb: Charles Rosa (14-5) vs. Damon Jackson (18-4-1)\n115 lb: Lupita Godinez (5-1) vs. Sam Hughes (5-3)\n155 lb: Steve Garcia (11-4) vs. Charlie Ontiveros (11-7)
URL:https://strefamma.pl/event/ufc-vegas-39-rodriguez-vs-dern/
LOCATION:USA
ATTACH;FMTTYPE=image/jpeg:https://strefamma.pl/wp-content/uploads/2021/09/a.jpeg
END:VEVENT
BEGIN:VEVENT
DTSTART;TZID=Europe/Warsaw:20211016T190000
DTEND;TZID=Europe/Warsaw:20211016T233000
DTSTAMP:20260424T214204
CREATED:20211006T093830Z
LAST-MODIFIED:20211015T194315Z
UID:12918-1634410800-1634427000@strefamma.pl
SUMMARY:FEN 36: Rębecki vs. Akhmedov
DESCRIPTION:Już w połowie października organizacja Fight Exclusive Night powróci do Szczecina z galą o numerze 36. W walce wieczoru mistrz wagi lekkiej Mateusz Rębecki zawalczy z Aigunm Akhmedovem. Ponadto Marcin Wójcik w swojej pierwszej obronie mistrzowskiego pasa w dywizji półciężkiej zmierzy się z Ederem De Souzą. \nWalka wieczoru:\n70.3 kg: Mateusz Rębecki (13-1) vs. Felipe Maia (10-5) – o pas mistrzowski \nPozostałe:\n93 kg: Marcin Wójcik (14-7) vs. Eder de Souza (18-7) – o pas mistrzowski\n93 kg: Kamil Wojciechowski (3-0) vs. Łukasz Klinger (9-5)\n93 kg: Michał Piwowarski (5-2) vs. Bartosz Szewczyk (2-0)\n70.3 kg: Wojciech Kawa (2-1) vs. Denis Zarówny (1-0)\n70.3 kg: Krzysztof Dobrzyński (6-4-1) vs. Maciej Kaliciński (4-3)\n83.9 kg: Krystian Bielski (7-3) vs. Piotr Walawski (9-7-1)\n77.1 kg: Samuel Vogt (2-2) vs. Maciej Pacuła (2-0)\nCW 74 kg Semi-Pro: Piotr Terlecki vs. Patryk Buczkowski\n65.8 kg Semi-Pro: Dominik Mazur vs. Maciej Łapka
URL:https://strefamma.pl/event/12918/
LOCATION:Polska\, Polska
ATTACH;FMTTYPE=image/jpeg:https://strefamma.pl/wp-content/uploads/2021/10/ff.jpg
END:VEVENT
BEGIN:VEVENT
DTSTART;TZID=Europe/Warsaw:20211016T230000
DTEND;TZID=Europe/Warsaw:20211017T040000
DTSTAMP:20260424T214204
CREATED:20211008T104218Z
LAST-MODIFIED:20231113T125712Z
UID:13051-1634425200-1634443200@strefamma.pl
SUMMARY:Bellator 268: Nemkov vs. Anglickas
DESCRIPTION:W połowie października odbędzie się Bellator 268\, gdzie odbędą się dwie półfinałowe walki turnieju w wadze półciężkiej. W co-main evencie Ryan Bader zmierzy się z z Coreyem Andersonem. Natomiast w walce wieczoru Vadim Nemkov skrzyżuje rękawice z Juliusem Anglickasem. \nWalka wieczoru:\n205 lb: Vadim Nemkov (14-2) vs. Julius Anglickas (10-1) – o pas mistrzowski \nKarta główna:\n205 lb: Ryan Bader (28-6\, 1 NC) vs. Corey Anderson (15-5)\n155 lb: Benson Henderson (28-10) vs. Brent Primus (10-2)\n145 lb: Henry Corrales (18-6) vs. Vladyslav Parubchenko (16-2) \nKarta wstępna:\n205 lb: Dovletdzhan Yagshimuradovs (18-6-1) vs. Karl Albrektsson (12-3)\n135 lb: Erik Perez (20-8) vs. Brett Johns (17-3)\n205 lb: Sullivan Cauley (1-0) vs. Deon Clash (1-0)\n155 lb: Nick Browne (11-1) vs. Bobby Lee (12-6)\n185 lb: Javier Torres (11-5\, 1 NC) vs. Gregory Milliard (12-6)\n125 lb: Sumiko Inaba (2-0) vs. Randi Field (2-0)\n155 lb: Lance Gibson Jr. (4-0) vs. Raymond Pina (9-4)\n125 lb: Maria Henderson (1-0) vs. Collette Santiago (0-1)
URL:https://strefamma.pl/event/bellator-268-nemkov-vs-anglickas/
LOCATION:USA
ATTACH;FMTTYPE=image/png:https://strefamma.pl/wp-content/uploads/2021/10/a-1.png
END:VEVENT
BEGIN:VEVENT
DTSTART;TZID=Europe/Warsaw:20211023T200000
DTEND;TZID=Europe/Warsaw:20211023T233000
DTSTAMP:20260424T214204
CREATED:20211006T090056Z
LAST-MODIFIED:20211006T090953Z
UID:12905-1635019200-1635031800@strefamma.pl
SUMMARY:KSW 64: Przybysz vs. Santos
DESCRIPTION:Już 23 października w Łodzi odbędzie się KSW 64. W walce wieczoru mistrz kategorii koguciej Sebastian Przybysz zmierzy się z Bruno Santosem. Ponadto w co-main evencie Mariusz Pudzianowski zawalczy z popularnym senegalskim „Bombardierem” czyli Serigme Ousmane Dią. \nWalka wieczoru | Main Event:\n61\,2 kg/135 lb: Sebastian Przybysz (8-2\, 4 KO\, 1 Sub) vs Bruno Augusto dos Santos (10-2\, 1 KO\, 5 Sub) – o pas mistrzowski \nPozostałe:\n+120\,2 kg/+265 lb: Mariusz Pudzianowski (15-7\, 10 KO) vs Serigne Ousmane „Bombardier” Dia (2-0\, 2 KO)\n65\,8 kg/145 lb: Daniel Rutkowski (12-2\, 6 KO\, 1 Sub) vs Filip Pejić (15-5-2\, 10 KO\, 3 Sub)\n65\,8 kg/145 lb: Robert Ruchała (5-0\, 3 Sub) vs Patryk Kaczmarczyk (7-0\, 1 KO\, w Sub)\n77\,1 kg/170 lb: Michał Pietrzak (10-4\, 3 KO\, 2 Sub) vs Shamil Musaev (14-0\, 8 KO\, 2 Sub)\n56 kg/123 lb: Karolina Owczarz (4-1\, 2 Sub) vs Sylwia Juśkiewicz (9-6\, 6 KO)\n83\,9 kg/185 lb: Cezary Kęsik (12-1\, 9 KO\, 2 Sub) vs Marcin Krakowiak (11-3\, 5 KO\, 6 Sub)\n83\,9 kg/185 lb: Albert Odzimkowski (11-5\, 3 KO\, 7 Sub) vs Jason Radcliffe (16-8\, 10 KO\, 4 Sub)\n93 kg/205 lb: Adam Tomasik (5-0\, 2 KO\, 3 Sub) vs Oumar Sy (4-0\, 2 KO\, S Sub)
URL:https://strefamma.pl/event/ksw-64-przybysz-vs-santos/
LOCATION:Polska\, Polska
ATTACH;FMTTYPE=image/jpeg:https://strefamma.pl/wp-content/uploads/2021/10/a.jpg
END:VEVENT
END:VCALENDAR