BEGIN:VCALENDAR
VERSION:2.0
PRODID:-//StrefaMMA.pl - Portal sportów walki - ECPv5.16.3.1//NONSGML v1.0//EN
CALSCALE:GREGORIAN
METHOD:PUBLISH
X-WR-CALNAME:StrefaMMA.pl - Portal sportów walki
X-ORIGINAL-URL:https://strefamma.pl
X-WR-CALDESC:Wydarzenia dla StrefaMMA.pl - Portal sportów walki
REFRESH-INTERVAL;VALUE=DURATION:PT1H
X-Robots-Tag:noindex
X-PUBLISHED-TTL:PT1H
BEGIN:VTIMEZONE
TZID:Europe/Warsaw
BEGIN:DAYLIGHT
TZOFFSETFROM:+0100
TZOFFSETTO:+0200
TZNAME:CEST
DTSTART:20210328T010000
END:DAYLIGHT
BEGIN:STANDARD
TZOFFSETFROM:+0200
TZOFFSETTO:+0100
TZNAME:CET
DTSTART:20211031T010000
END:STANDARD
END:VTIMEZONE
BEGIN:VEVENT
DTSTART;TZID=Europe/Warsaw:20210813T233000
DTEND;TZID=Europe/Warsaw:20210814T040000
DTSTAMP:20260425T025713
CREATED:20210811T100910Z
LAST-MODIFIED:20231113T123001Z
UID:8972-1628897400-1628913600@strefamma.pl
SUMMARY:Bellator 264: Mousasi vs. Salter
DESCRIPTION:W piątek 13 sierpnia w Uncasville odbędzie się Bellator 264. Podczas tego wydarzenia do klatki powróci Gegard Mousasi\, który w obronie swojego pasa w wadze średniej zmierzy się z Johnem Salterem. \nWalka wieczoru:\n185 lb: Gegard Mousasi (47-7-2) vs. John Salter (18-4) – walka o pas mistrzowski \nKarta główna:\n170 lb: Andrey Koreshkov (23-4) vs. Sabah Homasi (15-9)\n135 lb: Magomed Magomedov (18-1) vs. Raufeon Stos (16-1)\n265 lb: Davion Franklin (3-0) vs. Everett Cummings (15-0)\n185 lb: Ty Gwerder (5-2) vs. Khadzhimurat Bestaev (10-4) \nKarta wstępna:\n145 lb: Nerkuz Mirkhojaev (5-3) vs. James Adcock (7-4)\n155 lb: Justin Montalvo (2-0) vs. Kendly St. Louis (3-4)\n145 lb: Pam Sorenson (8-3) vs. Roberta Paim Samad (5-1)\n135 lb: Danny Sabatello (11-1) vs. Johnny Campbell (21-13)\n142 lb: Sebastian Ruiz (2-3) vs. Jeffrey Glossner (3-2)\n195 lb: Orlando Mendoza (0-0) vs. Jon McNeil (0-0)
URL:https://strefamma.pl/event/bellator-264-mousasi-vs-salter/
LOCATION:USA
ATTACH;FMTTYPE=image/jpeg:https://strefamma.pl/wp-content/uploads/2021/08/bellator-1.jpg
END:VEVENT
BEGIN:VEVENT
DTSTART;TZID=Europe/Warsaw:20210821T223000
DTEND;TZID=Europe/Warsaw:20210822T060000
DTSTAMP:20260425T025713
CREATED:20210806T101853Z
LAST-MODIFIED:20210816T160327Z
UID:8577-1629585000-1629612000@strefamma.pl
SUMMARY:UFC Vegas 34: Cannonier vs. Gastelum
DESCRIPTION:Już 21 sierpnia w Las Vegas odbędzie się gala UFC Vegas 34. W walce wieczoru Jared Cannonier zmierzy się z Kelvinem Gastelumem. \nWalka wieczoru:\n185 lb: Jared Cannonier (13-5) vs. Kelvin Gastelum (17-7) \nKarta główna:\n155 lb: Clay Guida (36-20) vs. Mark Madsen (10-0)\n265 lb: Parker Porter (11-6) vs. Chase Sherman (15-7)\n155 lb: Vinc Pichel (13-2) vs. Austin Hubbard (13-5)\n125 lb: Alexandre Pantoja (23-5) vs. Brandon Royval (12-5)\n135 lb: Mana Martinez (8-2) vs. Trevin Jones (13-6) \nKarta wstępna:\n145 lb: Austin Lingo (8-1) vs. Luis Saldana (15-6)\n135 lb: Brian Kelleher (22-12) vs. Domingo Pilarte (8-2)\n135 lb: Bea Malecki (2-0) vs. Josiane Nunes (7-1)\n205 lb: William Knight (9-2) vs. Fabio Cherant (7-2)\n155 lb: Roosevelt Roberts (10-2) vs. Ignacio Bahamondes (11-4)\n170 lb: Sasha Palatnikov (6-3) vs. Ramiz Brahimaj (8-3)
URL:https://strefamma.pl/event/ufc-vegas-34-cannonier-vs-gastelum/
LOCATION:USA
ATTACH;FMTTYPE=image/jpeg:https://strefamma.pl/wp-content/uploads/2021/08/a.jpeg
END:VEVENT
BEGIN:VEVENT
DTSTART;TZID=Europe/Warsaw:20210828T233000
DTEND;TZID=Europe/Warsaw:20210829T050000
DTSTAMP:20260425T025713
CREATED:20210818T163446Z
LAST-MODIFIED:20231113T123150Z
UID:9577-1630193400-1630213200@strefamma.pl
SUMMARY:UFC Vegas 35: Barboza vs. Chikadze
DESCRIPTION:Już pod koniec sierpnia odbędzie się UFC Vegas 35. W walce wieczoru Edson Barboza zmierzy się z Giga Chikadze. Ponadto zobaczymy finałowe walki z najnowszego sezonu programu The Ultimate Fighters. \nWalka wieczoru:\n145 lb: Edson Barboza vs. Giga Chikadze \nKarta główna:\n135 lb: Ricky Turcios vs. Brady Hiestand\n185 lb: Bryan Battle vs. TBA\n170 lb: Kevin Lee vs. Daniel Rodriguez\n185 lb: Alessio Di Chirico vs. Aliaskhab Khizriev\n185 lb: Makhmud Muradov vs. Gerald Meerschaert \nKarta wstępna:\n185 lb: Abdul Razak Alhassan vs. Antonio Neto\n185 lb: Sam Alvey vs. Wellington Turman\n125 lb: Tracy Cortez vs. JJ Aldrich\n145 lb: Jamall Emmers vs. Pat Sabatini\n135 lb: Ketlen Vieira vs. Sara McMann
URL:https://strefamma.pl/event/ufc-vegas-35-barboza-vs-chikadze/
LOCATION:Las Vegas\, UFC Apex
ATTACH;FMTTYPE=image/jpeg:https://strefamma.pl/wp-content/uploads/2021/08/ufc-fn.jpg
END:VEVENT
END:VCALENDAR