BEGIN:VCALENDAR
VERSION:2.0
PRODID:-//StrefaMMA.pl - Portal sportów walki - ECPv5.16.3.1//NONSGML v1.0//EN
CALSCALE:GREGORIAN
METHOD:PUBLISH
X-ORIGINAL-URL:https://strefamma.pl
X-WR-CALDESC:Wydarzenia dla StrefaMMA.pl - Portal sportów walki
REFRESH-INTERVAL;VALUE=DURATION:PT1H
X-Robots-Tag:noindex
X-PUBLISHED-TTL:PT1H
BEGIN:VTIMEZONE
TZID:Europe/Warsaw
BEGIN:DAYLIGHT
TZOFFSETFROM:+0100
TZOFFSETTO:+0200
TZNAME:CEST
DTSTART:20210328T010000
END:DAYLIGHT
BEGIN:STANDARD
TZOFFSETFROM:+0200
TZOFFSETTO:+0100
TZNAME:CET
DTSTART:20211031T010000
END:STANDARD
END:VTIMEZONE
BEGIN:VEVENT
DTSTART;TZID=Europe/Warsaw:20210528T200000
DTEND;TZID=Europe/Warsaw:20210528T234500
DTSTAMP:20260425T142345
CREATED:20210514T195818Z
LAST-MODIFIED:20230929T113907Z
UID:3145-1622232000-1622245500@strefamma.pl
SUMMARY:FEN 34: Trybson vs. Borowski 2
DESCRIPTION:Pod koniec maja odbędzie się FEN 34. W walce wieczoru zobaczymy rewanżowe starcie Pawła „Trybsona” Trybały z Łukaszem „Borosiem” Borowskim. Ponadto zobaczymy starcie o tytuł w wadze do 61 kilogramów pomiędzy mistrzem Jonasem Magardem a Fransem Mlambo. \nWalka wieczoru\n93\,0 kg\, MMA: Paweł “Trybson” Trybała vs Łukasz “Boroś” Borowski \nPozostałe:\n61\,2 kg MMA: Jonas Magard vs Frans Mlambo – o pas mistrzowski\n61\,2 kg\, MMA: Aniela “Lil Masti” Bogusz vs. Ada Śledź\n77\,1 kg\, MMA: Szymon Dusza vs Cezary Oleksiejczuk\n70\,3 kg\, MMA: Łukasz Charzewski vs Damien Lapilus\n61\,2 kg\, MMA: Ekaterina Shakalova vs Jamila Sandora\n93\,0 kg\, MMA: Michał Piwowarski vs Kacper Miklasz\n110\,00 kg\, MMA: Epic Cheat Meal vs Mateusz Murański\n94\,0 kg\, MMA: Kamil Piórkowski vs Adam Radziszewski\n61\,0 kg MMA: Paulina Paola vs WiktoriaGnieciak \n 
URL:https://strefamma.pl/event/fen-34-trybson-vs-borowski/
LOCATION:warszawa
ATTACH;FMTTYPE=image/jpeg:https://strefamma.pl/wp-content/uploads/2021/05/fen-34.jpg
END:VEVENT
END:VCALENDAR