BEGIN:VCALENDAR
VERSION:2.0
PRODID:-//StrefaMMA.pl - Portal sportów walki - ECPv5.16.3.1//NONSGML v1.0//EN
CALSCALE:GREGORIAN
METHOD:PUBLISH
X-ORIGINAL-URL:https://strefamma.pl
X-WR-CALDESC:Wydarzenia dla StrefaMMA.pl - Portal sportów walki
REFRESH-INTERVAL;VALUE=DURATION:PT1H
X-Robots-Tag:noindex
X-PUBLISHED-TTL:PT1H
BEGIN:VTIMEZONE
TZID:Europe/Warsaw
BEGIN:DAYLIGHT
TZOFFSETFROM:+0100
TZOFFSETTO:+0200
TZNAME:CEST
DTSTART:20240331T010000
END:DAYLIGHT
BEGIN:STANDARD
TZOFFSETFROM:+0200
TZOFFSETTO:+0100
TZNAME:CET
DTSTART:20241027T010000
END:STANDARD
END:VTIMEZONE
BEGIN:VEVENT
DTSTART;TZID=Europe/Warsaw:20241116T220000
DTEND;TZID=Europe/Warsaw:20241117T093000
DTSTAMP:20260420T212406
CREATED:20241031T113919Z
LAST-MODIFIED:20241031T113919Z
UID:121288-1731794400-1731835800@strefamma.pl
SUMMARY:UFC 309: Jones vs. Miocic
DESCRIPTION:W nocy z 16 na 17 listopada ponownie obejrzymy galę UFC w Madison Square Garden. Tradycyjnie Dana White i spółka przygotowali masę ekscytujących walk na ten wieczór. \nSternik największej na świecie organizacji MMA dopiął swego i zestawił ze sobą Jona Jonesa oraz Stipe Miocica. Niekwestionowany mistrz wagi ciężkiej tuż po zdobyciu pasa wyzwał na pojedynek tego\, który uznawany jest za najlepszego championa w historii. \nPrzed nimi zaś zobaczymy ekscytujący rewanż w limicie kategorii lekkiej. Charles Oliviera raz jeszcze spotka się z Michaelem Chandlerem\, którego nokautując swego czasu sięgnął po pas dywizji do 155 funtów. Teraz Brazylijczyk ma szansę urwać mu hitowe starcie z Conorem McGregorem. \nUFC 309: Jones vs. Miocic: Kursy bukmacherskie\nWszystkie walki z karty walk obstawicie na stronie i w aplikacji bukmachera Fortuna. Nowi użytkownicy otrzymają na start darmowe 30 zł za depozyt i rejestrację oraz zakład bez ryzyka do 100 zł. \n \nUFC 309: Jones vs. Miocic – Karta walk\nWalka wieczoru: \n\nJon Jones vs. Stipe Miocic – o pas wagi ciężkiej UFC\n\nKarta główna: \n\nCharles Oliveira vs. Michael Chandler\nViviane Araujo vs. Karine Silva\nBo Nickal vs. Paul Craig\nChris Weidman vs. Eryk Anders\n\nKarta wstępna: \n\nMauricio Ruffy vs. James Llontop\nNikita Krylov vs. Azamat Murzakanov\nJonathan Martinez vs. Marcus McGhee\nJim Miller vs. Damon Jackson\nDavid Onama vs. Lucas Almeida\nMickey Gall vs. Ramiz Brahimaj\nBassil Hafez vs. Oban Elliott\nVeronica Hardy vs. Eduarda Moura\n\nOstatnia zmiana: 31.10.2024 r.
URL:https://strefamma.pl/event/ufc-309-jones-vs-miocic/
LOCATION:Madison Square Garden\, 46 Pennsylvania Plaza (8th Avenue & 33rd Street)\, New York\, United States
ATTACH;FMTTYPE=image/jpeg:https://strefamma.pl/wp-content/uploads/2024/10/UFC-309-Jones-vs.-Miocic.jpg
END:VEVENT
END:VCALENDAR