BEGIN:VCALENDAR
VERSION:2.0
PRODID:-//StrefaMMA.pl - Portal sportów walki - ECPv5.16.3.1//NONSGML v1.0//EN
CALSCALE:GREGORIAN
METHOD:PUBLISH
X-WR-CALNAME:StrefaMMA.pl - Portal sportów walki
X-ORIGINAL-URL:https://strefamma.pl
X-WR-CALDESC:Wydarzenia dla StrefaMMA.pl - Portal sportów walki
REFRESH-INTERVAL;VALUE=DURATION:PT1H
X-Robots-Tag:noindex
X-PUBLISHED-TTL:PT1H
BEGIN:VTIMEZONE
TZID:Europe/Warsaw
BEGIN:DAYLIGHT
TZOFFSETFROM:+0100
TZOFFSETTO:+0200
TZNAME:CEST
DTSTART:20220327T010000
END:DAYLIGHT
BEGIN:STANDARD
TZOFFSETFROM:+0200
TZOFFSETTO:+0100
TZNAME:CET
DTSTART:20221030T010000
END:STANDARD
END:VTIMEZONE
BEGIN:VEVENT
DTSTART;TZID=Europe/Warsaw:20221210T190000
DTEND;TZID=Europe/Warsaw:20221210T233000
DTSTAMP:20260422T114106
CREATED:20220918T102609Z
LAST-MODIFIED:20221206T155355Z
UID:50973-1670698800-1670715000@strefamma.pl
SUMMARY:High League 5
DESCRIPTION:Jeszcze przed świętami\, 10 grudnia\, odbędzie się piąta już kolejna edycja HIGH League. Tym razem federacji odwiedzi Łódź\, a dokładniej gala będzie miała miejsce w Atlas Arenie! \nPierwszą potwierdzoną walką było starcie rapera „Alberto” z Pawłem „Tyborim” Tyburskim\, uznawanym za jednego z najlepszych freak fighterów w Polsce. Z czasem zostały ogłaszane kolejne starcia z udziałem nowych\, jak i znanych już zawodników i zawodniczek! \nDo klatki na High League 5 wróci Dawid Załęcki\, który wcześniej w tym roku w bardzo szybkim czasie pokonał Alana Kwiecińskiego. Oponentem 45-letniego Torunianina będzie weteran ponad 60. walk w MMA – Vaso Bakocević. Jedna z największych polskich federacji freak fight w Polsce kontynuuje też dobre stosunki z KSW. Na High League 5 w łódzkiej Atlas Arenie wystąpi kolejny sportowiec – Damian Janikowski. Medalista igrzysk olimpijskich z Londynu spotka się w MMA z Mateuszem „Don Diego” Kubiszynem. \nKursy bukmacherskie na galę HIGH League 5\nGalę HIGH League 5 obstawić można tylko i wyłącznie u bukmachera eFortuna.pl! Na start dla nowych użytkowników przygotowano specjalny BONUS i ZAKŁAD BEZ RYZYKA aż do 600 zł! \nZasady są proste. Jeżeli pierwszy kupon będzie zwycięski gracz otrzymuje pełną wygraną\, jeżeli zaś przegra – Fortuna zwraca wkład\, maksymalnie do 600 zł na konto. Na kupon można dodać jakiekolwiek rozgrywki sportowe i obstawić za dowolna kwotę\, a jeśli tym razem typerskie przeczucie okaże się nietrafione\, zwrot postawionej kwoty wraca i można wykorzystać je na dalszą grę.  \nKarta walk HIGH League 5\n\nWalka wieczoru \n\n\n\n\nAlberto Simao vs. Paweł „Tybori” Tyburski\n\n\n\n\nKarta główna \n\n\n\n\nNatalia „Natsu” Karczmarczyk vs. Agata „Fagata” Fąk\nMateusz „Muran” Murański vs. Paweł „Scarface” Bomba\nMateusz Don Diego Kubiszyn vs. Damian Janikowski\nMaja Staśko vs. Maria „Masza” Graczykowska\nJakub „Holak” Krawczyk vs. Maciej „Zony” Zoniuk\nDawid „Diables” Porwisiak vs. Paweł „Leh” Lehmann\nDawid „Crazy” Załęcki vs. Vaso Bakovević\nPrzemysław „Sequento” Skulski vs. Andrzej „Andrew” Gazda\nKamil „Hassi” Hassan vs. Wojciech „Rekordzista” Sobierajski\n\nOstatnia modyfikacja: 06.12.2022 r.
URL:https://strefamma.pl/event/high-league-5/
LOCATION:Łódź\, Atlas Arena\, aleja ks. bp. Władysława Bandurskiego 7\, Łódź\, łódzkie\, 94-020\, Poland
ATTACH;FMTTYPE=image/png:https://strefamma.pl/wp-content/uploads/2022/09/HIGH-League-5.png
END:VEVENT
END:VCALENDAR