BEGIN:VCALENDAR
VERSION:2.0
PRODID:-//StrefaMMA.pl - Portal sportów walki - ECPv5.16.3.1//NONSGML v1.0//EN
CALSCALE:GREGORIAN
METHOD:PUBLISH
X-ORIGINAL-URL:https://strefamma.pl
X-WR-CALDESC:Wydarzenia dla StrefaMMA.pl - Portal sportów walki
REFRESH-INTERVAL;VALUE=DURATION:PT1H
X-Robots-Tag:noindex
X-PUBLISHED-TTL:PT1H
BEGIN:VTIMEZONE
TZID:Europe/Warsaw
BEGIN:DAYLIGHT
TZOFFSETFROM:+0100
TZOFFSETTO:+0200
TZNAME:CEST
DTSTART:20220327T010000
END:DAYLIGHT
BEGIN:STANDARD
TZOFFSETFROM:+0200
TZOFFSETTO:+0100
TZNAME:CET
DTSTART:20221030T010000
END:STANDARD
END:VTIMEZONE
BEGIN:VEVENT
DTSTART;TZID=Europe/Warsaw:20220423T020000
DTEND;TZID=Europe/Warsaw:20220423T103000
DTSTAMP:20260423T135545
CREATED:20220418T164718Z
LAST-MODIFIED:20220422T162512Z
UID:35194-1650679200-1650709800@strefamma.pl
SUMMARY:Bellator 278: Velasquez vs. Carmouche
DESCRIPTION:Gala Bellator 278 odbędzie się w nocy z 22 na 23 kwietnia. W walce wieczoru dojdzie do starcia o pas mistrzowski wagi muszej kobiet. Odbędą się także kolejne pojedynki kwalifikacyjne do World Grand Prix! \nNajbliższa gala Bellator 278 jest wyjątkową\, bo w całości poświęcona wojsku i ratownikom. To oznacza\, że bilety nie zostały wypuszczone do oficjalnej sprzedaży. W main evencie niepokonana mistrzyni wagi muszej\, Juliana Velasquez stanie do drugiej obrony pasa. Jej rywalką będzie znana między innymi z występów w UFC Liz Carmouche. Popularna Girl-Rilla zwyciężyła dotychczas wszystkie 3 walki w Bellatorze. \nZ powodu kontuzji z karty wypadli Sergio Pettis i James Gallagher. Zawodnicy mieli zmierzyć się w pojedynkach kwalifikacyjnych do World Grand Prix\, jednak federacja znalazła godne zastępstwo. Nikita Mikhailov zmierzy się z Enrique Barzolą\, a Jornel Lugo z Dannym Sabatello. \nObstawiaj Bellator 278 w STS!\nRejestrując się – tutaj – otrzymasz specjalne bonusy przygotowane dla wszystkich nowych użytkowników. STS oferuje dodatkowe 100% od pierwszego depozytu aż do kwoty 300 złotych. Ponadto gracz będzie mógł postawić pierwszy zakład bez ryzyka do 100 złotych. Wystarczy zarejestrować się – tutaj – wpłacić pieniądze i obstawić kupon. \n \nKarta walk Bellator 278\nWalka wieczoru: \n\nJuliana Velasquez (12-0-0) vs. Liz Carmouche (16-7-0) – o pas mistrzowski wagi muszej Bellator\n\nPozostałe walki: \n\nEnrique Barzola (17-5-2) vs. Nikita Mikhailov (9-1-0)\nJornel Lugo (8-0-0) vs. Danny Sabatello (11-1-0)\nChristian Edwards (5-1-0) vs. Grant Neal (6-1-0)\nManny Muro (12-7-0) vs. Nate Andrews (16-4-0)\nZach Zane (15-11-0) vs. Tofiq Musayev (18-4-0)\nErik Perez (20-8-0) vs. Cee Jay Hamilton (15-9-0)\nWeber Almeida (5-1-0) vs. Fabricio Franco (8-4-0)\nMakoa Cooper (1-0-0) vs. Blake Perry (0-0-0)\nDante Schiro (8-3-0) vs. Scotty Hao (5-3-0)\n\n \nOstatnia modyfikacja: 18.04.2022 r.
URL:https://strefamma.pl/event/bellator-278-velasquez-vs-carmouche/
LOCATION:Neal S. Blaisdell Center\, Honolulu\, United States
ATTACH;FMTTYPE=image/png:https://strefamma.pl/wp-content/uploads/2022/04/Bellator-278-poster.png
END:VEVENT
END:VCALENDAR