BEGIN:VCALENDAR
VERSION:2.0
PRODID:-//StrefaMMA.pl - Portal sportów walki - ECPv5.16.3.1//NONSGML v1.0//EN
CALSCALE:GREGORIAN
METHOD:PUBLISH
X-WR-CALNAME:StrefaMMA.pl - Portal sportów walki
X-ORIGINAL-URL:https://strefamma.pl
X-WR-CALDESC:Wydarzenia dla StrefaMMA.pl - Portal sportów walki
REFRESH-INTERVAL;VALUE=DURATION:PT1H
X-Robots-Tag:noindex
X-PUBLISHED-TTL:PT1H
BEGIN:VTIMEZONE
TZID:Europe/Warsaw
BEGIN:DAYLIGHT
TZOFFSETFROM:+0100
TZOFFSETTO:+0200
TZNAME:CEST
DTSTART:20220327T010000
END:DAYLIGHT
BEGIN:STANDARD
TZOFFSETFROM:+0200
TZOFFSETTO:+0100
TZNAME:CET
DTSTART:20221030T010000
END:STANDARD
END:VTIMEZONE
BEGIN:VEVENT
DTSTART;TZID=Europe/Warsaw:20220603T140000
DTEND;TZID=Europe/Warsaw:20220603T200000
DTSTAMP:20260422T013706
CREATED:20220518T044301Z
LAST-MODIFIED:20220518T044301Z
UID:37844-1654264800-1654286400@strefamma.pl
SUMMARY:ONE Championship 158: Pacio vs. Brooks
DESCRIPTION:ONE Championship potwierdziło\, że 3 czerwca ponownie zawita na Singapore Indoor Stadium z galą z numerem 158. \nFederacja potwierdziła\, że w main evencie Joshua Pacio stanie do kolejnej obrony pasa mistrzowskiego wagi muszej ONE. „The Passion”\, który może pochwalić się rekordem 20-3-0 spotka się z Jarredem Brooksem. Były fighter UFC oraz Bellatora pozostaje niepokonane w klatce singapurskiej organizacji. \nKarta walk ONE Championship 158: Pacio vs. Brooks\nWalka wieczoru: \n\nJoshua Pacio (20-3-0) vs. Jarred Brooks (19-2-0) – o pas mistrzowski wagi muszej ONE\n\nOstatnia modyfikacja: 18.05.2022 r.
URL:https://strefamma.pl/event/one-championship-158-pacio-vs-brooks/
LOCATION:Singapore Indoor Stadium\, Singapore\, Singapore\, Singapore
ATTACH;FMTTYPE=image/png:https://strefamma.pl/wp-content/uploads/2022/05/ONE-Championship-158.png
END:VEVENT
END:VCALENDAR