BEGIN:VCALENDAR
VERSION:2.0
PRODID:-//StrefaMMA.pl - Portal sportów walki - ECPv5.16.3.1//NONSGML v1.0//EN
CALSCALE:GREGORIAN
METHOD:PUBLISH
X-ORIGINAL-URL:https://strefamma.pl
X-WR-CALDESC:Wydarzenia dla StrefaMMA.pl - Portal sportów walki
REFRESH-INTERVAL;VALUE=DURATION:PT1H
X-Robots-Tag:noindex
X-PUBLISHED-TTL:PT1H
BEGIN:VTIMEZONE
TZID:Europe/Warsaw
BEGIN:DAYLIGHT
TZOFFSETFROM:+0100
TZOFFSETTO:+0200
TZNAME:CEST
DTSTART:20220327T010000
END:DAYLIGHT
BEGIN:STANDARD
TZOFFSETFROM:+0200
TZOFFSETTO:+0100
TZNAME:CET
DTSTART:20221030T010000
END:STANDARD
END:VTIMEZONE
BEGIN:VEVENT
DTSTART;TZID=Europe/Warsaw:20220618T200000
DTEND;TZID=Europe/Warsaw:20220619T090000
DTSTAMP:20260423T184020
CREATED:20220523T043633Z
LAST-MODIFIED:20220618T065430Z
UID:38136-1655582400-1655629200@strefamma.pl
SUMMARY:UFC on ESPN 37: Kattar vs. Emmet
DESCRIPTION:UFC znów zaczęło wyjeżdżać do innych miast i w nocy z 18 na 19 czerwca kolejna gala z cyklu Fight Night odbędzie się w Austin\, Texas. Karta walk jak zawsze pełna jest gwiazd! \nMain eventem UFC on ESPN 37 będzie pojedynek Calvina Kattara z Josem Emmetem. Ten ostatni przeżywa drugą młodość\, bo mimo 37 lat na karku znajduje się na serii 4. kolejnych zwycięstw. Przeciwnik z kolei\, czyli „The Boston Finisher” wytrzymał nawałnicę ciosów Maxa Hollowaya\, z którym przegrał przez decyzję\, a następnie udowodnił\, że jest w ścisłym topie dywizji piórkowej jednogłośnie pokonując Gigę Chikadze. \nTransmisja na żywo UFC w STS!\nWszystkie gale UFC można oglądać za pośrednictwem UFC Fight Pass. O wiele tańszą i lepszą opcją będzie jednak dostęp przez STS TV dla użytkowników STS. Wystarczy zarejestrować się na stronie bukmachera TUTAJ\, by móc oglądać UFC Fight Night za darmo już od karty wstępnej! Największy polski bukmacher STS oferuje dodatkowe 100% od pierwszego depozytu do kwoty aż 300 złotych. Ponadto gracz będzie mógł postawić pierwszy zakład bez ryzyka do 100 złotych. Wystarczy zarejestrować się – tutaj – wpłacić pieniądze i obstawić kupon. \n \n \nKarta walk UFC on ESPN 37\nWalka wieczoru: \n\nCalvin Kattar (23-5-0) vs. Josh Emmett (17-2-0)\n\nKarta główna: \n\nDonald Cerrone (36-16-0) vs. Joe Lauzon (28-15-0)\nDamir Ismagulov (23-1-0) vs. Guram Kutateladze (12-2-0)\nJulian Marquez (9-2-0) vs. Gregory Rodrigues (11-4-0)\nTim Means (32-12-1) vs. Kevin Holland (22-7-0)\nJoaquin Buckley (14-4-0) vs. Albert Duraev (15-3-0)\n\nKarta wstępna: \n\nPhil Hawes (11-3-0) vs. Deron Winn (7-2-0)\nKyle Daukaus (11-2-0) vs. Roman Dolidze (9-1-0)\nGloria de Paula (6-4-0) vs. Maria Oliveira (12-5-0)\nJasmine Jasudavicius (7-1-0) vs. Natália Silva (12-5-1)\nCody Stamann 19-5-1) vs. Eddie Wineland (24-15-1)\nJeremiah Wells (10-2-1) vs. Court McGee (21-10-0)\nAdrian Yanez 15-3-0 vs. Tony Kelley (8-2-0)\nDanny Chavez (11-4-1) vs. Ricardo Ramos (15-4-0)\n\nOstatnia modyfikacja: 18.06.2022 r.
URL:https://strefamma.pl/event/ufc-on-espn-37-kattar-vs-emmet/
LOCATION:Moody Center\, Austin\, United States
ATTACH;FMTTYPE=image/png:https://strefamma.pl/wp-content/uploads/2022/06/Calvin-Kattar-vs.-Josh-Emmet-wazenie.png
END:VEVENT
END:VCALENDAR