BEGIN:VCALENDAR
VERSION:2.0
PRODID:-//StrefaMMA.pl - Portal sportów walki - ECPv5.16.3.1//NONSGML v1.0//EN
CALSCALE:GREGORIAN
METHOD:PUBLISH
X-ORIGINAL-URL:https://strefamma.pl
X-WR-CALDESC:Wydarzenia dla StrefaMMA.pl - Portal sportów walki
REFRESH-INTERVAL;VALUE=DURATION:PT1H
X-Robots-Tag:noindex
X-PUBLISHED-TTL:PT1H
BEGIN:VTIMEZONE
TZID:Europe/Warsaw
BEGIN:DAYLIGHT
TZOFFSETFROM:+0100
TZOFFSETTO:+0200
TZNAME:CEST
DTSTART:20220327T010000
END:DAYLIGHT
BEGIN:STANDARD
TZOFFSETFROM:+0200
TZOFFSETTO:+0100
TZNAME:CET
DTSTART:20221030T010000
END:STANDARD
END:VTIMEZONE
BEGIN:VEVENT
DTSTART;TZID=Europe/Warsaw:20220515T000000
DTEND;TZID=Europe/Warsaw:20220515T090000
DTSTAMP:20260420T220627
CREATED:20220504T171929Z
LAST-MODIFIED:20220509T043424Z
UID:36533-1652572800-1652605200@strefamma.pl
SUMMARY:UFC Vegas 54: Błachowicz vs. Rakić
DESCRIPTION:W nocy z 14 na 15 maja na UFC Vegas 54 powróci Jan Błachowicz! Były mistrz wagi półciężkiej spotka się z serbsko-austriackim pretendentem\, Aleksandarem Rakiciem!\n\nJan Błachowicz po utracie pasa mistrzowskiego wagi półciężkiej na UFC 267 nie upominał się o natychmiastowy rewanż. Polak postanowił zachować się fair względem reszty stawki dywizji i podjął pierwsze z brzegu wyzwanie.\n\nTym okazał się numer 3 z TOP 10 dywizji\, Aleksandar Rakić. Austriak serbskiego pochodzenia nie stoczył nawet połowy tylu walk\, co „Cieszyński Książę”. Obecnie jednak ma serię dwóch kolejnych wygranych – nad Thiago Santosem i Anthony’m Smithem. Jan Błachowicz zdaje sobie sprawę\, iż jego przewagą będzie doświadczenie w walce na dystansie 5. rund.\n\n\nTransmisja na żywo UFC Vegas 54 w STS\nJak zawsze wydarzenia UFC można oglądać za pośrednictwem UFC Fight Pass\, do której dostęp wynosi 9\,99 euro/miesiąc. Cała gala będzie jednak dostępna w STS TV dla użytkowników STS.\n\nWystarczy zarejestrować się na stronie bukmachera TUTAJ\, by móc oglądać UFC Fight Night za darmo już od karty wstępnej! Największy polski bukmacher STS oferuje dodatkowe 100% od pierwszego depozytu do kwoty aż 300 złotych. Ponadto gracz będzie mógł postawić pierwszy zakład bez ryzyka do 100 złotych. Wystarczy zarejestrować się – tutaj – wpłacić pieniądze i obstawić kupon.\nKarta walk UFC Vegas 54: Błachowicz vs. Rakić\n\n\nWalka wieczoru:\n\n \n\n 	Jan Błachowicz (28-9-0) vs. Aleksandar Rakić (14-2-0)\n\n \n\nKarta główna:\n\n \n\n 	Ryan Spann (19-7-0) vs. Ion Cutelaba (16-6-1)\n 	Louis Smolka (17-8-0) vs. Davey Grant (11-6-0)\n 	Katlyn Chookagian (17-4-0) vs. Amanda Ribas (11-2-0)\n 	Frank Camacho (22-9-0) vs. Manuel Torres (12-2-0)\n 	Jake Hadley (8-0-0) vs. Allan Nascimento (18-6-0)\n\n \n\nPozostałe walki:\n\n \n\n 	Michael Johnson (19-17-0) vs. Alan Patrick (15-3-0)\n 	Viviane Araujo (10-3-0) vs. Andrea Lee (13-5-0)\n 	Virna Jandiroba (17-3-0) vs. Angela Hill (13-11-0)\n 	Nick Maximov (8-0-0) vs. Andre Petroski (7-1-0)\n 	Carlos Candelario (8-1-0) vs. Tatsuro Taira (10-0-0)\n\nOstatnia modyfikacja: 09.05.2022 r.
URL:https://strefamma.pl/event/ufc-vegas-54-blachowicz-vs-rakic/
LOCATION:Las Vegas\, UFC Apex
ATTACH;FMTTYPE=image/png:https://strefamma.pl/wp-content/uploads/2022/05/UFC-Blachowicz-vs-Rakic-poster.png
END:VEVENT
END:VCALENDAR