BEGIN:VCALENDAR
VERSION:2.0
PRODID:-//StrefaMMA.pl - Portal sportów walki - ECPv5.16.3.1//NONSGML v1.0//EN
CALSCALE:GREGORIAN
METHOD:PUBLISH
X-WR-CALNAME:StrefaMMA.pl - Portal sportów walki
X-ORIGINAL-URL:https://strefamma.pl
X-WR-CALDESC:Wydarzenia dla StrefaMMA.pl - Portal sportów walki
REFRESH-INTERVAL;VALUE=DURATION:PT1H
X-Robots-Tag:noindex
X-PUBLISHED-TTL:PT1H
BEGIN:VTIMEZONE
TZID:Europe/Warsaw
BEGIN:DAYLIGHT
TZOFFSETFROM:+0100
TZOFFSETTO:+0200
TZNAME:CEST
DTSTART:20210328T010000
END:DAYLIGHT
BEGIN:STANDARD
TZOFFSETFROM:+0200
TZOFFSETTO:+0100
TZNAME:CET
DTSTART:20211031T010000
END:STANDARD
END:VTIMEZONE
BEGIN:VEVENT
DTSTART;TZID=Europe/Warsaw:20211030T163000
DTEND;TZID=Europe/Warsaw:20211031T010000
DTSTAMP:20260421T114051
CREATED:20210913T220812Z
LAST-MODIFIED:20231113T125752Z
UID:11400-1635611400-1635642000@strefamma.pl
SUMMARY:UFC 267: Błachowicz vs. Teixeira
DESCRIPTION:30 października odbędzie się jedna z najważniejszych gal w historii polskiego MMA. W walce wieczoru nasz rodak Jan Błachowicz stanie do kolejnej obrony swojego mistrzowskiego pasa a jego rywalem będzie doświadczony Glover Teixeira. Ponadto na tym wydarzeniu wystąpią Marcin Tybura oraz Michał Oleksiejczuk. \n\nTransmisja UFC 267 do obejrzenia będzie za darmo w STS TV dla wszystkich aktywnych użytkowników! Początek wydarzenia o 16:30\, a by obejrzeć transmisję z show UFC wystarczy założyć konto. Oprócz Jana Błachowicza zobaczymy także walki dwóch innych Polaków. W wadze ciężkiej Marcin Tybura zmierzy się z Alexandrem Volkovem\, a w kategorii półciężkiej Michał Oleksiejczuk podejmie Shamila Gamzatova. \n\n \n\nBłachowicz vs Teixeira – kiedy walka?\n\n\n\nNa całej gali UFC 267 zobaczymy aż 14 pojedynków. W karcie znajdują się tacy zawodnicy\, jak Islam Makhachev\, Dan Hooker\, czy Petr Yan. \n\n\n\nKarta główna tej numerowanej gali UFC liczy 6 walk i rozpocznie się o godzinie 20:00. Jedynie dwie główne walki wieczoru zakontraktowane są na 5 rund. To oznacza\, że Jan Błachowicz i Glover Teixeira zmierzą się ze sobą około godziny 24:00. \n\n\n\nCała gala od godziny 16:30 transmitowana będzie w STS TV!\n\n\n\nAby obejrzeć\, wystarczy otworzyć konto tu. \n\n\n\n\n\n\n\n  \nWalka wieczoru:205 lb: Jan Błachowicz (28-8) vs. Glover Teixeira (32-7) – o pas mistrzowski w wadze półciężkiej \nKarta główna:135 lb: Petr Yan (15-2) vs. Cory Sandhagen (14-3) – o tymczasowy pas mistrzowski w wadze koguciej155 lb: Islam Makhachev (20-1) vs. Dan Hooker (21-10)265 lb: Alexander Volkov (33-9) vs. Marcin Tybura (22-6)170 lb: Jingliang Li (18-6) vs. Khamzat Chimaev (9-0)205 lb: Magomed Ankalaev (15-1) vs. Volkan Oezdemir (17-5) \nKarta wstępna:115 lb: Amanda Ribas (10-2) vs. Virna Jandiroba (17-2)145 lb: Ricardo Ramos (15-3) vs. Zubaira Tukhugov (19-5-1)185 lb: Albert Duraev (14-3) vs. Roman Kopylov (8-1)170 lb: Elizeu dos Santos (22-7) vs. Benoit Saint-Denis (8-0)205 lb: Shamil Gamzatov (14-0) vs. Michał Oleksiejczuk (15-4)145 lb: Makwan Amirkhani (16-6) vs. Lerone Murphy (10-0-1)185 lb: Yaozong Hu (3-2) vs. Andre Petroski (6-1)125 lb: Tagir Ulanbekov (12-1) vs. Allan Nascimento (18-5) \n 
URL:https://strefamma.pl/event/ufc-267-blachowicz-teixeira/
LOCATION:Abu Dhabi
ATTACH;FMTTYPE=image/jpeg:https://strefamma.pl/wp-content/uploads/2021/09/a-4.jpg
END:VEVENT
END:VCALENDAR