BEGIN:VCALENDAR
VERSION:2.0
PRODID:-//StrefaMMA.pl - Portal sportów walki - ECPv5.16.3.1//NONSGML v1.0//EN
CALSCALE:GREGORIAN
METHOD:PUBLISH
X-ORIGINAL-URL:https://strefamma.pl
X-WR-CALDESC:Wydarzenia dla StrefaMMA.pl - Portal sportów walki
REFRESH-INTERVAL;VALUE=DURATION:PT1H
X-Robots-Tag:noindex
X-PUBLISHED-TTL:PT1H
BEGIN:VTIMEZONE
TZID:Europe/Warsaw
BEGIN:DAYLIGHT
TZOFFSETFROM:+0100
TZOFFSETTO:+0200
TZNAME:CEST
DTSTART:20220327T010000
END:DAYLIGHT
BEGIN:STANDARD
TZOFFSETFROM:+0200
TZOFFSETTO:+0100
TZNAME:CET
DTSTART:20221030T010000
END:STANDARD
END:VTIMEZONE
BEGIN:VEVENT
DTSTART;TZID=Europe/Warsaw:20220826T183000
DTEND;TZID=Europe/Warsaw:20220827T013000
DTSTAMP:20260422T102604
CREATED:20220722T122749Z
LAST-MODIFIED:20220823T141916Z
UID:44548-1661538600-1661563800@strefamma.pl
SUMMARY:FAME 15: Linkimaster vs. Lil Masti
DESCRIPTION:W ostatni piątek wakacji\, czyli 26 sierpnia odbędzie się kolejna hitowa gala największej federacji freak fight w Polsce! FAME 15 ponownie dostarczy wielkich emocji! \nNajwiększym wydarzeniem gali FAME 15 będzie niewątpliwie zakończenie konfliktu pomiędzy Arkadiuszem Tańculą\, a rodziną Murańskich. Popularny „Aroy” najpierw na zasadach MMA zmierzy się z Mateuszem\, a następnie w rzymskiej klatce da rewanż ojcu oponenta\, Jackowi. Starszy „Muran” na konferencji prasowej ogłosił też\, że z chęcią stoczy pojedynek z rezerwowym fighterem za Tańculę – „Szalonym Reporterem”. To oznacza\, że zarówno „Aroy”\, jak i ponad 50-letni Jacek Murański stoczą tego wieczoru dwa pojedynki! \nWalką wieczoru nadchodzącego wydarzenia będzie pojedynek o tytuł Królowej Freak Fights: „Linkimaster” vs. „Lil Masti”. Zawodniczki mierzyły się już na gali numer 4 i tam Aniela Bogusz zwyciężyła już w 1. rundzie. Tym razem zadanie będzie trudniejsze\, bo Linkiewicz od tamtej pory zdecydowanie podniosła swoje umiejętności! \n-> OGLĄDAJ FAME MMA 15 NA ŻYWO!\n\n\nTypy i kursy bukmacherskie na FAME 15\nGalę FAME 15 obstawisz wyłącznie u legalnego bukmachera BetClic! Jeśli nie masz jeszcze konta\, możesz odebrać swój BONUS! Dla nowych użytkowników przygotowano specjalną ofertę powitalną. Możesz postawić pierwszy zakład do 200 zł bez ryzyka! Jeśli Twoje typy będą dobre\, zgarniasz wysoką wygraną. Jeśli kupon okaże się on przegrany – otrzymasz ZWROT! \n \n\n\n\n\n\nKarta walk FAME 15\nWalka wieczoru: \n\nMarta „Linkimaster” Linkiewicz vs Aniela „Lil Masti” Bogusz – o pasy mistrzowskie kategorii koguciej kobiet FAME\, wagi OPEN oraz o pas Królowej Freak Fights\n\nCo-main event: \n\nMarcin „Xayoo” Majkut vs Mikołaj „Konopskyy” Tylko – pojedynek na zasadach K-1\n\nPozostałe walki: \n\nMariusz „Sarius” Golling vs Marcin „Polish Zombie” Wrzosek – walka w boksie\nKacper „Crusher” Błoński vs Marcin Dubiel – walka w klatce rzymskiej w MMA\, bez limitu czasowego\nJacek „Muran” Murański vs. Tomasz „Szalony Reporter” Matysiak – walka w klatce rzymskiej w MMA\nArkadiusz Tańcula vs Jacek „Muran” Murański – walka w klatce rzymskiej w MMA\nArkadiusz Tańcula vs Mateusz „Muran” Murański – walka na zasadach MMA\nFranciszek „Franio” Rusiecki vs Jakub „Paramaxil” Frączek – walka na zasadach K-1\nRafał „Takefun” Górniak vs Filip Zabielski – walka na zasadach K-1\nJamel i Jamil Neffati vs Radosław „Warjat Radek” Kapias i Patryk Woźniak – walka 2 vs. 2 w MMA\n\nOstatnia modyfikacja: 22.07.2022 r.
URL:https://strefamma.pl/event/fame-15-linkimaster-vs-lil-masti/
LOCATION:Łódź\, Atlas Arena\, aleja ks. bp. Władysława Bandurskiego 7\, Łódź\, łódzkie\, 94-020\, Poland
ATTACH;FMTTYPE=image/png:https://strefamma.pl/wp-content/uploads/2022/07/FAME-15-PLAKAT.png
END:VEVENT
END:VCALENDAR