BEGIN:VCALENDAR
VERSION:2.0
PRODID:-//StrefaMMA.pl - Portal sportów walki - ECPv5.16.3.1//NONSGML v1.0//EN
CALSCALE:GREGORIAN
METHOD:PUBLISH
X-ORIGINAL-URL:https://strefamma.pl
X-WR-CALDESC:Wydarzenia dla StrefaMMA.pl - Portal sportów walki
REFRESH-INTERVAL;VALUE=DURATION:PT1H
X-Robots-Tag:noindex
X-PUBLISHED-TTL:PT1H
BEGIN:VTIMEZONE
TZID:Europe/Warsaw
BEGIN:DAYLIGHT
TZOFFSETFROM:+0100
TZOFFSETTO:+0200
TZNAME:CEST
DTSTART:20220327T010000
END:DAYLIGHT
BEGIN:STANDARD
TZOFFSETFROM:+0200
TZOFFSETTO:+0100
TZNAME:CET
DTSTART:20221030T010000
END:STANDARD
END:VTIMEZONE
BEGIN:VEVENT
DTSTART;TZID=Europe/Warsaw:20220515T200000
DTEND;TZID=Europe/Warsaw:20220516T003000
DTSTAMP:20260423T024253
CREATED:20220515T010329Z
LAST-MODIFIED:20220515T010329Z
UID:37560-1652644800-1652661000@strefamma.pl
SUMMARY:Fury FC 62
DESCRIPTION:W niedzielę 15 maja rozpocznie się gala Fury FC 62. Amerykańska federacja tym razem na arenę wydarzenia wybrało Douglas County Event Center. \nKarta walk Fury FC 62\nWalka wieczoru: \n\nAustin Jones (11-7-0) vs. Armus Guyton (6-2-0)\n\nKarta główna: \n\nAndrew Yates (12-3-0) vs. Nick Compton (12-10-0)\nJoseph Garcia (0-1-0) vs. Chris Sherley-Rios (0-2-0)\nKyle Broadwater (1-6-0) vs. Zachariah Thorne (1-2-0)\nKevin Kent (0-0-0) vs. Caleb Hall (2-3-0)\nJason Mullen (4-2-0) vs. Matt Jones (8-4-0)\nAdam Martinez (7-5-0) vs. Leonardo Carvalho (3-5-0)\nGeorge Martinez (4-2-0) vs. Jacob Romero (1-3-0)\nJoshua Thawng (4-1-0) vs. Mario Suazo (2-1-0)\nMarquel Mederos (2-1-0) vs. Ben Lugo (5-5-0)\nAryion Young (1-1-0) vs. Kaleo Meheula (1-1-0)\nJessie Stalder (1-0-0) vs. Lajuan Davis (3-0-0)\n\nKarta wstępna: \n\nDey McIntosh (1-0-0) vs. Tiga Lundin (0-0-0)\nJonathan Geiger (1-0-0) vs. Axel Karma Navarro Farias (1-0-0)\n\nOstatnia modyfikacja: 15.05.2022 r
URL:https://strefamma.pl/event/fury-fc-62/
LOCATION:Douglas County Event Center\, Castle Rock\, United States
ATTACH;FMTTYPE=image/png:https://strefamma.pl/wp-content/uploads/2022/05/Fury-FC-62.png
END:VEVENT
END:VCALENDAR