BEGIN:VCALENDAR
VERSION:2.0
PRODID:-//StrefaMMA.pl - Portal sportów walki - ECPv5.16.3.1//NONSGML v1.0//EN
CALSCALE:GREGORIAN
METHOD:PUBLISH
X-ORIGINAL-URL:https://strefamma.pl
X-WR-CALDESC:Wydarzenia dla StrefaMMA.pl - Portal sportów walki
REFRESH-INTERVAL;VALUE=DURATION:PT1H
X-Robots-Tag:noindex
X-PUBLISHED-TTL:PT1H
BEGIN:VTIMEZONE
TZID:Europe/Warsaw
BEGIN:DAYLIGHT
TZOFFSETFROM:+0100
TZOFFSETTO:+0200
TZNAME:CEST
DTSTART:20240331T010000
END:DAYLIGHT
BEGIN:STANDARD
TZOFFSETFROM:+0200
TZOFFSETTO:+0100
TZNAME:CET
DTSTART:20241027T010000
END:STANDARD
END:VTIMEZONE
BEGIN:VEVENT
DTSTART;TZID=Europe/Warsaw:20240511T220000
DTEND;TZID=Europe/Warsaw:20240512T070000
DTSTAMP:20260423T101054
CREATED:20240508T064553Z
LAST-MODIFIED:20240508T064553Z
UID:99902-1715464800-1715497200@strefamma.pl
SUMMARY:UFC St. Louis: Lewis vs. Nascimento
DESCRIPTION:W nocy z soboty 11 maja na niedzielę 12 maja do oktagonu powróci Mateusz Rębecki. Były mistrz wagi lekkiej FEN podczas UFC St. Louis zmierzy się z Diego Ferreirą. \nMateusz Rębecki jeszcze jako panujący mistrz wagi lekkiej organizacji FEN zawalczył o kontrakt w najlepszej lidze MMA. Polak w świetnym stylu pokonał cięższego oponenta\, za co otrzymał od Dany White’a przydomek „Rebeasti”. \nRębecki już trzykrotnie wchodził do oktagonu UFC. Tylko za pierwszym razem jego rywa wytrzymał pełen dystans. W kolejnych pojedynkach Mateusz najpierw znokautował Radzhabova\, a następnie poddał w 1. rundzie Robertsa. \nW najbliższy weekend Rębecki powróci do klatki na starcie z Diego Ferreirą. Polscy fani mogą kojarzyć Brazylijczyka ze starcia z Mateuszem Gamrotem. 39-letni fighter blisko rok temu stoczył pierwsze starcie po porażce z „Gamerem”\, w którym udało mu się znokautować Michaela Johnsona. \nKursy i zakłady na UFC St. Louis: Lewis vs. Nascimento\nGalę UFC St. Louis: Lewis vs. Nascimento w całości obstawicie u bukmachera eFortuna.pl. Na start czekają na Was liczne bonusy. Za rejestrację i depozyt otrzymacie darmowe 30 zł. Do tego trzy pierwsze zakłady do 100 zł obstawicie w całości bez ryzyka! \nOdbieram bonusy na walkę Rębecki vs. Ferreira! \n \n  \nUFC St. Louis – Karta walk\nKarta główna: \n\n265 lb: Derrick Lewis (27-12) vs. Rodrigo Nascimento (11-1)\n170 lb: Joaquin Buckey (18-6) vs. Nursulton Ruziboev (34-8-2)\n205 lb: Alonzo Menifield (15-3-1) vs. Carlos Ulberg (9-1)\n155 lb: Diego Ferreira (18-5) vs. Mateusz Rębecki (19-1)\n145 lb: Alex Caceres (21-14) vs. Sean Woodson (11-1-1)\n265 lb: Waldo Cortes-Acosta (11-1) vs. Robelis Despaigne (5-0)\n\nKarta wstępna: \n\n155 lb: Chase Hooper (13-3-1) vs. Viacheslav Borshchev (7-3-1)\n155 lb: Terrance McKinney (15-6) vs. Esteban Ribovics (12-1)\n115 lb: Tabatha Ricci (9-2) vs. Tecia Torres (13-6)\n170 lb: Billy Goff (9-2) vs. Trey Waters (8-1)\n125 lb: Jake Hadley (10-2) vs. Charles Johnson (14-6)\n170 lb: Jared Gooden (23-9) vs. Kevin Jousset (10-2)\n125 lb: JJ Aldrich (13-6) vs. Veronica Hardy (8-4-1)\n\nOstatnia zmiana: 08.05.2024 r.
URL:https://strefamma.pl/event/ufc-st-louis-lewis-vs-nascimento/
LOCATION:St. Louis\, Missouri
ATTACH;FMTTYPE=image/jpeg:https://strefamma.pl/wp-content/uploads/2024/05/UFC-St.-Louis-Lewis-vs.-Nascimento.jpg
END:VEVENT
END:VCALENDAR