BEGIN:VCALENDAR
VERSION:2.0
PRODID:-//StrefaMMA.pl - Portal sportów walki - ECPv5.16.3.1//NONSGML v1.0//EN
CALSCALE:GREGORIAN
METHOD:PUBLISH
X-WR-CALNAME:StrefaMMA.pl - Portal sportów walki
X-ORIGINAL-URL:https://strefamma.pl
X-WR-CALDESC:Wydarzenia dla StrefaMMA.pl - Portal sportów walki
REFRESH-INTERVAL;VALUE=DURATION:PT1H
X-Robots-Tag:noindex
X-PUBLISHED-TTL:PT1H
BEGIN:VTIMEZONE
TZID:Europe/Warsaw
BEGIN:DAYLIGHT
TZOFFSETFROM:+0100
TZOFFSETTO:+0200
TZNAME:CEST
DTSTART:20250330T010000
END:DAYLIGHT
BEGIN:STANDARD
TZOFFSETFROM:+0200
TZOFFSETTO:+0100
TZNAME:CET
DTSTART:20251026T010000
END:STANDARD
END:VTIMEZONE
BEGIN:VEVENT
DTSTART;TZID=Europe/Warsaw:20250222T190000
DTEND;TZID=Europe/Warsaw:20250223T033000
DTSTAMP:20260422T012830
CREATED:20250125T192521Z
LAST-MODIFIED:20250125T192521Z
UID:130546-1740250800-1740281400@strefamma.pl
SUMMARY:Beterbiev vs. Bivol 2: The Last Crescendo
DESCRIPTION:W sobotę 22 lutego będziemy świadkami jednej z najlepszych kart w historii boksu. \nMain eventem gali pt. „The Last Cresendo” będzie rewanż o miano niekwestionowanego mistrza świata w kategorii półciężkiej. Artur Beterbiev raz jeszcze zmierzy się z Dmitrym Bivolem\, którego wypunktował na początku października. \nPrzed nimi z kolei do pierwszej obrony mistrzostwa IBF przystąpi Daniel Dubois. Anglik sięgnął po pas nokautując Anthony’ego Joshuę. Tym razem przyjdzie mu się zmierzyć z niepokonanym od pięciu pojedynków Josephem Parkerem. \nBeterbiev vs. Bivol 2: Kursy bukmacherskie\nKartę walk gali The Last Crescendo obstawicie w całości u bukmachera Fortuna. Za założenie nowego konta i depozyt otrzymacie darmowe 30 PLN oraz zakład bez ryzyka do 100 PLN. \n \nBeterbiev vs. Bivol 2: The Last Crescendo – Karta walk\nWalka wieczoru: \n\nArtur Beterbiev (21-0) vs. Dmitry Bivol (23-1) – o tytuł niekwestionowanego mistrza wagi półciężkiej\n\nKarta główna: \n\nDaniel Dubois vs Joseph Parker – walka o pas IBF wagi ciężkiej\nShakur Stevenson vs Floyd Schofield – walka o pas WBC kategorii lekkiej\nCarlos Adamek – Hamzah Sheeraz – walka o pas WBC wagi średniej\nVergil Ortiz Jr – Israił Madrimow – walka o pas WBC interim wagi super półśredniej\nJoshua Buatsi – Callum Smith – walka o pas WBO interim wagi półciężkiej\nZhang Zhilei – Agit Kabayel – walka o pas WBC interim wagi ciężkiej\n\nOstatnia zmiana: 25.01.2025 r.
URL:https://strefamma.pl/event/beterbiev-vs-bivol-2-the-last-crescendo/
LOCATION:Rijad\, Rijad\, Saudi Arabia
ATTACH;FMTTYPE=image/jpeg:https://strefamma.pl/wp-content/uploads/2025/01/Beterbiev-vs.-Bivol-2-The-Last-Crescendo.jpg
END:VEVENT
END:VCALENDAR