BEGIN:VCALENDAR
VERSION:2.0
PRODID:-//StrefaMMA.pl - Portal sportów walki - ECPv5.16.3.1//NONSGML v1.0//EN
CALSCALE:GREGORIAN
METHOD:PUBLISH
X-ORIGINAL-URL:https://strefamma.pl
X-WR-CALDESC:Wydarzenia dla StrefaMMA.pl - Portal sportów walki
REFRESH-INTERVAL;VALUE=DURATION:PT1H
X-Robots-Tag:noindex
X-PUBLISHED-TTL:PT1H
BEGIN:VTIMEZONE
TZID:Europe/Warsaw
BEGIN:DAYLIGHT
TZOFFSETFROM:+0100
TZOFFSETTO:+0200
TZNAME:CEST
DTSTART:20230326T010000
END:DAYLIGHT
BEGIN:STANDARD
TZOFFSETFROM:+0200
TZOFFSETTO:+0100
TZNAME:CET
DTSTART:20231029T010000
END:STANDARD
END:VTIMEZONE
BEGIN:VEVENT
DTSTART;TZID=Europe/Warsaw:20230805T190000
DTEND;TZID=Europe/Warsaw:20230806T013000
DTSTAMP:20260422T182616
CREATED:20230723T112739Z
LAST-MODIFIED:20230805T074427Z
UID:76285-1691262000-1691285400@strefamma.pl
SUMMARY:CLOUT MMA 1
DESCRIPTION:Już 5 sierpnia na warszawskim COS Torwarze zadebiutuje nowa federacja – Clout MMA. Hitowe\, zaskakujące nazwiska\, znane twarze i niesamowite emocje – to wszystko zapewni premierowa gala. \nNa rynku freak fightów powstała wyrwa\, którą skutecznie chce wypełnić Clout MMA. Organizacja natychmiast znalazła się na ustach wszystkich\, zestawiając fenomenalne starcia debiutantów. W klatce pojawią się wybitni reprezentanci Polski: były piłkarz Tomasz Hajto i emerytowany siatkarz Zbigniew Bartman. \nW walce wieczoru dojdzie do pełnego złej krwi pojedynku: Marcin Najman na zasadach MMA podejmie Andrzeja Fonfarę. „Polski Książę” to były mistrz świata w boksie\, co zwiastuje kapitalne wymiany w stójce! \nClout MMA 1 – Typy\, kursy i zakłady bukmacherskie\nWszystkie pojedynki Clout MMA 1 obstawić możecie wyłącznie u bukmachera eFortuna.pl. Jeśli jeszcze nie posiadacie konta\, czeka na was znakomita oferta powitalna. \nJuż za samą rejestrację otrzymacie 20 zł\, a za pierwszy depozyt – kolejne 10 zł. To jednak nie wszystko: pierwsze trzy zakłady do 100 zł\, 200 zł i 300 zł obstawicie bez ryzyka! W przypadku przegranej Fortuna zwróci środki na konto gracza. \n-> Odbierz bonus i graj bez ryzyka!\n \nKarta walk Clout MMA 1\nWalka wieczoru: \n\nMarcin Najman vs Andrzej Fonfara\n\nCo-main event: \n\nTomasz Hajto vs Zbigniew Bartman\n\nKarta główna: \n\nJay Silva vs Tomasz Sarara – K-1\nDenis Labryga vs Dawid „Crazy” Załęcki – K-1\nAdrian Cios vs Łukasz „Magical Jr” Malankowski\nDominik Pudzianowski vs Błażej Augustyn\nEwa „Mrs. Honey” Wyszatycka vs Paulina Hornik\nTomasz „Szalony Reporter” Matysiak vs Cezary „Czarek Czaruje” Gołębiewski\nNikola „Nikita” Alokin vs Monika „Najlepsza Polska Dziennikarka” Laskowska\nKonrad Karwat vs Michał Waleszczyński-Lis\nPiotr Lizakowski vs Dominik Skowyra\n\nKarta wstępna: \n\nPiotr Pająk vs Wojciech „Rekordzista” Sobierajski\nKacper „Ludwiczek” Bociański vs Mariusz „Super Mario” Sobczak\n\nOstatnia modyfikacja: 04.08.2023 r.
URL:https://strefamma.pl/event/clout-mma-1/
LOCATION:Hala Torwar\, Warszawa\, Poland
ATTACH;FMTTYPE=image/jpeg:https://strefamma.pl/wp-content/uploads/2023/07/Clout-MMA-1Hajto-Bartman-Najman-Fonfara.jpg
END:VEVENT
END:VCALENDAR