BEGIN:VCALENDAR
VERSION:2.0
PRODID:-//StrefaMMA.pl - Portal sportów walki - ECPv5.16.3.1//NONSGML v1.0//EN
CALSCALE:GREGORIAN
METHOD:PUBLISH
X-WR-CALNAME:StrefaMMA.pl - Portal sportów walki
X-ORIGINAL-URL:https://strefamma.pl
X-WR-CALDESC:Wydarzenia dla StrefaMMA.pl - Portal sportów walki
REFRESH-INTERVAL;VALUE=DURATION:PT1H
X-Robots-Tag:noindex
X-PUBLISHED-TTL:PT1H
BEGIN:VTIMEZONE
TZID:Europe/Warsaw
BEGIN:DAYLIGHT
TZOFFSETFROM:+0100
TZOFFSETTO:+0200
TZNAME:CEST
DTSTART:20220327T010000
END:DAYLIGHT
BEGIN:STANDARD
TZOFFSETFROM:+0200
TZOFFSETTO:+0100
TZNAME:CET
DTSTART:20221030T010000
END:STANDARD
END:VTIMEZONE
BEGIN:VEVENT
DTSTART;TZID=Europe/Warsaw:20221022T160000
DTEND;TZID=Europe/Warsaw:20221023T000000
DTSTAMP:20260423T153422
CREATED:20220726T121420Z
LAST-MODIFIED:20221022T080521Z
UID:44915-1666454400-1666483200@strefamma.pl
SUMMARY:UFC 280: Oliveira vs. Makhachev
DESCRIPTION:Największa federacja MMA na świecie ponownie wraca do Abu Zabi! Już 22 października odbędzie się jedna z najlepiej zapowiadających się gal w tym roku – UFC 280. \nPolscy kibice najbardziej cieszą się z faktu\, iż w karcie walk znalazło się miejsce dla Mateusza Gamrota! Najlepszy polski lekki po wygranej nad Armanem Tsarukyanem otrzymał w końcu topowego rywala – Beneila Dariusha. Bardzo możliwe\, że to starcie wyłoni kolejnego pretendenta do mistrzostwa wagi lekkiej! Ten tytuł będzie stawką walki wieczoru UFC 280. Brazylijczyk Charles Oliveira w końcu spotka się z „nowym Khabibem” – Islamem Makhachevem. Do tego w co-main evencie gali Aljamain Sterling będzie bronił pasa wagi koguciej przeciwko byłemu mistrzowi – T.J-owi Dillashawowi. \nKursy bukmacherskie na galę UFC 280. Obstaw w Fortunie i oglądaj na żywo!\n\nCałą galę UFC 280: Oliveira vs. Makhachev obstawisz i obejrzysz NA ŻYWO u bukmachera eFortuna.pl! Na start przygotowano specjalny BONUS i ZAKŁAD BEZ RYZYKA aż do 600 zł! \n\n\n\nZasady są proste. Jeżeli twój pierwszy kupon będzie zwycięski otrzymujesz wygraną\, jeżeli przegrasz Fortuna zwróci Ci wkład\, maksymalnie do 600 zł na konto gracza. Możesz dodać na swój kupon jakiekolwiek rozgrywki sportowe i obstawić za dowolna kwotę\, a jeśli tym razem typerskie przeczucie Cię zawiedzie otrzymasz zwrot postawionej kwoty\, który możesz wykorzystać na grę. \n\n\n\n-> Gram z Fortuną! Odbieram bonus  \nKarta walk UFC 280: Oliveira vs. Makhachev\nWalka wieczoru: \n\nCharles Oliveira (33-8-0) vs. Islam Makhachev (22-1-0) – o zawakowany pas mistrzowski wagi lekkiej UFC\n\nKarta główna: \n\nAljamain Sterling (21-3-0) vs. T.J. Dillashaw (17-4-0) – o pas mistrzowski wagi koguciej UFC\nPetr Yan (16-3-0) vs. Sean O’Malley (15-1-0)\nBeneil Dariush (21-4-1) vs. Mateusz Gamrot (21-1-0)\nKatlyn Chookagian (18-4-0) vs. Manon Fiorot (9-1-0)\n\nPozostałe walki: \n\nBelal Muhammad (21-3-0) vs. Sean Brady (15-0-0)\nMakhmud Muradov (25-7-0) vs. Caio Borralho (12-1-0)\nVolkan Oezdemir (18-6-0) vs. Nikita Krylov (28-9-0)\nZubaira Tukhugov (20-5-1) vs. Lucas Almeida (14-1-0)\nYamato Nishikawa (21-3-6) vs. Magomed Mustafaev (14-4-0)\nAbubakar Nurmagomedov (16-3-1) vs. Gadzhi Omargadzhiev (13-1-0)\nArmen Petrosyan (7-2-0) vs. AJ Dobson (6-1-0)\nMuhammad Mokaev (7-0-0) vs. Malcolm Gordon (14-5-0)\nLina Länsberg (10-6-0) vs. Karol Rosa (15-4-0)\n\nOstatnia modyfikacja: 17.10.2022 r.
URL:https://strefamma.pl/event/ufc-280-oliveira-vs-makhachev/
LOCATION:Etihad Arena\, Yas Bay Waterfront\, Yas Island\, Abu Zabi\, United Arab Emirates
ATTACH;FMTTYPE=image/png:https://strefamma.pl/wp-content/uploads/2022/07/UFC-280-Plakat-1.png
END:VEVENT
END:VCALENDAR