BEGIN:VCALENDAR
VERSION:2.0
PRODID:-//StrefaMMA.pl - Portal sportów walki - ECPv5.16.3.1//NONSGML v1.0//EN
CALSCALE:GREGORIAN
METHOD:PUBLISH
X-ORIGINAL-URL:https://strefamma.pl
X-WR-CALDESC:Wydarzenia dla StrefaMMA.pl - Portal sportów walki
REFRESH-INTERVAL;VALUE=DURATION:PT1H
X-Robots-Tag:noindex
X-PUBLISHED-TTL:PT1H
BEGIN:VTIMEZONE
TZID:Europe/Warsaw
BEGIN:DAYLIGHT
TZOFFSETFROM:+0100
TZOFFSETTO:+0200
TZNAME:CEST
DTSTART:20240331T010000
END:DAYLIGHT
BEGIN:STANDARD
TZOFFSETFROM:+0200
TZOFFSETTO:+0100
TZNAME:CET
DTSTART:20241027T010000
END:STANDARD
END:VTIMEZONE
BEGIN:VEVENT
DTSTART;TZID=Europe/Warsaw:20240720T190000
DTEND;TZID=Europe/Warsaw:20240721T010000
DTSTAMP:20260420T153337
CREATED:20240513T111635Z
LAST-MODIFIED:20240621T200229Z
UID:100501-1721502000-1721523600@strefamma.pl
SUMMARY:KSW 96: Pawlak vs. Janikowski
DESCRIPTION:W sobotę 20 lipca organizacja KSW zawita do Łodzi. W walce wieczoru miejscowy champion Paweł Pawlak stanie do kolejnej obrony tytułu. W rewanżowym starciu zmierzy się z Damianem Janikowskim. \nPawlak i Janikowski już po raz drugi w karierze zmierzą się ze sobą w okrągłej klatce KSW. Miało to miejsce w 2021 roku podczas KSW 63\, gdzie „Plastinho” i były zapaśnik dali fenomenalny pokaz umiejętności. Walkę wybrano jako najlepszą tamtego wieczoru. Paweł Pawlak zwyciężył w niej przez jednogłośną decyzję sędziów. \nJuż 3 starcia później fighter Octopusa Łódź został mistrzem wagi średniej\, a w grudniu zaliczył udaną pierwszą obronę w starciu z Michałem Materlą. Janikowski w tym czasie pokonał Tomasza Jakubca\, zaliczył kontrowersyjną porażkę z Tomem Breesem i odniósł 3 zwycięstwa z rzędu. W ostatnim pojedynku pokonał przez decyzję Tomasza Romanowskiego. \nKSW 96: Pawlak vs. Janikowski – Kursy bukmacherskie\nGalę KSW 96 w całości obstawicie u bukmachera eFortuna.pl. Na start czekają na Was liczne bonusy. Za rejestrację i depozyt otrzymacie darmowe 30 zł. Do tego trzy pierwsze zakłady do 100 zł obstawicie w całości bez ryzyka! \nOdbieram bonusy na KSW 96: Pawlak vs. Janikowski! \n \nKARTA WALK KSW 96\nWalka wieczoru: \n\n83\,9 kg/185 lb: Paweł Pawlak #C (23-4-1\, 11 KO\, 3 Sub) vs. Damian Janikowski #3 (10-5\, 5 KO\, 1 Sub) – Walka o pas mistrzowski wagi średniej KSW\n\nKarta główna: \n\n52\,2 kg/115 lb: Maria Silva (10-1\, 3 KO\, 4 Sub) vs. Ewelina Woźniak (8-2\, 2 KO\, 4 Sub)\n83\,9 kg/185 lb: Radosław Paczuski #7 (5-2\, 4 KO) vs. Dominik Humburger #9 (8-1\, 7 KO)\n56\,7 kg/125 lb: Karolina Owczarz (5-3\, 2 Sub) vs. Sandra Succar (4-1\, 1 KO\, 1 Sub)\n120\,2 kg/265 lb: Viktor Pešta #6 (19-9\, 8 KO\, 7 Sub) vs. Matheus Scheffel #9 (17-11 1NC\, 12 KO)\n70\,3 kg/155 lb: Maciej Kazieczko #8 (9-3\, 6 KO) vs. Ahmed Abdulkadirov (9-2\, 8 KO)\n70\,3 kg/155 lb: Bartłomiej Kopera (13-7\, 8 Sub) vs. Dawid Śmiełowski (10-1\, 8 KO\, 2 Sub)\n120\,2 kg/265 lb: Marek Samociuk (5-4\, 3 KO) vs. Denis Górniak (6-1\, 4 KO\, 2 Sub)\n70\,3 kg/155 lb: Hugo Deux (3-0\, 1 KO) vs. Nicolae Bivol (4-1\, 1 KO\, 2 Sub)\n\nOstatnia zmiana: 21.06.2024 r.
URL:https://strefamma.pl/event/ksw-96-pawlak-vs-janikowski/
LOCATION:Łódź\, Łódź\, Poland
ATTACH;FMTTYPE=image/jpeg:https://strefamma.pl/wp-content/uploads/2024/05/KSW-96-Pawlak-vs.-Janikowski.jpg
END:VEVENT
BEGIN:VEVENT
DTSTART;TZID=Europe/Warsaw:20240720T220000
DTEND;TZID=Europe/Warsaw:20240721T080000
DTSTAMP:20260420T153337
CREATED:20240714T190927Z
LAST-MODIFIED:20240714T190927Z
UID:106164-1721512800-1721548800@strefamma.pl
SUMMARY:UFC Vegas 94: Lemos vs. Jandiroba
DESCRIPTION:W nocy z soboty 20 lipca na niedzielę 21 lipca organizacja UFC powróci do kompleksu Apex. Galę UFC Vegas 94 zakończy walka w czołówce kategorii słomkowej pań. \nAmanda Lemos wróciła już na początku roku po sromotnej klęsce w starciu o pas. Brazylijka pokonała przez decyzję Mackenzie Dern i mimo zaawansowanego wieku (37 lat) wciąż pozostała w grze o najwyższe cele. \nPo drugiej stronie stanęła rok młodsza Virna Jandiroba. Również reprezentująca Kraj Kawy zawodniczka wyjdzie do klatki na fali trzech kolejnych\, pewnych zwycięstw przez decyzję. \nUFC Vegas 94: Typy\, kursy i zakłady bukmacherskie\nKartę walk UFC Vegas 94: Lemos vs. Jandiroba obstawicie w całości u bukmachera Fortuna. Za założenie nowego konta i depozyt otrzymacie darmowe 30 PLN. To jednak nie wszystko! Na start dostaniecie również 3X zakład bez ryzyka do 100 PLN. \n \nUFC Vegas 94: Karta walk\nWalka wieczoru: \n\nAmanda Lemos (14-3-1) vs. Virna Jandiroba (20-3)\n\nKarta główna: \n\nBrad Tavares (20-9) vs. Jun Yong Park (17-6)\nSteve Garcia (15-5) vs. Seung Woo Choi (11-6)\nKurt Holobaugh (20-8) vs. Kaynan Kruschewsky (15-2)\nCody Durden (16-5-1) vs. Bruno Silva (13-5-2)\nDoo Ho Choi (14-4-1) vs. Bill Algeo (18-8)\n\nKarta wstępna: \n\nHyder Amil (9-0) vs. Jeong Yeong Lee (11-1)\nBrian Kelleher (24-15) vs. Cody Gibson (19-10)\nMiranda Maverick (13-5) vs. Dione Barbosa (7-2)\nLoik Radzhabov (18-5-1) vs. Trey Ogden (17-6)\nLuana Carolina (10-4) vs. Lucie Pudilová (14-9)\nMohammed Usman (10-3) vs. Thomas Petersen (8-2)\n\nOstatnia zmiana: 14.07.2024 r.
URL:https://strefamma.pl/event/ufc-vegas-94-lemos-vs-jandiroba/
LOCATION:Las Vegas\, UFC Apex
ATTACH;FMTTYPE=image/png:https://strefamma.pl/wp-content/uploads/2024/07/UFC-Vegas-94-Lemos-vs.-Jandiroba.png
END:VEVENT
BEGIN:VEVENT
DTSTART;TZID=Europe/Warsaw:20240727T220000
DTEND;TZID=Europe/Warsaw:20240728T090000
DTSTAMP:20260420T153337
CREATED:20240621T200038Z
LAST-MODIFIED:20240621T200038Z
UID:104202-1722117600-1722157200@strefamma.pl
SUMMARY:UFC 304: Edwards vs. Muhammad 2
DESCRIPTION:Gala UFC 304 odbędzie się w nocy z 27 na 28 lipca w Manchesterze. W walkach wieczoru dojdzie do dwóch starć o pasy mistrzowskie. \nOrganizacja UFC powróci do Anglii z kolejną numerowaną galą. W walce wieczoru dojdzie do rewanżowego starcia Edwards vs. Muhammad. Pretendent długo czekał na swoją szansę. Belal słynie ze świetnego grapplingu\, przez co jednak jego walki tracą na widowiskowości. „Rocky” dwukrotnie pokonał Kamaru Usmana\, a w kolejnej obronie w jednostronnym pojedynku pokonał Covingtona. \nW co-main evencie UFC 304 dojdzie do kolejnego rewanżu. Tom Aspinall\, przystąpi do obrony tymczasowego tytułu królewskiej kategorii wagowej przeciwko Curtisowi Blaydesowi. Amerykanin w pierwszym ich spotkaniu zwyciężył przez kontuzję rywala. Oprócz tego w karcie walk znalazło się miejsce dla aż trzech Polaków: Łukasza Brzeskiego\, Roberta Bryczka i Marcina Prachnio. \nUFC 304: Edwards vs. Muhammad 2 – Kursy i zakłady bukmacherskie\nGalę UFC 304: Edwards vs. Muhammad 2 w całości obstawicie u bukmachera eFortuna.pl. Na start czekają na Was liczne bonusy. Za rejestrację i depozyt otrzymacie darmowe 30 zł. Do tego trzy pierwsze zakłady do 100 zł obstawicie bez ryzyka! \nOdbieram bonusy na UFC 304: Edwards vs. Muhammad 2 \n \nUFC 304: Edwards vs. Muhammad 2 – Karta walk\nWalka wieczoru: \n\nLeon Edwards (22-3) vs. Belal Muhammad (23-3) –  walka o pas kategorii półśredniej UFC\n\nKarta główna: \n\nTom Aspinall (14-3) vs. Curtis Blaydes (18-4) –  walka o tymczasowy pas wagi ciężkiej UFC\nArnold Allen (19-3) vs. Giga Chikadze (15-3)\nMuhammad Mokaev (11-0) vs. Manel Kape (19-6)\nBobby Green (32-15-1) vs. Paddy Pimblett (21-3)\n\nKarta wstępna: \n\nNathaniel Wood (19-6) vs. Daniel Pineda (28-15)\nShauna Bannon (5-1) vs. Ravena Oliveira (7-2-1)\nMolly McCann (14-6) vs. Bruna Brasil (9-4-1)\nCaolán Loughran (9-1) vs. Ramon Taveras (10-2)\nOban Elliott (10-2) vs. Preston Parsons (11-4)\nMick Parkin (9-0) vs. Łukasz Brzeski (9-4-1)\nChristian Leroy Duncan (10-1) vs. Robert Bryczek (17-6)\nSam Patterson (11-2-1) vs. Kiefer Crosbie (10-4)\nModestas Bukauskas (15-6) vs. Marcin Prachnio (17-7)\n\nOstatnia zmiana: 21.06.2024 r.
URL:https://strefamma.pl/event/ufc-304-edwards-vs-muhammad-2/
LOCATION:Manchester\, Manchester\, United Kingdom
ATTACH;FMTTYPE=image/jpeg:https://strefamma.pl/wp-content/uploads/2024/06/UFC-304-Edwards-vs.-Muhammad-2.jpg
END:VEVENT
END:VCALENDAR