BEGIN:VCALENDAR
VERSION:2.0
PRODID:-//StrefaMMA.pl - Portal sportów walki - ECPv5.16.3.1//NONSGML v1.0//EN
CALSCALE:GREGORIAN
METHOD:PUBLISH
X-ORIGINAL-URL:https://strefamma.pl
X-WR-CALDESC:Wydarzenia dla StrefaMMA.pl - Portal sportów walki
REFRESH-INTERVAL;VALUE=DURATION:PT1H
X-Robots-Tag:noindex
X-PUBLISHED-TTL:PT1H
BEGIN:VTIMEZONE
TZID:Europe/Warsaw
BEGIN:DAYLIGHT
TZOFFSETFROM:+0100
TZOFFSETTO:+0200
TZNAME:CEST
DTSTART:20240331T010000
END:DAYLIGHT
BEGIN:STANDARD
TZOFFSETFROM:+0200
TZOFFSETTO:+0100
TZNAME:CET
DTSTART:20241027T010000
END:STANDARD
END:VTIMEZONE
BEGIN:VEVENT
DTSTART;TZID=Europe/Warsaw:20240531T190000
DTEND;TZID=Europe/Warsaw:20240601T020000
DTSTAMP:20260420T170642
CREATED:20240528T063716Z
LAST-MODIFIED:20240528T063716Z
UID:101852-1717182000-1717207200@strefamma.pl
SUMMARY:GROMDA 17: VABANK
DESCRIPTION:Już 31 maja w Mieście Grzechu dojdzie do wyczekiwanego rewanżu w walce na gołe pięści. Mateusz „Don Diego” Kubiszyn stanie do obrony pasa mistrzowskiego\, który zdobył w walce z Bartłomiejem „Balboą” Domalikiem. \nW piątek 31 maja czekają nas kolejne niesamowite emocje i brutalne walki na gołe pięści! Galę GROMDA 17: VABANK zakończy pojedynek o pas mistrzowski organizacji\, którego bronić będzie Mateusz „Don Diego” Kubiszyn. Jego przeciwnikiem po raz kolejny będzie król nokautów\, Bartłomiej „Balboa” Domalik. \nTransmisja z gali GROMDA 17: Don Diego vs. Balboa 2 będzie dostępna wyłącznie w systemie PPV na GROMDA.tv. Koszt dostępu PPV wynosi 39\,99 zł. GROMDA oferuje także droższe pakiety z wyższą jakością transmisji. \n \nGROMDA 17: Karta walk\nPełna karta walk znana będzie po oficjalnej ceremonii losowania\, która odbędzie się we czwartek 30 maja. \nOstatnia zmiana: 28.05.2024 r.
URL:https://strefamma.pl/event/gromda-17-vabank/
LOCATION:Gromda Fight Club\, Pionki\, Mazowieckie\, Poland
ATTACH;FMTTYPE=image/jpeg:https://strefamma.pl/wp-content/uploads/2024/05/GROMDA-17-juz-w-ten-piatek-Wielki-rewanz-Don-Diego-vs.-Balboa.jpg
END:VEVENT
BEGIN:VEVENT
DTSTART;TZID=Europe/Warsaw:20240601T220000
DTEND;TZID=Europe/Warsaw:20240602T070000
DTSTAMP:20260420T170642
CREATED:20240513T115915Z
LAST-MODIFIED:20240601T123343Z
UID:100511-1717279200-1717311600@strefamma.pl
SUMMARY:UFC 302: Makhachev vs. Poirier
DESCRIPTION:W nocy z soboty 1 czerwca na niedzielę 2 czerwca czeka nas gala UFC 302. W walce wieczoru Dustin Poirier stanie przed kolejną szansą na zostanie mistrzem wagi lekkiej. Jego przeciwnikiem będzie oczywiście Islam Makhachev. \nIslam Makhachev i Dustin Poirier zmierzą się w main evencie gali w Prudential Center w Newark. Dla „Diamentu” będzie to już trzecia szansa na zostanie mistrzem. Wcześniej dwukrotnie klubowy kolega Mateusza Gamrota przegrywał przed czasem. W grudniu 2021 roku Charles Oliveira poddał go duszeniem zza pleców. Podobnie zresztą\, jak wcześniej Khabib Nurmagomedov. \nIslam Makhachev dominuje kategorię lekką i w październiku brutalnie znokautował Volkanovskiego. Dagestańczyk kontynuuje swoje panowanie\, a Dustin Poirier ma być kolejnym cennym skalpem w rekordzie. \nPodczas UFC 302 do klatki wróci też Michał Oleksiejczuk. „Husarz” zmierzy się z Kevinem Hollandem\, a pojedynek ten znalazł się w karcie głównej gali. W co-main evencie zobaczymy z kolei potyczkę Strickland vs. Costa/ \nKursy i zakłady na UFC 302: Makhachev vs. Poirier\nGalę UFC 302: Makhachev vs. Poirier w całości obstawicie u bukmachera eFortuna.pl. Na start czekają na Was liczne bonusy. Za rejestrację i depozyt otrzymacie darmowe 30 zł. Do tego trzy pierwsze zakłady do 100 zł obstawicie w całości bez ryzyka! \nOdbieram bonusy na UFC 302: Makhachev vs. Poirier! \n \nUFC 302: Makhachev vs. Poirier – KARTA WALK\nWalka wieczoru: \n\nIslam Makhachev (25-1) vs. Dustin Poirier (30-8) – walka o pas kategorii lekkiej UFC\n\nKarta główna: \n\nSean Strickland (28-6) vs. Paulo Costa (14-3)\nKevin Holland (25-11) vs. Michał Oleksiejczuk (19-7)\nNiko Price (15-7) vs. Alex Morono (24-9)\nRandy Brown (18-5) vs. Elizeu Zaleski (24-7-1)\n\nKARTA WSTĘPNA: \n\nRoman Kopylov (12-3) vs. Cesar Almeida (5-0)\nJailton Almeida (20-3) vs. Alexandr Romanov (17-2)\nGrant Dawson (20-2-1) vs. Joe Solecki (13-4)\nPhil Rowe (10-4) vs. Jake Matthews (19-7)\nMickey Gall (7-5) vs. Bassil Hafez (8-4-1)\nJoselyne Edwards (13-5) vs. Ailin Perez (9-2)\nMitch Raposo (9-1) vs. Andre Lima (8-0)\n\nOstatnia zmiana 01.06.2024 r.
URL:https://strefamma.pl/event/ufc-302-makhachev-vs-poirier/
LOCATION:Prudential Center\, 25 Lafayette St\, Newark\, 07102\, United States
ATTACH;FMTTYPE=image/jpeg:https://strefamma.pl/wp-content/uploads/2024/05/UFC-302-Makhachev-vs.-Poirier.jpg
END:VEVENT
BEGIN:VEVENT
DTSTART;TZID=Europe/Warsaw:20240607T190000
DTEND;TZID=Europe/Warsaw:20240607T233000
DTSTAMP:20260420T170642
CREATED:20240414T005114Z
LAST-MODIFIED:20240607T072731Z
UID:98370-1717786800-1717803000@strefamma.pl
SUMMARY:KSW 95: Wikłacz vs. Przybysz 5
DESCRIPTION:Organizacja KSW po raz pierwszy zawita do Olsztyna. W walce wieczoru tego wydarzenia lokalny bohater i mistrz wagi koguciej Jakub Wikłacz (15-3-2\, 9 Sub) stanie do rywalizacji z Sebastianem Przybyszem (12-3-1\, 5 KO\, 4 Sub)\, numerem jeden rankingu tej kategorii wagowej. \nHistoria rywalizacji Jakuba Wikłacza z Sebastianem Przybyszem jest bardzo długa. Do ich pierwszej walki doszło w roku 2017 i wówczas to Jakub był górą pokonując Sebastiana na punkty. Trzy lata później\, już w klatce KSW\, Sebastian zrewanżował się za pierwszą przegraną i znokautował Jakuba w trzeciej rundzie pojedynku\, co otworzyło mu drzwi do walki o pas\, który zdobył pokonując Antun Račicia. W grudniu roku 2022 Sebastian\, już jako mistrz\, starł się z Jakubem po raz trzeci i przegrał rywalizację na pełnym dystansie fenomenalnego\, pięciorundowego pojedynku. \nStarcie to zostało wybrane najlepszą walką wieczoru gali XTB KSW 77. Panowie pozostali jednak na kursie kolizyjnym i we wrześniu roku 2023 doszło do kolejnej konfrontacji\, która ponownie dostarczyła niesamowitych emocji\, ale zakończyła się faulem i remisem. Pod koniec czwartej rundy Wikłacz zaatakował nielegalnym kopnięciem na głowę Przybysza\, który był w parterze i starcie zostało przerwane. Po kontroli lekarza zapadła decyzja\, że Sebastian Przybysz nie może kontynuować walki. Sędzia zdecydował\, że nielegalne kopnięcie nie było intencjonalne\, więc odebrał dwa punkty Jakubowi Wikłaczowi i po podliczeniu kart punktowych konfrontacja zakończyła się remisem\, a Jakub Wikłacz pozostał mistrzem wagi koguciej. Po tym starciu Wikłacz obronił tytuł w fenomenalnym pojedynku z Zuriko Jojuą. Teraz jednak ponownie stanie do walki z Sebastianem Przybyszem\, aby ostatecznie rozstrzygnąć ich wieloletnią rywalizację. \nKursy i zakłady na KSW 95: Wikłacz vs. Przybysz 5\nGalę KSW 95: Wikłacz vs. Przybysz 5 w całości obstawicie u bukmachera eFortuna.pl. Na start czekają na Was liczne bonusy. Za rejestrację i depozyt otrzymacie darmowe 30 zł. Do tego trzy pierwsze zakłady do 100 zł obstawicie w całości bez ryzyka! \nOdbieram bonusy na KSW 95: Wikłacz vs. Przybysz 5! \n \nKarta walk KSW 95\nWalka wieczoru: \n\n61\,2 kg/135 lb: Jakub Wikłacz #C (15-3-2\, 9 Sub) vs. Sebastian Przybysz #1 (12-3-1\, 5 KO\, 4 Sub) – Walka o pas mistrzowski wagi koguciej KSW\n\nKarta główna: \n\n70\,3 kg/155 lb: Roman Szymański #6 (17-8\, 4 KO\, 4 Sub) vs. Marcin Held #7 (28-10\, 4 KO\, 15 Sub)\n77\,1 kg/170 lb: Brian Hooi #5 (19-11 1NC\, 7 KO\, 6 Sub) vs. Tymoteusz Łopaczyk (11-3\, 6 KO\, 3 Sub)\n77\,1 kg/170 lb: Adrian Zieliński (24-13\, 8 KO\, 6 Sub) vs. Oskar Szczepaniak (6-1\, 3 KO)\n61\,2 kg/135 lb: Patryk Surdyn #8 (7-4\, 1 KO\, 2 Sub) vs. Shamad Erzanukaev (2-0\, 1 Sub)\n83\,9 kg/185 lb: Krystian Bielski (9-6\, 4 KO\, 1 Sub) vs. Borys Dzikowski (3-1\, 2 KO)\n93 kg/205 lb: Michał Dreczkowski #9 (4-0\, 2 KO) vs. Stevan Jarić (4-1\,1 KO\, 1 Sub)\n77\,1 kg/170 lb: Dawid Kuczmarski (5-0) vs. Morgann Gbolou (4-2\, 1 KO\, 2 Sub)\nOstatnia zmiana: 07.06.2024 r.
URL:https://strefamma.pl/event/ksw-95-wiklacz-vs-przybysz-5/
LOCATION:Olsztyn\, OLSZTYN\, Poland
ATTACH;FMTTYPE=image/jpeg:https://strefamma.pl/wp-content/uploads/2024/04/KSW-95-PRZYBYSZ-WIKLACZ.jpg
END:VEVENT
BEGIN:VEVENT
DTSTART;TZID=Europe/Warsaw:20240608T190000
DTEND;TZID=Europe/Warsaw:20240609T020000
DTSTAMP:20260420T170642
CREATED:20240603T204130Z
LAST-MODIFIED:20240603T204130Z
UID:102714-1717873200-1717898400@strefamma.pl
SUMMARY:Clout MMA 5
DESCRIPTION:W sobotę 8 czerwca organizacja Clout MMA zawita do Katowic. W legendarnym Spodku odbędzie się piąta gala freakowej organizacji. \nW rozpisce tradycyjnie nie brakuje starcia typowo sportowego. Pojedynek byłego zawodnika KSW w osobie Gracjana Szadzińskiego i UFC w osobie SalimaTouahriego odbędzie się na brutalnych zasadach PRIDE. \nJedną z najważniejszych walk gali jest zdecydowanie starcie Denis Załęcki vs. „Ferrari”. Panowie słyną z ostrego języka\, co też mogliśmy obejrzeć na programach zapowiadających Clout MMA 5. \nKURSY BUKMACHERSKIE\nGalę Clout MMA 4 w całości obstawisz tylko i wyłącznie na stronie i w aplikacji bukmachera Fortuna. Za rejestrację i depozyt otrzymasz darmowe 30 zł. Oprócz tego dostaniesz trzy zakłady bez ryzyka do 100 zł. To znaczy\, że stawkę do 100 zł za pierwsze kupony  Fortuna zwróci Ci na konto! \n \nClout MMA 5: Karta walk\nWalka wieczoru: \n\nAdam Josef vs. Kacper Błoński\nAdam Josef vs. Zbigniew Bartman\n\nKarta główna: \n\nAmadeusz „Ferrari” Roślik (6-5) vs. Denis Załęcki (0-2)\nDominik „Mokry Suchar” Stokłosa vs. Patryk „Patiro” Grzywacz\nTomasz Matysiak (1-1) vs. Jakub Rzeźniczak (0-0)\nWiktoria Jaroniewska (2-1) vs. Marianna Schreiber (1-0)\nNatan Marcoń (0-2) vs. Łukasz „Cameraboy” Pawłowski (0-0)\nMarcel Gawroński (1-0) vs. Szymon Bronowicz (0-0)\nPrzemysław Skulski (1-1) vs. Piotr Bomba (0-0)\nGracjan Szadziński (9-6) vs. Salim Touahri (10-4)\n\nOstatnia zmiana: 03.06.2024 r.
URL:https://strefamma.pl/event/clout-mma-5/
LOCATION:Spodek\, al. Wojciecha Korfantego 35\, Katowice\, Śląskie\, 40-005\, Poland
ATTACH;FMTTYPE=image/png:https://strefamma.pl/wp-content/uploads/2024/06/Clout-MMA-5-wydarzenie-EVENT.png
END:VEVENT
BEGIN:VEVENT
DTSTART;TZID=Europe/Warsaw:20240616T010000
DTEND;TZID=Europe/Warsaw:20240616T083000
DTSTAMP:20260420T170642
CREATED:20240613T032627Z
LAST-MODIFIED:20240613T032627Z
UID:103786-1718499600-1718526600@strefamma.pl
SUMMARY:UFC Vegas 93: Perez vs. Taira
DESCRIPTION:W nocy z soboty 15 czerwca na niedzielę 16 czerwca odbędzie się gala UFC Vegas 93. W walce wieczoru dojdzie do kolizji zawodników z top 15 kategorii muszej. \nNiepokonany Tatsuro Taira ma na swoim koncie 5 występów w oktagonie UFC i wszystkie z nich zakończyły się wygraną. Japończyk aż 3. swoich rywali kończył przed czasem\, dwóch poddając\, a jednego nokautując. \nPodczas UFC Vegas 93 jego rywalem będzie Alex Perez. Doświadczony Amerykanin przed kilkoma miesiącami przerwał serię 3. porażek z rzędu\, choć pokonywali go byli lub mistrzowie w osobie Deivesona Figueiredo oraz Alexandre Pantoji\, czy Muhammad Mokaev. \nKursy i zakłady na UFC Vegas 93: Perez vs. Taira\nGalę UFC Vegas 93: Perez vs. Taira w całości obstawicie u bukmachera eFortuna.pl. Na start czekają na Was liczne bonusy. Za rejestrację i depozyt otrzymacie darmowe 30 zł. Do tego trzy pierwsze zakłady do 100 zł obstawicie w całości bez ryzyka! \nOdbieram bonusy na UFC Vegas 93: Perez vs. Taira! \n \nKarta walk UFC Vegas 93\nWalka wieczoru: \n\nAlex Perez (25-8) vs. Tatsuro Taira (15-0)\n\nKart główna: \n\nIkram Aliskerov (15-1) vs. Antonio Trócoli (12-3)\nLucas Almeida (14-3) vs. Timmy Cuamba (8-2)\nMiles Johns (14-2) vs. Douglas Silva de Andrade (29-5)\nAsu Almabaev (19-2) vs. Jose Johnson (16-8)\nAdam Fugitt (9-4) vs. Josh Quinlan (6-2)\n\nKarta wstępna: \n\nTagir Ulanbekov (15-2) vs. Joshua Van (10-1)\nNate Maness (15-3) vs. Jimmy Flick (17-7)\nGarrett Armfield (10-3) vs. Brady Hiestand (7-2)\nCarli Judice (3-1) vs. Gabriella Fernandes (8-3)\nJeka Saragih (14-3) vs. Westin Wilson (16-9)\nJulia Polastri (12-3) vs. Josefine Knutsson (7-0)\nShayilan Nuerdanbieke (39-11) vs. Melquizael Cost (20-7)\n\nOstatnia zmiana: 13.06.2024 r.
URL:https://strefamma.pl/event/ufc-vegas-93-perez-vs-taira/
LOCATION:Las Vegas\, UFC Apex
ATTACH;FMTTYPE=image/jpeg:https://strefamma.pl/wp-content/uploads/2024/06/UFC-Vegas-93-Perez-vs.-Taira.jpg
END:VEVENT
BEGIN:VEVENT
DTSTART;TZID=Europe/Warsaw:20240622T180000
DTEND;TZID=Europe/Warsaw:20240623T010000
DTSTAMP:20260420T170642
CREATED:20240621T193114Z
LAST-MODIFIED:20240621T193114Z
UID:104196-1719079200-1719104400@strefamma.pl
SUMMARY:UFC: Whittaker vs. Aliskerov
DESCRIPTION:W sobotni wieczór 22 czerwca odbędzie się gala UFC w Rijadzie. W walce wieczoru Robert Whittaker zmierzy się z Ikramem Aliskerovem. \nByły mistrz wagi średniej UFC wraca do oktagonu po kolejne w tym roku zwycięstwo. W ubiegłym roku znokautował go Du Plessis\, ale w lutym Whittaker pokonał przez decyzję Costę. Podczas gali w Arabii Saudyjskiej „The Reaper” miał zmierzyć się z Khamzatem Chimaevem\, który jednak wycofał się z powodu urazu. W jego miejsce wskoczył Rosjanin Ikram Aliskerov. \nUFC: Whittaker vs. Aliskerov – Typy\, kursy i zakłady bukmacherskie\nGalę UFC: Whittaker vs. Aliskerov w całości obstawicie u bukmachera eFortuna.pl. Na start czekają na Was liczne bonusy. Za rejestrację i depozyt otrzymacie darmowe 30 zł. Do tego trzy pierwsze zakłady do 100 zł obstawicie w całości bez ryzyka! \nOdbieram bonusy na UFC: Whittaker vs. Aliskerov! \n \nUFC: Whittaker vs. Aliskerov: Karta walk\nWalka wieczoru: \n\nRobert Whittaker (25-7) vs. Ikram Aliskerov (15-1)\n\nKarta główna: \n\nSergei Pavlovich (18-2) vs. Alexander Volkov (37-10)\nKelvin Gastelum (18-9) vs. Daniel Rodriguez (17-4)\nShara Magomedov (12-0) vs. Antonio Trócoli (12-3)\nJohnny Walker (21-8) vs. Volkan Oezdemir (19-7)\n\nKarta wstępna: \n\nNasrat Haqparast (16-5) vs. Jared Gordon (20-6)\nMuhammad Naimov (11-2) vs. Felipe Lima (12-1)\nRinat Fakhretdinov (22-2-1) vs. Nicolas Dalby (23-4-1)\nMuin Gafurov (18-6) vs. Kyung Ho Kang (19-10)\nMagomed Gadzhiyasulov (8-0) vs. Brendson Ribeiro (15-6)\nLong Xiao (26-8) vs. Chang Ho Lee (9-1)\n\nOstatnia zmiana: 21.06.2024 r.
URL:https://strefamma.pl/event/ufc-whittaker-vs-aliskerov/
LOCATION:Rijad\, Rijad\, Saudi Arabia
ATTACH;FMTTYPE=image/jpeg:https://strefamma.pl/wp-content/uploads/2024/06/UFC-Whittaker-vs.-Aliskerov.jpg
END:VEVENT
BEGIN:VEVENT
DTSTART;TZID=Europe/Warsaw:20240629T220000
DTEND;TZID=Europe/Warsaw:20240630T080000
DTSTAMP:20260420T170642
CREATED:20240513T130159Z
LAST-MODIFIED:20240629T095912Z
UID:100515-1719698400-1719734400@strefamma.pl
SUMMARY:UFC 303: Pereira vs. Prochazka 2
DESCRIPTION:Na koniec czerwca UFC zorganizuje International Fight Week. Święto kibiców największej organizacji MMA zwieńczy gala z rewanżem Alexa Pereiry i Jiriego Prochazki.  \nPodczas UFC 303 do oktagonu miał powrócić Conor McGregor. Irlandczyk jednak w obliczu kontuzji zmuszony był wycofać się z wydarzenia. Urazu doznał też Jamahal Hill\, przez co wypadł z pojedynku z Carlosem Ulbergiem. Organizacja natychmiast zareagowała na te doniesienia i ogłosiła nowy main event gali w postaci rewanżu o pas wagi półciężkiej: Alex Pereira vs. Jiri Prochazka. \nUFC 303 – Kursy i zakłady bukmacherskie \nGalę UFC 303: Pereira vs. Prochazka 2 w całości obstawicie u bukmachera eFortuna.pl. Na start czekają na Was liczne bonusy. Za rejestrację i depozyt otrzymacie darmowe 30 zł. Do tego trzy pierwsze zakłady do 100 zł obstawicie w całości bez ryzyka! \nOdbieram bonusy na UFC UFC 303: Pereira vs. Prochazka 2! \n \nKARTA WALK – UFC 303: Pereira vs. Prochazka 2\nWalka wieczoru: \n\nAlex Pereira (10-2) vs. Jiří Procházka (30-4-1)- o pas kategorii półciężkiej\n\nKarta główna: \n\nBrian Ortega (16-3) vs. Diego Lopes (24-6)\nMayra Bueno Silva (10-3-1) vs. Macy Chiasson (9-3)\nAnthony Smith (38-19) vs. Roman Dolidze (12-3)\nIan Machado Garry (14-0) vs. Michael Page (22-2)\n\nKarta wstępna: \n\nJoe Pyfer (12-3) vs. Marc-André Barriault (16-7)\nCub Swanson (29-13) vs. Andre Fili (23-11)\nCharles Jourdain (15-7-1) vs. Jean Silva (12-2)\nPayton Talbott (8-0) vs. Yanis Ghemmouri (12-2)\nMichelle Waterson-Gomez (18-12) vs. Gillian Robertson (13-8)\nAndrei Arlovski (34-23) vs. Martin Buday (13-2)\nCarlos Hernandez (9-3) vs. Rei Tsuruya (9-0)\nRicky Simón (20-5) vs. Vinicius Oliveira (20-3)\n\nOstatnia zmiana: 29.06.2024 r.
URL:https://strefamma.pl/event/ufc-303-pereira-vs-prochazka-2/
LOCATION:T-Mobile Arena\, 3780 Las Vegas Blvd S\, Las Vegas\, 89158\, United States
ATTACH;FMTTYPE=image/png:https://strefamma.pl/wp-content/uploads/2024/05/UFC-303-Pereira-vs.-Prochazka-2.png
END:VEVENT
END:VCALENDAR