BEGIN:VCALENDAR
VERSION:2.0
PRODID:-//StrefaMMA.pl - Portal sportów walki - ECPv5.16.3.1//NONSGML v1.0//EN
CALSCALE:GREGORIAN
METHOD:PUBLISH
X-ORIGINAL-URL:https://strefamma.pl
X-WR-CALDESC:Wydarzenia dla StrefaMMA.pl - Portal sportów walki
REFRESH-INTERVAL;VALUE=DURATION:PT1H
X-Robots-Tag:noindex
X-PUBLISHED-TTL:PT1H
BEGIN:VTIMEZONE
TZID:Europe/Warsaw
BEGIN:DAYLIGHT
TZOFFSETFROM:+0100
TZOFFSETTO:+0200
TZNAME:CEST
DTSTART:20240331T010000
END:DAYLIGHT
BEGIN:STANDARD
TZOFFSETFROM:+0200
TZOFFSETTO:+0100
TZNAME:CET
DTSTART:20241027T010000
END:STANDARD
END:VTIMEZONE
BEGIN:VEVENT
DTSTART;TZID=Europe/Warsaw:20240203T220000
DTEND;TZID=Europe/Warsaw:20240204T070000
DTSTAMP:20260420T233424
CREATED:20240203T135340Z
LAST-MODIFIED:20240203T150939Z
UID:90513-1706997600-1707030000@strefamma.pl
SUMMARY:UFC Vegas 85: Dolidze vs. Imavov
DESCRIPTION:W jednym z narożników stanie Roman Dolidze\, który zajmuje 8. pozycję w rankingu UFC. Gruziński zawodnik jest jedynym\, który zdołał znokautować Michała Pasternaka. „The Cucasian” przegrał blisko rok temu z Marvinem Vettorim\, co przerwało jego serię 4. kolejnych zwycięstw. \n\n\n\nRywalem Dolidze będzie Nassourdine Imavov. Francuz z Dagestanu mógł mówić o sporym pechu w ostatnich pojedynkach. Najpierw były mistrz wagi średniej Sean Strickland pokonał go jednogłośną decyzją\, a następnie „Russian Sniper” zderzył się głowami z Chrisem Curtisem\, co zakończyło ich starcie przez No Contest. Mimo wszystko to właśnie Imavov był zdecydowanym faworytem bukmacherów. \n\n\n\nObstaw i oglądaj UFC Vegas 85 na żywo!\n\n\n\nWszystkie walki UFC Vegas 85 obstawić możecie u bukmachera eFortuna.pl. Grając jakikolwiek zakład za dowolną stawkę otrzymujecie też dostęp do Fortuna TV\, gdzie możecie obejrzeć galę na żywo! \nJeśli jeszcze nie posiadacie konta\, możecie skorzystać z kapitalnej oferty powitalnej. Nowi gracze otrzymają 20 zł za rejestrację i dodatkowe 10 zł do pierwszego depozytu. Co więcej trzy pierwsze zakłady do 100 zł obstawicie bez ryzyka! W przypadku przegranej Fortuna zwróci stawkę na konto gracza. \nOdbierz bonusy na UFC Vegas 85! \n \nKARTA WALK\nWalka wieczoru: \n\nRoman Dolidze (12-2-0) vs Nassourdine Imavov (12-4-0)\n\nKarta główna: \n\nRenato Moicano (17-5-1) vs Drew Dober (27-12-0\nRandy Brown (17-5-0) vs Muslim Salikhov (19-4-0\nViviane Araujo (12-5-0) vs Natália Silva (16-5-1)\nAliaskhab Khizriev (14-0-0) vs Makhmud Muradov (26-8-0)\nGilbert Urbina (7-2-0) vs Charles Radtke (8-3-0)\n\nKarta wstępna: \n\nMolly McCann (13-6-0) vs Diana Belbiţă (15-8-0)\nCharles Johnson (13-6-0) vs Azat Maksum (17-0-0)\nThemba Gorimbo (11-4-0) vs Pete Rodriguez (5-1-0)\nBlake Bilder (8-1-1) vs Jeong Yeong Lee (10-1-0)\nJulija Stoliarenko (11-7-1) vs Luana Carolina (9-4-0)\nMarQuel Mederos (8-1-0) vs Landon Quiñones (7-2-1)\nThomas Petersen (8-1-0) vs Jamal Pogues (10-4-0)\n\nOstatnia zmiana: 03.02.2024 r.
URL:https://strefamma.pl/event/ufc-vegas-85-dolidze-vs-imavov/
LOCATION:Las Vegas\, UFC Apex
ATTACH;FMTTYPE=image/jpeg:https://strefamma.pl/wp-content/uploads/2024/02/UFC-Vegas-85.jpg
END:VEVENT
BEGIN:VEVENT
DTSTART;TZID=Europe/Warsaw:20240210T190000
DTEND;TZID=Europe/Warsaw:20240211T010000
DTSTAMP:20260420T233424
CREATED:20240128T175115Z
LAST-MODIFIED:20240206T124544Z
UID:90132-1707591600-1707613200@strefamma.pl
SUMMARY:FAME MMA 20
DESCRIPTION:Już 10 lutego odbędzie się jubileuszowa gala: Fame MMA 20. W Tauron Arenie nie zabraknie wielu ekscytujących walk. \nOglądaj FAME 20 na żywo\nPo raz kolejny Tauron Arena będzie gościła największą europejską federację freak fights. Gala 10 lutego będzie pełna w hitowe debiuty i powroty. Pierwszą walkę stoczy Jakub Kosecki\, który ma na koncie występy w reprezentacji Polski i Legii Warszawa. W co-main evencie z kolei do akcji powróci Kasjusz „Don Kasjo” Życiński. \nDodatkowo tego wieczoru odbędzie się wyjątkowy turniej K-1\, w którym w stawce znajdują się aż 2 miliony złotych! Wśród uczestników znaleźć można m. in. „Ferrariego”\, „Polaka„\, czy podwójnego mistrza FAME – „Wiewióra”. \nGdzie oglądać Fame MMA? Transmisja dostępna będzie wyłącznie w systemie PPV. \nKARTA WALK\nWalka wieczoru:\n \n\nTBA vs TBA – Finał turnieju FAME MMA 20\n\nKarta główna: \n\nKasjusz Życiński vs Michał „Boxdel” Baron\nDariusz „Daro Lew” Kaźmierczuk vs Marcin „Xayoo” Majkut\nTBA vs TBA – Półfinał turnieju FAME MMA 20\nTBA vs TBA – Półfinał turnieju FAME MMA 20\nŁukasz „Tuszol” Tuszyński vs Jakub „Kosa” Kosecki\nNorman Parke vs Michał Pasternak\nArkadiusz Tańcula vs Maksymilian „Wiewiór” Wiewiórka – Ćwierćfinał turnieju FAME MMA 20\nAmadeusz „Ferrari” Roślik vs Krystian „Krycha” Wilczak – Ćwierćfinał turnieju FAME MMA 20\nAdrian „Polak” Polański vs Josef Bratan – Ćwierćfinał turnieju FAME MMA 20\nFilip „Filipek” Marcinek vs Dawid Malczyński – Ćwierćfinał turnieju FAME MMA 20\nNatan Marcoń vs Piotr „Szeli” Szeliga\nMarta „Murcix” Błoch vs Paulina Kozłowska\nTomasz Olejnik vs Wiktor Wronka\n\nOstatnia zmiana: 06.02.2024 r.
URL:https://strefamma.pl/event/fame-mma-20/
LOCATION:Kraków\, Tauron Arena
ATTACH;FMTTYPE=image/jpeg:https://strefamma.pl/wp-content/uploads/2024/01/FAME-MMA-20.jpg
END:VEVENT
BEGIN:VEVENT
DTSTART;TZID=Europe/Warsaw:20240210T220000
DTEND;TZID=Europe/Warsaw:20240211T080000
DTSTAMP:20260420T233424
CREATED:20240206T103958Z
LAST-MODIFIED:20240206T103958Z
UID:90646-1707602400-1707638400@strefamma.pl
SUMMARY:UFC Vegas 86: Hermansson vs. Pyfer
DESCRIPTION:W weekend z 10 na 11 lutego dojdzie do kolejnej gali UFC Vegas\, na której wystąpią aż dwaj Polacy. Kolejną walkę stoczy Marcin Prachnio\, a debiutu doczeka się Robert Bryczek. \nTrenujący na co dzień w Holandii Prachnio już po raz dziewiąty stawi się w oktagonie największej organizacji MMA na świecie. Marcin trafił do amerykańskiego giganta po serii 4. walk w ONE Championship\, ale nie potrafi ustabilizować formy. Polski zawodnik w ostatnich 5. pojedynkach zanotował 2. porażki\, choć odniósł też 3 przekonujące wygrane. \nPo wielu miesiącach oczekiwania w oktagonie stawi się też Robert Bryczek. Były podopieczny Mirosława Oknińskiego ma już 33 lata\, ale wciąż uważa\, że może zwojować kategorię średnią UFC. Biało-czerwony do debiutu podchodzi na fali 5. kolejnych wiktorii\, a wszystkie je odnosił po nokautach. \nKursy bukmacherskie\nWszystkie walki UFC Vegas 86 obstawić możecie u bukmachera eFortuna.pl. Grając jakikolwiek zakład za dowolną stawkę otrzymujecie też dostęp do Fortuna TV\, gdzie możecie obejrzeć galę na żywo! \nJeśli jeszcze nie posiadacie konta\, możecie skorzystać z kapitalnej oferty powitalnej. Nowi gracze otrzymają 20 zł za rejestrację i dodatkowe 10 zł do pierwszego depozytu. Co więcej trzy pierwsze zakłady do 100 zł obstawicie bez ryzyka! W przypadku przegranej Fortuna zwróci stawkę na konto gracza. \nOdbierz bonusy na UFC Vegas 86! \n \nKARTA WALK\nWielka wieczoru: \n\nJack Hermansson (23-8-0) vs Joe Pyfer (12-2-0)\n\nKarta główna: \n\nDan Ige (17-7-0) vs Andre Fili (23-10-0)\nIhor Potieria (20-5-0) vs Robert Bryczek (17-5-0)\nBrad Tavares (20-8-0) vs Gregory Rodrigues (14-5-0)\nMichael Johnson (21-19-0) vs Darrius Flowers (12-6-1)\nRodolfo Vieira (9-2-0) vs Armen Petrosyan (8-2-0)\n\nKarta wstępna: \n\nTrevin Giles (16-5-0) vs Carlos Prates (17-6-0)\nBolaji Oki (8-1-0) vs Damir Hadžović (14-7-0)\nLoma Lookboonmee (8-3-0) vs Bruna Brasil (9-3-1)\nDevin Clark (14-8-0) vs Marcin Prachnio (16-7-0)\nJeremiah Wells (12-3-1) vs Max Griffin (19-10-0)\nZac Pauga (6-2-0) vs Bogdan Guskov (14-3-0)\nHyder Amil (8-0-0) vs Fernie Garcia (10-4-0)\nDaniel Marcos (15-0-0) vs Aoriqileng (25-11-0)\n\nOstatnia zmiana: 06.02.2024 r.
URL:https://strefamma.pl/event/ufc-vegas-86-hermansson-vs-pyfer/
LOCATION:Las Vegas\, UFC Apex
ATTACH;FMTTYPE=image/jpeg:https://strefamma.pl/wp-content/uploads/2024/02/UFC-Vegas-86-Hermansson-vs.-Pyfer.jpg
END:VEVENT
BEGIN:VEVENT
DTSTART;TZID=Europe/Warsaw:20240217T190000
DTEND;TZID=Europe/Warsaw:20240218T010000
DTSTAMP:20260420T233424
CREATED:20231218T085508Z
LAST-MODIFIED:20240212T140850Z
UID:87726-1708196400-1708218000@strefamma.pl
SUMMARY:KSW 91: Mircea vs Brichta
DESCRIPTION:W lutym organizacja KSW ponownie odwiedzi Czechy. Tym razem galę uświetni pojedynek o tymczasowy pas wagi lekkiej. \nLiberec po raz kolejny będzie miał przyjemność gościć galę największej polskiej organizacji MMA. Poprzednie wydarzenia przyniosły masę emocji\, czego najlepszym przykładem jest oczywiście walka Arkadiusz Wrzosek – Tomas Mozny. \nMain eventem KSW 91 będzie pojedynek o tymczasowy pas wagi lekkiej. Valeriu Mircea na fali 3. kolejnych zwycięstw zmierzy się o ten tytuł z Leo Brichtą. Obaj panowie w swoich ostatnich starciach pokonywali Romana Szymańskiego. \nW Libercu kolejną walkę miał zaliczyć Albert Odzimkowski. „Złoty” kapitalnie pokazał się w Radomiu nokautując Bueno w 2. rundzie. Z rozpiski KSW 91 wypadł jednak z powodu kontuzji. Jego miejsce w starciu z Dominikiem Humburgerem zajął Adrian Dudek. \nKursy bukmacherskie\nGalę KSW 91 w całości obstawicie u bukmachera eFortuna.pl. Na start czekają na Was liczne bonusy. Za rejestrację otrzymacie darmowe 20 zł\, a 10 zł zostanie dodane do pierwszego depozytu. Co więcej pierwsze zakłady do 100\, 200 oraz 300 zł obstawicie w całości bez ryzyka! \nOdbieram bonusy na KSW 91! \n \nKARTA WALK\nWalka wieczoru: \n\n70\,3 kg/155 lb: Valeriu Mircea #2 (29-8-1\, 12 KO\, 12 Sub) vs. Leo Brichta #3 (12-3 1NC\, 6 KO\, 4 Sub) – walka o tymczasowy pas kategorii lekkiej KSW\n\nKarta główna: \n\n83\,9 kg/185 lb: Dominik Humburger #10 (7-1\, 6 KO) vs. Adrian Dudek (7-2\, 5 KO\, 1 Sub)\n77\,1 kg/170 lb: Henry Fadipe #10 (14-11-1\, 9 KO\, 3 Sub) vs. Matúš Juráček (10-3\, 3 KO\, 2 Sub)\n77\,1 kg/170 lb: Kacper Koziorzębski (9-6\, 4 KO) vs. Viktor Červinský (4-0\, 1 KO\, 2 Sub)\n68 kg/150 lb: Łukasz Charzewski #9 (12-2 1NC\, 2 KO\, 2 Sub) vs. Michał Sobiech (5-1\, 3 KO)\n93 kg/205 lb: Vasil Ducár (3-2\, 3 KO) vs. Dawid Kasperski (0-0)\n65\,8 kg/145 lb: Josef Štummer (3-1\, 1 Sub) vs. Adrian Wieliczko (2-1\,2 Sub)\n61\,2 kg/135 lb: Mariusz Joniak #10 (11-5\, 1 KO\, 8 Sub) vs. Tobiasz Le (4-1\, 3 KO)\n56\,7 kg/125 lb: Wiktoria Czyżewska (2-1\, 2 KO) vs. Petra Částková (6-6\, 1 KO\, 1 Sub)\n\nOstatnia zmiana: 12.02.2023 r.
URL:https://strefamma.pl/event/ksw-91-mircea-vs-brichta/
LOCATION:Home Credit Arena\, Jeronýmova 570/22\, Liberec\, 460 07\, Czech Republic
ATTACH;FMTTYPE=image/jpeg:https://strefamma.pl/wp-content/uploads/2023/12/KSW-91-Mircea-vs-Brichta.jpg
END:VEVENT
BEGIN:VEVENT
DTSTART;TZID=Europe/Warsaw:20240217T190000
DTEND;TZID=Europe/Warsaw:20240218T010000
DTSTAMP:20260420T233424
CREATED:20240108T112601Z
LAST-MODIFIED:20240125T084042Z
UID:88970-1708196400-1708218000@strefamma.pl
SUMMARY:FEN 52
DESCRIPTION:Już 17 lutego odbędzie się pierwsza w 2024 roku gala Fight Exclusive Night. W jednej z walk do 1. obrony pasa wagi półciężkiej przystąpi Marcin Łazarz\, który zmierzy się z Bartoszem Szewczykiem. \n\nPierwsze starcie obu panów miało miejsce na początku 2023 roku. Wówczas Łazarz wygrał niejednogłośną decyzją sędziów i zagwarantował sobie walkę o pas FEN. Kilka miesięcy później doszło do wyczekiwanego starcia i Polak znokautował Edera de Souzę zasiadając na tronie wagi półciężkiej. \n\n\n\nBartosz Szewczyk od porażki z Łazarzem stoczył 3 walki. Zremisował z Łukaszem Klingerem\, a następnie nokautował Edersona Cristiana Macedo oraz Artema Zemlyakova. \n\n\n\nPodczas FEN 52 debiut w organizacji zaliczy też Jan Ciepłowski. Niepokonany łódzki kibic postawi na szali swój perfekcyjny rekord przeciwko bardziej doświadczonemu Czechowi. Lukáš Chotěnovský nie walczył w MMA od poddania Adriana Błońskiego na FEN 41. \n\n\n\nKursy bukmacherskie\n\n\n\nGalę FEN 52 w całości obstawicie u bukmachera eFortuna.pl. Na start czekają na Was liczne bonusy. Za rejestrację otrzymacie darmowe 20 zł\, a 10 zł zostanie dodane do pierwszego depozytu. Co więcej pierwsze zakłady do 100\, 200 oraz 300 zł obstawicie w całości bez ryzyka! W przypadku przegranej Fortuna zwróci Wam środki. \n\n\n\nOdbierz bonusy na galę FEN 52! \n\n\n\nKursy zostaną dodane po opublikowaniu na stronie bukmachera. \n\nKARTA WALK\nPotwierdzone walki: \n\nMarcin Łazarz (15-9-0) vs Bartosz Szewczyk (7-2-1) – Walka o pas kategorii półciężkiej FEN\nKamil Kraska (9-3-0) vs Aslambek Arsamikov (8-5-0)\nJan Ciepłowski (5-0-0) vs Lukáš Chotěnovský (7-1-0)\nMateusz Olech (4-0-0) vs Paweł Biernat (4-1-0)\nVitaliy Yakimenko (7-1-0) vs Ismaiel Haidari (7-5-0)\nBartłomiej Skowyra (1-1-0) vs Danil Fedenko (0-0-0)\n\nOstatnia zamiana: 25.01.2024 r.
URL:https://strefamma.pl/event/fen-52/
LOCATION:Arena Ostrów\, Andrzeja Kowalczyka 1\, Ostrów Wielkopolski\, Wielkopolska\, 63-400\, Poland
ATTACH;FMTTYPE=image/jpeg:https://strefamma.pl/wp-content/uploads/2024/01/FEN-52.jpg
END:VEVENT
BEGIN:VEVENT
DTSTART;TZID=Europe/Warsaw:20240217T220000
DTEND;TZID=Europe/Warsaw:20240218T090000
DTSTAMP:20260420T233424
CREATED:20240108T115905Z
LAST-MODIFIED:20240212T114918Z
UID:88978-1708207200-1708246800@strefamma.pl
SUMMARY:UFC 298: Volkanovski vs Topuria
DESCRIPTION:W nocy z soboty 17 lutego na niedzielę 18 lutego ogromne emocje przysporzy nam gala UFC 298. W walce wieczoru zobaczymy walkę o pas kategorii piórkowej. \nW main evencie UFC 298 dojdzie do walki o pas wagi piórkowej. Alexander Volkanovski powraca do bronienia swojej korony po tym\, jak ponownie nie udało mu się zdobyć 2. tytułu. Makhachev znokautował go w 1. rundzie\, a teraz Australijczyk będzie chciał udowodnić\, że był to wypadek przy pracy. Naprzeciwko niego stanie młody gniewny Ilia Topuria\, który ma perfekcyjny rekord 14-0-0 i w Anaheim będzie chciał go jedynie poprawić. \nKursy bukmacherskie\nWszystkie walki UFC 298: Volkanovski vs Topuria obstawić możecie u bukmachera eFortuna.pl. Grając jakikolwiek zakład za dowolną stawkę otrzymujecie też dostęp do Fortuna TV\, gdzie możecie obejrzeć galę na żywo! \nJeśli jeszcze nie posiadacie konta\, możecie skorzystać z kapitalnej oferty powitalnej. Nowi gracze otrzymają 20 zł za rejestrację i dodatkowe 10 zł do pierwszego depozytu. Co więcej trzy pierwsze zakłady do 100 zł obstawicie bez ryzyka! W przypadku przegranej Fortuna zwróci stawkę na konto gracza. \nOdbierz bonusy na UFC 298! \n \nKarta walk UFC 298: Volkanovski vs Topuria\n\nAlexander Volkanovski (26-3-0) vs Ilia Topuria (14-0-0) – o pas kategorii piórkowej UFC\n\nKarta główna: \n\nRobert Whittaker (24-7-0) vs Paulo Costa (14-2-0)\nGeoff Neal (15-5-0) vs Ian Machado Garry (13-0-0)\nMerab Dvalishvili (16-4-0) vs Henry Cejudo (16-3-0)\nAnthony Hernandez (11-2-0) vs Roman Kopylov (12-2-0)\n\nKarta wstępna: \n\nAmanda Lemos (13-3-1) vs Mackenzie Dern (13-4-0)\nMarcos Rogério de Lima (21-9-1) vs Justin Tafa (7-3-0)\nRinya Nakamura (8-0-0) vs Carlos Vera (11-3-0)\nMingyang Zhang (16-6-0) vs Brendson Ribeiro (15-5-0)\nJosh Quinlan (6-1-0) vs Danny Barlow (7-0-0)\nVal Woodburn (7-1-0) vs Oban Elliott (9-2-0)\nAndrea Lee (13-8-0) vs Miranda Maverick (12-5-0)\n\nOstatnia zmiana: 12.02.2024.
URL:https://strefamma.pl/event/ufc-298-volkanovski-vs-topuria/
LOCATION:Anaheim\, Kalifornia
ATTACH;FMTTYPE=image/jpeg:https://strefamma.pl/wp-content/uploads/2024/01/UFC-298.jpg
END:VEVENT
BEGIN:VEVENT
DTSTART;TZID=Europe/Warsaw:20240224T190000
DTEND;TZID=Europe/Warsaw:20240225T013000
DTSTAMP:20260420T233424
CREATED:20231219T094808Z
LAST-MODIFIED:20240206T123654Z
UID:87838-1708801200-1708824600@strefamma.pl
SUMMARY:XTB KSW Epic: Adamek vs Khalidov
DESCRIPTION:Dnia 24 lutego organizacja KSW zapewni kibicom wiekopomne wydarzenie. Na przeciwko siebie staną dwie legendy – boksu oraz MMA. Tomasz Adamek zmierzy się z Mamedem Khalidovem! \nZ okazji dwudziestej rocznicy powstania marki KSW szykuje specjalne wydarzenie\, które odbędzie się 24 lutego w PreZero Arenie Gliwice. W walce wieczoru gali XTB KSW Epic\, która będzie nawiązywać do historii Konfrontacji Sztuk Walki\, dojdzie do niesamowitego pojedynku dwóch legend świata sportu. W bokserskim starciu zakontraktowanym na sześć rund Mamed Khalidov\, największa gwiazda polskiego MMA\, zderzy się z Tomaszem Adamkiem\, mistrzem i pięściarską legendą ringów. \nW karcie walk nie zabraknie też innych konfrontacji w różnych dyscyplinach sportów walki. W wywiadzie po ogłoszeniu gali poinformował o tym Martin Lewandowski. W klatce dojdzie do konfrontacji Phila De Friesa z Joshem Barnettem w walce na poddania\, czy starcia BJJ vs Judo. Wystąpi również Michał „Matrix” Królik\, który w Muay Thai w rękawicach do MMA spotka się z Václavem Sivákiem. \nKursy bukmacherskie\nGalę XTB KSW Epic w całości obstawicie u bukmachera eFortuna.pl. Na start czekają na Was liczne bonusy. Za rejestrację otrzymacie darmowe 20 zł\, a 10 zł zostanie dodane do pierwszego depozytu. Co więcej pierwsze 3 zakłady do 100 obstawicie w całości bez ryzyka! \nOdbieram bonusy na XTB KSW Epic! \n \nKARTA WALK\nWalka wieczoru: \n\n99 kg/218 lb: Mamed Chalidow vs Tomasz Adamek [Boxing match]\n\nKarta główna: \n\n93 kg/205 lb: TBA vs. TBA – Finał turnieju mistrzowskiego w wadze półciężkiej\nOpen: Phil De Fries vs. Josh Barnett – Submission Fighting\n93 kg/205 lb: Rafał Haratyk #1 (17-5-2\, 5 KO\, 5 Sub) vs. Marcin Wójcik #3 (19-8\, 11 KO\, 6 Sub) – Turniej mistrzowski wagi półciężkiej\n93 kg/205 lb: Kleber Silva #5 (22-12 1NC\, 15 KO\, 3 Sub) vs. Damian Piwowarczyk #6 (7-2\, 3 KO\, 3 Sub) – Turniej mistrzowski wagi półciężkiej\n65\,8 kg/145 lb: Michał Królik vs. Václav Sivák – Muay Thai w rękawicach do MMA \n93 kg/205 lb: Ivan Erslan #2 (13-3 1NC\, 9 KO\, 1 Sub) vs. Bohdan Gnidko #4 (10-1\, 6 KO\, 4 Sub)\n80 kg/176 lb: Andreas Gustafsson (10-2\, 7 KO\, 2 Sub) vs. Konrad Rusiński (6-1\, 1 KO\, 4 Sub) – No Holds Barred\n70\,3 kg/155 lb: Piotr Kacprzak vs. Adam Brysz – walka MMA w gi\n\nOstatnia zmiana: 06.02.2023 r.
URL:https://strefamma.pl/event/xtb-ksw-epic-adamek-vs-khalidov/
LOCATION:PreZero Arena Gliwice\, Akademicka 50\, Gliwice\, Poland
ATTACH;FMTTYPE=image/jpeg:https://strefamma.pl/wp-content/uploads/2023/12/KSW-Epic-1-Adamek-vs-Khalidov.jpg
END:VEVENT
BEGIN:VEVENT
DTSTART;TZID=Europe/Warsaw:20240225T010000
DTEND;TZID=Europe/Warsaw:20240225T083000
DTSTAMP:20260420T233424
CREATED:20240219T203418Z
LAST-MODIFIED:20240219T203418Z
UID:92229-1708822800-1708849800@strefamma.pl
SUMMARY:UFC Mexico: Moreno vs Royval 2
DESCRIPTION:Organizacja UFC w nocy z 24 na 25 lutego wraca do Meksyku! W stolicy tego kraju dojdzie do dwóch emocjonujących rewanżów. \nByły mistrz wagi muszej Brandon Moreno wrócił do kolejki pretendentów po tym\, jak pokonał go Alexandre Pantoja. Meksykanin nie otrzymał natychmiastowego rewanżu i pozostał na uboczu. Brazylijczyk tymczasem zaliczył obronę tytułu\, w której… zdominował Brandona Royvala\, oponenta „The Assasin Baby”. \nPrzed nimi do klatki wejdzie Yair Rodriguez. Meksykaninowi nie udało się zunifikować mistrzostwa kategorii piórkowej i przegrał z Alexandrem Volkanovskim. Na UFC Mexico jego rywalem będzie Brian Ortega\, z którym swego czasu wygrał w 1. rundzie. Amerykanina pechowo wyeliminowała kontuzja. \nKursy i zakłady na UFC Mexico\nWszystkie walki UFC Mexico obstawić możecie u bukmachera eFortuna.pl. Grając jakikolwiek zakład za dowolną stawkę otrzymujecie też dostęp do Fortuna TV\, gdzie możecie obejrzeć galę na żywo! \nJeśli jeszcze nie posiadacie konta\, możecie skorzystać z kapitalnej oferty powitalnej. Nowi gracze otrzymają darmowe 30 zł za rejestrację i depozyt. Co więcej trzy pierwsze zakłady do 100 zł obstawicie bez ryzyka! W przypadku przegranej Fortuna zwróci stawkę na konto gracza. \nOdbierz bonusy na UFC Mexico! \n \nKARTA WALK\nWalka wieczoru: \n\nBrandon Moreno (21-7-2) vs Brandon Royval (15-7-0)\n\nKarta główna: \n\nYair Rodriguez (18-4-0) vs Brian Ortega (15-3-0)\nDaniel Zellhuber (14-1-0) vs Francisco Prado (12-1-0)\nRaul Rosas Jr. (8-1-0) vs Ricky Turcios (12-3-0)\nYazmin Jauregui (10-1-0) vs Sam Hughes (8-5-0)\nManuel Torres (14-2-0) vs Chris Duncan (11-1-0)\n\nKarta wstępna: \n\nCristian Quiñonez (18-4-0) vs Raoni Barcelos (17-5-0)\nJesus Aguilar (9-2-0) vs Mateus Mendonça (10-2-0)\nEdgar Cháirez (10-5-0) vs Daniel Lacerda (11-5-0)\nClaudio Puelles (12-3-0) vs Fares Ziam (14-4-0)\nLuis Rodríguez (16-2-0) vs Denys Bondar (19-4-0)\nVictor Altamirano (12-3-0) vs Felipe dos Santos (7-1-0)\nMuhammad Naimov (10-2-0) vs Erik Silva (9-2-0)\n\nOstatnia zmiana: 19.02.2024 r.
URL:https://strefamma.pl/event/ufc-mexico-moreno-vs-royval-2/
LOCATION:Meksyk\, Meksyk\, Mexico
ATTACH;FMTTYPE=image/jpeg:https://strefamma.pl/wp-content/uploads/2024/02/UFC-Mexico-Moreno-vs-Royval-2.jpg
END:VEVENT
END:VCALENDAR