BEGIN:VCALENDAR
VERSION:2.0
PRODID:-//StrefaMMA.pl - Portal sportów walki - ECPv5.16.3.1//NONSGML v1.0//EN
CALSCALE:GREGORIAN
METHOD:PUBLISH
X-WR-CALNAME:StrefaMMA.pl - Portal sportów walki
X-ORIGINAL-URL:https://strefamma.pl
X-WR-CALDESC:Wydarzenia dla StrefaMMA.pl - Portal sportów walki
REFRESH-INTERVAL;VALUE=DURATION:PT1H
X-Robots-Tag:noindex
X-PUBLISHED-TTL:PT1H
BEGIN:VTIMEZONE
TZID:Europe/Warsaw
BEGIN:DAYLIGHT
TZOFFSETFROM:+0100
TZOFFSETTO:+0200
TZNAME:CEST
DTSTART:20230326T010000
END:DAYLIGHT
BEGIN:STANDARD
TZOFFSETFROM:+0200
TZOFFSETTO:+0100
TZNAME:CET
DTSTART:20231029T010000
END:STANDARD
END:VTIMEZONE
BEGIN:VEVENT
DTSTART;TZID=Europe/Warsaw:20231201T190000
DTEND;TZID=Europe/Warsaw:20231202T003000
DTSTAMP:20260421T024645
CREATED:20231113T121632Z
LAST-MODIFIED:20231201T142900Z
UID:85165-1701457200-1701477000@strefamma.pl
SUMMARY:GROMDA 15
DESCRIPTION:Kibice walk na gołe pięści już na samym początku grudnia będą mieli swoje święto. GROMDA wraca z kolejną galą\, na której dojdzie do wielu arcyciekawych pojedynków i starcia o pas mistrzowski! \n\n\n\nNiekwestionowanym mistrzem organizacji 26 maja został Mateusz Kubiszyn. Popularny „Don Diego” zwyciężył w 5. rundzie z „Balboą”\, tym samym zachowując perfekcyjny rekord bez porażki i udowadniając swoją pozycję w GROMDZIE. Jak sam zapowiedział\, bardzo chętnie chciał się sprawdzić z Łukaszem Parobcem. „GOAT” odniósł dwie imponujące wygrane przed czasem i tym samym zapewnił sobie title shota. \n\n\n\nNa grudniowej gali GROMDA 15 kolejny pojedynek stoczy też Bartłomiej Domalik\, absolutny król nokautu w organizacji. Do tego fani nie mogą doczekać się debiutu „Popka”. Raper wziął się za siebie i po solidnym obozie w Zakopanem wyjdzie do charakterystycznego ringu 4×4 m! \n\n\n\nGROMDA 15: Transmisja na żywo\n\n\n\nGalę GROMDA 13 z walką Don Diego vs GOAT obejrzeć będzie można wyłącznie w systemie PPV. Cena za dostęp zaczyna się od 34\,99 zł\, ale do wyboru są też rozszerzone pakiety z wieloma dodatkami! \nKARTA WALK GROMDA 15\nWALKA WIECZORU O PAS MISTRZOWSKI GROMDA: \n\nMateusz „DON DIEGO” Kubiszyn vs Łukasz „GOAT” Parobiec\n\nTurniej: \n\nGolcuś vs Dorian „Dorian” Darch\nArtur „Bicek” Kubiak vs Rafał „Tata” Stasiak\nJakub „Joker” Szmajda vs Ghost\nKrzysztof „Rambo” Waczyński vs Damian „Wilku” Wilczyński\n\nSuperfighty: \n\nPopek vs „Orsu Corsu”\n„Balboa” vs „Savage”\nSerey „Basque” Lander vs. Michał „Buła” Bańbuła\nPaweł „Gorilla” Werszynin vs Rafał „Siwollo” Tęcza\nPiotr „Capo” Półchłopek vs Słomka\nMachine Gun vs Artur „Arczi” Chmielewski\nMariusz „Mario” Kruczek vs Raging Bull\n\nOstatnia zmiana: 01.12.2023 r.
URL:https://strefamma.pl/event/gromda-15/
LOCATION:Gromda Fight Club\, Pionki\, Mazowieckie\, Poland
ATTACH;FMTTYPE=image/jpeg:https://strefamma.pl/wp-content/uploads/2023/11/GROMDA-15.jpg
END:VEVENT
BEGIN:VEVENT
DTSTART;TZID=Europe/Warsaw:20231202T220000
DTEND;TZID=Europe/Warsaw:20231203T040000
DTSTAMP:20260421T024645
CREATED:20231116T115227Z
LAST-MODIFIED:20231202T074945Z
UID:85316-1701554400-1701576000@strefamma.pl
SUMMARY:UFC Austin: Dariush vs Tsarukyan
DESCRIPTION:W nocy z 2 na 3 grudnia największa organizacja MMA na świecie wraca do Austin w stanie Teksas z kolejnym mocnym wydarzeniem. Kartę walk zamknie starcie w dywizji lekkiej. \nPierwsza grudniowa gala UFC zapowiada się naprawdę fenomenalnie. W rozpisce znalazło się miejsce dla wielu znakomitych zawodników i zawodniczek\, a wszystko zamknie pojedynek czołowych fighterów wagi lekkiej. \nBeneil Dariush zdawał się być już naprawdę blisko walki o pas po tym\, jak przez decyzję pokonał Mateusza Gamrota. Później musiał jednak przełknąć gorycz porażki po tym\, jak znokautował go Charles Oliveira. Swoje notowania będzie chciał podnieść za to Arman Tsarukyan. Ormianian znajduje się na fali dwóch zwycięstw od czasu\, gdy Mateusz Gamrot w czerwcu 2022 roku pokonał go jednogłośną decyzją. \nKursy bukmacherskie na galę UFC Austin\nGalę UFC Austin: Dariush vs Tsarukyan w całości obstawicie i obejrzycie na żywo w Fortuna TV. Wystarczy postawić dowolny kupon\, który da Wam dostęp do streamu live z gali! Jeśli nie posiadacie jeszcze konta możecie skorzystać ze świetnej oferty powitalnej. Oprócz bonusu otrzymacie też 3x zakład bez ryzyka do 100\, 200 oraz 300 zł. \nOdbierz bonusy na UFC Austin \n  \n \nKARTA WALK UFC Austin\nWalka wieczoru: \n\nBeneil Dariush (22-5-1) vs Arman Tsarukyan (20-3-0)\n\nKarta główna: \n\nJalin Turner (13-7-0 ) vs Bobby Green (31-14-1)\nRob Font (20-7-0) vs Deiveson Figueiredo (21-3-1)\nSean Brady (15-1-0) vs Kelvin Gastelum (18-8-0)\nClay Guida (38-23-0) vs Joaquim Silva (12-4-0)\nPunahele Soriano (9-3-0) vs Dustin Stoltzfus (14-5-0)\n\nKarta wstępna: \n\nMiesha Tate (19-9-0) vs Julia Avila (9-2-0)\nCody Brundage (9-5-0) vs Zachary Reese (6-0-0)\nJoe Solecki (13-3-0) vs Drakkar Klose (13-2-1)\nIhor Potieria (20-4-0) vs Rodolfo Bellato (11-2-0)\nWellington Turman (18-7-0) vs Jared Gooden (22-9-0)\nJamey-Lyn Horth (6-0-0) vs Veronica Hardy (7-4-1)\n\nOstatnia zmiana: 02.12.2023 r.
URL:https://strefamma.pl/event/ufc-austin-dariush-vs-tsarukyan/
LOCATION:Moody Center\, Austin\, United States
ATTACH;FMTTYPE=image/jpeg:https://strefamma.pl/wp-content/uploads/2023/11/UFC-Austin.jpg
END:VEVENT
BEGIN:VEVENT
DTSTART;TZID=Europe/Warsaw:20231209T193000
DTEND;TZID=Europe/Warsaw:20231210T020000
DTSTAMP:20260421T024645
CREATED:20231116T093146Z
LAST-MODIFIED:20231207T201948Z
UID:85296-1702150200-1702173600@strefamma.pl
SUMMARY:FAME: Reborn
DESCRIPTION:Już na początku grudnia dojdzie do gali FAME: Reborn\, podczas której zobaczymy szereg nowych twarzy\, ale też zaskakujące powroty! \nOrganizacja Fame MMA wraca po burzliwym okresie i wielu zmianach w ostatnich tygodniach. „Odrodzenie” to idealna nazwa gali\, na której kibice zobaczą jeden z najgłośniejszych powrotów. Norman Parke po kilkunastomiesięcznym zawieszeniu wraca i zmierzy się w formule bokserskiej z debiutantem w świecie freaków. Maciej „Striczu” Sulęcki nie jest jednak no-namem dla polskich fanów sportów walki! \nW karcie walk FAME: Reborn znalazło się też miejsce dla takich pojedynków\, jak Zadora vs Pasternak\, „Zadyma” vs Wrzosek\, czy kolejnego głośnego debiutanta\, za jakiego uznać trzeba Norberta „Disa” Gierczaka. \nKARTA WALK\nWalka wieczoru: \n\nSebastian Fabijański/Tomasz Olejnik vs Sylwester Wardęga/Wojciech Gola – 2 vs 2\, boks\, małe rękawice\n\nKarta główna: \n\nPiotr Szeliga vs Patryk “Bandura” Bandurski – Boks\, małe rękawice\nMaciej „Striczu” Sulęcki vs Norman „Stormin” Parke – Boks/K-1\, małe rękawice\nKornel „Koro” Regel vs Amadeusz „Ferrari” Roślik – MMA\nNorbert „Dis” Gierczak” vs Dariusz „Daro Lew” Kaźmierczuk – MMA\nDominik „Japoński Drwal” Zadora vs Michał “Wampir” Pasternak – Boks\, małe rękawice\nNatalia „Navcia” Korgol vs Elizabeth „Lizi” Anorue – K-1\, małe rękawice\nNatan „Bóg Estetyki” Marcoń vs. Adrian „Polak” Polański – K1/MMA\, małe rękawice\nJakub „Maślana” Maślanka vs Grzegorz „Greg” Gancewski – MMA\, małe rękawice\nJakub „Guzik Szymański vs. Adam „Adam Security” Bartfai – MMA\n\nKarta wstępna: \n\nIga Kozińska vs Weronika Malinowska – K-1\, małe rękawice\nTomasz „Zadyma” Gromadzki vs Marcin „Polish Zombie” Wrzosek – K-1\, małe rękawice\n\nOstatnia zamiana: 05.12.2023 r.
URL:https://strefamma.pl/event/fame-reborn/
LOCATION:Łódź\, Atlas Arena\, aleja ks. bp. Władysława Bandurskiego 7\, Łódź\, łódzkie\, 94-020\, Poland
ATTACH;FMTTYPE=image/jpeg:https://strefamma.pl/wp-content/uploads/2023/11/FAME-Reborn.jpg
END:VEVENT
BEGIN:VEVENT
DTSTART;TZID=Europe/Warsaw:20231210T010000
DTEND;TZID=Europe/Warsaw:20231210T080000
DTSTAMP:20260421T024645
CREATED:20231204T145906Z
LAST-MODIFIED:20231204T145906Z
UID:86597-1702170000-1702195200@strefamma.pl
SUMMARY:UFC Vegas 83: Song vs Gutierrez
DESCRIPTION:W nocy z 9 na 10 grudnia organizacja UFC wraca do centrum Apex\, gdzie odbędzie się kolejna gala z cyklu Fight Night. \nNajważniejszymi pojedynkami w karcie będą starcia w kategoriach półciężkiej oraz koguciej. Numer 8 w rankingu Anthony Smith\, który miał chrapkę na walkę z Janem Błachowiczem spotka się w oktagonie z okupującym 11. pozycję Khalilem Rountree. \nW main evencie dojdzie z kolei do potyczki kogucich. Yadong Song po ostatniej imponującej wygranej tym razem spotka się z Chrisem Gutierrezem. Amerykanin spotka się z kolejnym Chińczykiem po tym\, jak w październiku jednogłośną decyzją sędziów pokonał Alatengheiliego. \nTypy i kursy bukmacherskie\nWszystkie walki UFC Vegas 83 obstawicie możecie u bukmachera eFortuna.pl. Grając jakikolwiek zakład za dowolną stawkę otrzymujecie też dostęp do Fortuna TV\, gdzie możecie obejrzeć galę na żywo! Na start otrzymacie też szereg bonusów i przede wszystkim 3x zakład bez ryzyka! \nOdbierz bonusy na UFC Vegas 83 i oglądaj za darmo! \n \nKARTA WALK\nWalka wieczoru (ok. 6:30 w Fortuna TV) \n\nYadong Song (20-7-1) vs Chris Gutierrez (20-4-2)\n\nKarta główna (od 4:00 w Fortuna TV) \n\nAnthony Smith (37-18-0) vs Khalil Rountree Jr. (12-5-0)\nSumudaerji (16-5-0) vs Allan Nascimento (20-6-0)\nNasrat Haqparast (15-5-0) vs Jamie Mullarkey (17-6-0)\nAndré Muniz (23-6-0) vs Jun Yong Park (17-5-0)\nKenan Song (21-7-0) vs Kevin Jousset (9-2-0)\n\nKarta wstępna (od 1:00 w Fortuna TV) \n\nHyun Sung Park (8-0-0) vs Shannon Ross (13-8-0)\nSteve Garcia (14-5-0) vs Melquizael Costa (20-6-0)\nStephanie Egger (8-4-0) vs Luana Santos (6-1-0)\nDaniel Marcos (15-0-0) vs Carlos Vera (11-3-0)\nTatsuro Taira (14-0-0) vs Carlos Hernandez (9-2-0)\nRayanne Amanda (14-6-0) vs Talita Alencar (4-0-1)\n\nOstatnia zmiana: 04.12.2923 r.
URL:https://strefamma.pl/event/ufc-vegas-83-song-vs-gutierrez/
LOCATION:Las Vegas\, UFC Apex
ATTACH;FMTTYPE=image/jpeg:https://strefamma.pl/wp-content/uploads/2023/12/UFC-Vegas-83.jpg
END:VEVENT
BEGIN:VEVENT
DTSTART;TZID=Europe/Warsaw:20231216T190000
DTEND;TZID=Europe/Warsaw:20231217T030000
DTSTAMP:20260421T024645
CREATED:20231030T141355Z
LAST-MODIFIED:20231204T144302Z
UID:84124-1702753200-1702782000@strefamma.pl
SUMMARY:XTB KSW 89: Bartosiński vs Parnasse
DESCRIPTION:Organizacja KSW po raz kolejny napisze nową kartę w historii światowego MMA. Galę w Gliwicach uświetni starcie Bartosiński vs Parnasse\, w którym to Francuz może zgarnąć 3. tytuł i stać się pierwszym triple champem! \nKSW ponownie zakończy rok galą w Arenie Gliwice\, gdzie kibice zawsze otrzymują masę niesamowitych wrażeń. Nie inaczej będzie w 2023 roku\, dzięki grudniowym wydarzeniu KSW 89. Adrian Bartosiński przystąpi do pierwszej obrony pasa kategorii półśredniej. Jego rywalem będzie podwójny mistrz organizacji\, Salahdine Parnasse. To pierwszy raz w historii MMA\, gdy zawodnik staje przed szansą na zdobycie potrójnej korony! \nOprócz tego nie zabraknie też niesamowitych debiutów w osobach Marcina Helda i Łukasza Charzewskiego. Fani nie mogą się też doczekać starcia o pas kategorii średniej. Legendarny Michał Materla zmierzy się z Pawłem Pawlakiem. \nKARTA WALK\nWalka wieczoru: \n\n77\,1 kg/170 lb: Adrian Bartosiński #C (13-0\, 11 KO\, 1 Sub) vs. Salahdine Parnasse #C LW FW (18-1\, 3 KO\, 7 Sub) – walka o pas wagi półśredniej KSW\n\nKarta główna: \n\n83\,9 kg/185 lb: Paweł Pawlak #C (21-4-1 11 KO\, 3 Sub) vs. Michał Materla #4 (33-9\, 13 KO\, 13 Sub) – walka o pas kategorii średniej\n83\,9 kg/185 lb: Tomasz Romanowski #2 (18-9 1NC\, 7 KO\, 1 Sub) vs. Damian Janikowski #5 (9-5\, 5 KO\, 1 Sub)\n70\,3 kg/155 lb: Rauli Tutarauli #4 (32-7\, 21 KO\, 3 Sub) vs. Marcin Held (28-9\, 4 KO\, 15 Sub)\n77\,1 kg/170 lb: Andrzej Grzebyk #1 (20-6\, 12 KO\, 3 Sub) vs. Madars Fleminas (12-4\, 6 KO\, 1 Sub)\n120\,2 kg/265 lb: Szymon Bajor #4 (24-10\, 10 KO\, 10 Sub) vs. Viktor Pešta #5 (19-8\, 8 KO\, 7 Sub)\n70\,3 kg/155 lb: Sebastian Rajewski #9 (12-8\, 4 KO) vs. Wilson Varela #10 (10-5\, 3 KO\, 4 Sub)\n65\,8 kg/145 lb: Łukasz Charzewski (12-1 1NC\, 2 KO\, 2 Sub) vs. Ahmed Vila (11-4-1 1 NC\, 6 Sub)\n56\,7 kg/125 lb: Emilia Czerwińska (2-1\, 1 KO) vs. Natalia Baczyńska-Krawiec (7-3\, 1 KO)\n65\,8 kg/145 lb: Wojciech Kazieczko (3-1\, 2 KO) vs. Michał Domin (5-3\, 2 KO\, 2 Sub)\n\nOstatnia zmiana 04.12.2023 r.
URL:https://strefamma.pl/event/xtb-ksw-89-bartosinski-vs-parnasse/
LOCATION:PreZero Arena Gliwice\, Akademicka 50\, Gliwice\, Poland
ATTACH;FMTTYPE=image/jpeg:https://strefamma.pl/wp-content/uploads/2023/10/XTB-KSW-89-Bartosinski-vs-Parnasse.jpg
END:VEVENT
BEGIN:VEVENT
DTSTART;TZID=Europe/Warsaw:20231216T220000
DTEND;TZID=Europe/Warsaw:20231217T070000
DTSTAMP:20260421T024645
CREATED:20230925T125008Z
LAST-MODIFIED:20231216T150229Z
UID:81405-1702764000-1702796400@strefamma.pl
SUMMARY:UFC 296: Edwards vs Covington
DESCRIPTION:Ostatnia numerowana gala UFC 2023 roku odbędzie się w T-Mobile Arenie w Las Vegas. Zakończą ją dwa pojedynki o mistrzowskie tytuły: kategorii półśredniej oraz muszej. \nBrytyjski mistrz Leon Edwards stanie do kolejnej obrony po tym\, jak udało mu się pokonać przez decyzję byłego championa\, długo nie niepokonanego Kamaru Usmana. Teraz popularnego „Rocky’ego” czeka pojedynek z fighterem\, który zdecydowanie będzie chciał mu zajść za skórę. Colby Covington to jeden z najaktywniejszych trash talkerów w całym MMA i na pewno można spodziewać się mocnych słów z jego strony. \nPrzed nimi do klatki wejdzie mistrz wagi muszej\, Alexandre Pantoja. Brazylijczyk zaskoczył wielu zwyciężając na pełnym dystansie z Brandonem Moreno. Jeszcze w tym roku „The Cannibala” czeka pierwsza obrona przeciwko fighterowi\, którego już raz pokonał. Pretendentem został  Brandon Royval\, który nie zaznał porażki od 3. walkach\, a ostatnią poniósł z rąk… Alexandre Pantoji. \nUFC 296 – Kursy i zakłady bukmacherskie\nWszystkie walki UFC 296 obstawić możecie u bukmachera eFortuna.pl. Grając jakikolwiek zakład za dowolną stawkę otrzymujecie też dostęp do Fortuna TV\, gdzie możecie obejrzeć galę na żywo! \nJeśli jeszcze nie posiadacie konta\, możecie skorzystać z kapitalnej oferty powitalnej. Nowi gracze otrzymają 20 zł za rejestrację i dodatkowe 10 zł do pierwszego depozytu. Co więcej trzy pierwsze zakłady do 100 zł\, 200 zł i 300 zł obstawicie bez ryzyka! W przypadku przegranej Fortuna zwróci stawkę na konto gracza. \nOdbierz bonusy na UFC 296 i oglądaj za darmo! \n \nKarta walk\nWalka wieczoru: \n\nLeon Edwards (21-3-0) vs Colby Covington (17-3-0) – o pas wagi półśredniej UFC\n\nKarta główna: \n\nAlexandre Pantoja (26-5-0) vs Brandon Royval (15-6-0) – o pas wagi muszej UFC\nShavkat Rakhmonov (17-0-0) vs Stephen Thompson (17-6-1)\nTony Ferguson (25-9-0) vs Paddy Pimblett (20-3-0)\nJosh Emmett (18-4-0) vs Bryce Mitchell (16-1-0)\n\nKarta wstępna: \n\nIrene Aldana (14-7-0) vs Karol Rosa (17-5-0)\nCody Garbrandt (13-5-0) vs Brian Kelleher (24-14-0)\nCasey O’Neill (9-1-0) vs Ariane Lipski (16-8-0)\nAlonzo Menifield (14-3-1) vs Dustin Jacoby (19-7-1)\nTagir Ulanbekov (14-2-0) vs Cody Durden (16-4-1)\nAndre Fili (22-10-0) vs Lucas Almeida (14-2-0)\nShamil Gaziev (11-0-0) vs Martin Buday (13-1-0)\nRandy Brown (17-5-0) vs Muslim Salikhov (19-4-0)\n\nOstatnia zmiana: 16.12.2023 r.
URL:https://strefamma.pl/event/ufc-296-edwards-vs-covington/
LOCATION:T-Mobile Arena\, 3780 Las Vegas Blvd S\, Las Vegas\, 89158\, United States
ATTACH;FMTTYPE=image/jpeg:https://strefamma.pl/wp-content/uploads/2023/09/UFC-296-Edwards-Covington.jpg
END:VEVENT
BEGIN:VEVENT
DTSTART;TZID=Europe/Warsaw:20231223T190000
DTEND;TZID=Europe/Warsaw:20231224T023000
DTSTAMP:20260421T024645
CREATED:20231116T111033Z
LAST-MODIFIED:20231116T111757Z
UID:85303-1703358000-1703385000@strefamma.pl
SUMMARY:Anthony Joshua vs Otto Wallin
DESCRIPTION:Już 23 grudnia kibice boksu zasiądą przed ekranami\, gdzie czeka ich fenomenalne widowisko. W ringu dojdzie do kilku walk\, które mogą sporo namieszać w rankingach wagi ciężkiej. \nPierwotny plan zakładał\, że tego dnia dojdzie do wyczekiwanego pojedynku Fury vs Usyk. W związku z licznymi kontuzjami „Króla Cyganów” przesunięto je na 17 lutego\, ale Matchroom Boxing zorganizowało kilka naprawdę kapitalnych walk. \nAnthony Joshua nadal stara się udowodnić swoją wartość na światowych ringach i po 2. wygranych z rzędu podejmie Otto Wallina. Szwed ma na swoim koncie tylko jedną porażkę\, którą odniósł z rąk Tysona Fury’ego. \nPrzed nimi w ringu stawi się m. in. Dmitry Bivol na kolejną obronę pasa wagi półciężkiej WBA\, czy wracający po porażce z Usykiem Anglik Daniel Dubois. W co-main evencie fani liczyć będą na kolejne ciężkie KO w wykonaniu „The Bronze Bombera” Deontaya Wildera. Amerykanin skrzyżuje rękawice z Josephem Parkerem. \n\nTypy i kursy bukmacherskie\n\n\n\nGalę w całości obstawicie u bukmachera Fortuna. Jeśli nie posiadacie jeszcze konta możecie skorzystać ze świetnej oferty powitalnej. Oprócz bonusu otrzymacie też 3x zakład bez ryzyka do 100\, 200 oraz 300 zł. \n\n\n\nOdbierz bonusy na galę Joshua vs Wallin! \n \n\nKARTA WALK\nWalka wieczoru: \n\nAnthony Joshua (26-3-0) vs Otto Wallin (26-1-0)\n\nKarta główna: \n\nDeontay Wilder (43-2-1) vs Joseph Parker (33-3-0)\nDmitry Bivol (21-0-0) vs Lyndon Arthur (23-1-0) – o pas WBA w wadze półciężkiej\nDaniel Dubois (19-2-0) vs Jarrell Miller (26-0-1)\nFilip Hrgovic (16-0-0) vs Mark De Mori (41-2-2)\nArslanbek Makhmudov (18-0-0) vs Agit Kabayel (23-0-0)\nFrank Sanchez (23-0-0) vs Junior Fa (20-2-0)\nJai Opetaia (23-0-0) vs Ellis Zorro (17-0-0) – o pas IBF w wadze cruiser\n\nOstatni zmiana: 16.11.2023 r.
URL:https://strefamma.pl/event/joshua-vs-wallin/
LOCATION:Rijad\, Rijad\, Saudi Arabia
ATTACH;FMTTYPE=image/jpeg:https://strefamma.pl/wp-content/uploads/2023/11/jOSHUA-WALLIN-MATCHROOM.jpg
END:VEVENT
BEGIN:VEVENT
DTSTART;TZID=Europe/Warsaw:20231229T190000
DTEND;TZID=Europe/Warsaw:20231230T020000
DTSTAMP:20260421T024645
CREATED:20231213T233615Z
LAST-MODIFIED:20231228T185256Z
UID:87426-1703876400-1703901600@strefamma.pl
SUMMARY:Clout MMA 3: Santa Clout
DESCRIPTION:Organizacja Clout MMA jeszcze w tym roku zorganizuje kolejne hitowe wydarzenie! Dnia 29 grudnia dojdzie do wielu emocjonujących pojedynków z udziałem największych gwiazd. \nPrzede wszystkim kibice otrzymają starcie\, które wisiało w powietrzu od wielu miesięcy. Denis Załęcki zmierzy się w klatce z Patrykiem Masiakiem\, znanym szerszej publiczności jako „Wielki Bu”. Między panami jest potężny konflikt\, który wreszcie znajdzie ujście w walce. \nMain eventem będzie pojedynek byłych piłkarzy. Tomasz Hajto przywita w Clout MMA Jakuba Wawrzyniaka. Z kolei pogromca „Gianniego” Zbigniew Bartman spotka się z innym byłym graczem znanym z zielonej murawy – Błażejem Augustynem. \nNa Clout MMA 3: Santa Clout fani zobaczą też rewanż Adriana Ciosa z Marcinem Najmanem. Pierwsza walka zakończyła się dyskwalifikacją „Cesarza”\, który otrzymał możliwość zrehabilitowania się za poprzednie spotkanie. \nTypy i kursy bukmacherskie\nWyłącznym bukmacherem Clout MMA jest Fortuna. Na start otrzymacie darmowe 20 zł\, kolejnych 10 za pierwszy depozyt i aż trzy zakłady bez ryzyka. To znaczy\, że otrzymacie zwrot stawki za kuponu do 100\, 200 oraz 300 zł! \n \nKARTA WALK\nWalka wieczoru: \n\nTomasz „Gianni” Hajto vs Jakub Wawrzyniak\n\nKarta główna: \n\nDenis „Bad Boy” Załęcki vs Patryk „Wielki Bu” Masiak\nMarcin Najman vs Adrian Cios\nZbigniew Bartman vs Błażej Augustyn\nWojciech „Rekordzista” Sobierajski vs Grzegorz „Szuli” Szulakowski\nMarianna Schreiber vs „Najlepsza Polska Dziennikarka” Monika Laskowska\nMarcin Siwy vs Vasyl Halych\nMavs & Świstak vs Antena & Banersky\n\nOstatnia zmiana: 28.12.2023 r.
URL:https://strefamma.pl/event/clout-mma-3-santa-clout/
LOCATION:warszawa
ATTACH;FMTTYPE=image/jpeg:https://strefamma.pl/wp-content/uploads/2023/12/Clout-MMA-3-Santa-Clout.jpg
END:VEVENT
BEGIN:VEVENT
DTSTART;TZID=Europe/Warsaw:20231231T060000
DTEND;TZID=Europe/Warsaw:20231231T150000
DTSTAMP:20260421T024645
CREATED:20231218T140111Z
LAST-MODIFIED:20231218T140111Z
UID:87762-1704002400-1704034800@strefamma.pl
SUMMARY:RIZIN 45
DESCRIPTION:Tradycyjnie organizacja RIZIN FF ostatniego dnia roku powraca z kolejną galą. W Saitama Super Arena kibice otrzymają szereg kapitalnych starć!\n\n \n\nW karcie walk nie brakuje międzynarodowych gwiazd. Kolejną walkę stoczy były mistrz KSW\, Kleber Koike Erbst. Japońsko-brazylijski fighter stracił w czerwcu pas wagi piórkowej po tym\, jak nie wypełnił limitu wagowego. Choć pokonał Chihiro Suzukiego\, wynik walki widnieje w rekordzie jako No Contest.\n\n \n\nW karcie walk nie brakuje też gwiazd znanych z występów dla największych światowych organizacji. Kolejne pojedynki stoczą bowiem były pretendent do pasa wagi koguciej muszej UFC John Dodson\, czy Kyoji Horiguchi.\n\n \nKursy bukmacherskie\n \n\nGalę w całości obstawicie u bukmachera Fortuna. Jeśli nie posiadacie jeszcze konta możecie skorzystać ze świetnej oferty powitalnej. Oprócz bonusu otrzymacie też 3x zakład bez ryzyka do 100\, 200 oraz 300 zł.\n\n \nOdbierz bonusy na galę RIZIN 45! \n\nKARTA WALK\nWalka wieczoru:\n\n 	Juan Archuleta (29-4-0) vs Kai Asakura (20-4-0) – walka o pas wagi koguciej RIZIN FF\n\nKarta główna:\n\n 	Kyoji Horiguchi (31-5-0) vs Makoto Shinryu (16-1-1)\n 	Kleber Koike Erbst (31-7-1) vs Yutaka Saito (21-7-2)\n 	Hiromasa Ougikubo (25-8-2) vs John Dodson (24-13-0)\n 	Shinobu Ota (4-3-0) vs Ryusei Ashizawa (0-0-0)\n 	Tsuyoshi Sudario (8-2-0) vs Mikio Ueda (2-1-0)\n 	Seika Izawa (11-0-0) vs Miyuu Yamamoto (6-7-0)\n 	Kota Miura (2-0-0) vs Koji Tanaka (0-0-0)\n 	Satoshi Yamasu (13-7-0) vs Suguru Nii (16-12-0)\n 	Igor Tanabe (4-0-0) vs Shinsho Anzai (9-5-0)\n 	Yuta Kubo vs Rukiya Anpo\n 	Ren Hiramoto (2-3-0) vs Ren Sugiyama (0-0-0)\n 	Yushi Sakura (3-1-0) vs Jo Hiramoto (0-0-0)\n 	Tatsuki Shinotsuka vs Daichi Tomizawa – kickobxing\n 	Yuki Motoya (34-11-0) vs Vince Morales (13-7-0)\n 	Jo AraiJo Arai (16-9-2) vs Hiroya Kondo (8-12-1)\n 	Ryujin Nasukawa (0-0-0) vs Jung Min Shin (0-0-0)\n\nOstatnia zmiana: 18.12.2023 r.
URL:https://strefamma.pl/event/rizin-45/
LOCATION:Saitama Super Arena\, Saitama\, Japan
ATTACH;FMTTYPE=image/jpeg:https://strefamma.pl/wp-content/uploads/2023/12/RIZIN-45.jpg
END:VEVENT
END:VCALENDAR