BEGIN:VCALENDAR
VERSION:2.0
PRODID:-//StrefaMMA.pl - Portal sportów walki - ECPv5.16.3.1//NONSGML v1.0//EN
CALSCALE:GREGORIAN
METHOD:PUBLISH
X-WR-CALNAME:StrefaMMA.pl - Portal sportów walki
X-ORIGINAL-URL:https://strefamma.pl
X-WR-CALDESC:Wydarzenia dla StrefaMMA.pl - Portal sportów walki
REFRESH-INTERVAL;VALUE=DURATION:PT1H
X-Robots-Tag:noindex
X-PUBLISHED-TTL:PT1H
BEGIN:VTIMEZONE
TZID:Europe/Warsaw
BEGIN:DAYLIGHT
TZOFFSETFROM:+0100
TZOFFSETTO:+0200
TZNAME:CEST
DTSTART:20230326T010000
END:DAYLIGHT
BEGIN:STANDARD
TZOFFSETFROM:+0200
TZOFFSETTO:+0100
TZNAME:CET
DTSTART:20231029T010000
END:STANDARD
END:VTIMEZONE
BEGIN:VEVENT
DTSTART;TZID=Europe/Warsaw:20230401T180000
DTEND;TZID=Europe/Warsaw:20230401T233000
DTSTAMP:20260422T011734
CREATED:20230310T152226Z
LAST-MODIFIED:20230331T132009Z
UID:67181-1680372000-1680391800@strefamma.pl
SUMMARY:Underground Boxing Night 2
DESCRIPTION:Już 1 kwietnia w sobotę odbędzie się gala Underground Boxing Night 2. Na inspirowanym podziemnymi walkami wydarzeniu pojedynki odbywają się w małej arenie 3×3 metra! \nNa pierwszej gali kibice mogli oglądać zarówno amatorów\, jak i zawodowców nie tylko z Polski. Organizatorzy zareagowali na pozytywny odzew fanów i już 1 kwietnia dojdzie do kolejnego wydarzenia! \nZawodnicy na Underground Boxing Night 2 raz jeszcze mierzyć się będą w kwadratowej arenie 3×3 m\, którą wyznaczają snopki siana. Tym razem w tym nietypowym ringu pojawią się między innymi kibice warszawskiej Legii\, jak i zaprzyjaźnionych ekip. Oprócz 4. ekscytujących extra fightów (3 w boksie\, a 1 w K-1!) odbędzie się też ośmioosobowy turniej. Zwycięzca uda się na obóz pod okiem Andrzeja Fonfary! \nWciąż dostępne są bilety na to wydarzenie\, które nabyć możecie klikając w poniższy link! \n-> Kup bilet na Underground Boxing Nigh 2!\nUnderground Boxing Night 2: Karta walk\nUczestnicy turnieju: \n\nMateusz „Bodzio” Grochowski\nAdam Bylina\nHubert Łąkowski\nArtur Kamiński\nAdam Tutak\nHubert Krasuski\nPiotr „Kliczko” Danielski\nMarcin Majka\n\nExtra fighty: \n\nArtur „Chuligan” Tomala vs Mateusz „Shargi” Szargut\nPatryk Mielniczuk vs Hubert Marcisz\nMarcin Chraniuk vs Dawid Rostek\nMichał Idziak vs Adrian Gała\n\nOstatnia modyfikacja: 31.03.2023 r.
URL:https://strefamma.pl/event/underground-boxing-night-2/
LOCATION:Fort Bema\, Warszawa\, Poland
ATTACH;FMTTYPE=image/png:https://strefamma.pl/wp-content/uploads/2023/03/Underground-Boxing-Night-2.png
END:VEVENT
BEGIN:VEVENT
DTSTART;TZID=Europe/Warsaw:20230408T220000
DTEND;TZID=Europe/Warsaw:20230409T080000
DTSTAMP:20260422T011734
CREATED:20230321T100351Z
LAST-MODIFIED:20230406T084843Z
UID:68065-1680991200-1681027200@strefamma.pl
SUMMARY:UFC 287: Pereira vs Adesanya 2
DESCRIPTION:Israel Adesanya bardzo szybko upomniał się o rewanż z Alexem Pereirą. Kolejny pojedynek w tej rywalizacji odbędzie się na UFC 287 w Miami. \n\n\n\nIch ostatni pojedynek na UFC 281 był swoistą trylogią w sportach walki. Wcześniej w kickboxingu „Poatan” zwyciężał dwukrotnie\, ale tu był skazywany na porażkę. Nigeryjczyk zdecydowanie dominował\, ale Brazylijczyk usłyszał krótką komendę: Żeby wygrać\, musisz to skończyć. Tak też zrobił obijając Israela Adesanyę\, aż sędzia nie przerwał walki przez TKO w 5. rundzie. \n\n\n\nPo ponad rocznej przerwie do oktagonu zawita też Jorge Masvidal. „Gamebred” zmierzy się w wyczekiwanym boju z czołowym półśrednim UFC – Gilbertem Burnsem. Dla Brazylijczyka będzie to drugi występ w tym roku po szybkim skończeniu Neila Magny’ego. \n\n\n\nUFC 287: Transmisja na żywo\nGdzie oglądać UFC na żywo? Transmisja z UFC 287 z walką Pereira vs Adesanya o pas wagi średniej dostępna będzie dla zarejestrowanych użytkowników bukmachera eFortuna.pl. Wystarczy założyć konto i postawić kupon\, by uzyskać dostęp do Fortuna TV! \n \nKursy bukmacherskie na UFC 287: Pereira vs. Adesanya\nGalę UFC 287 w całości obstawicie u bukmachera eFortuna.pl! Już na sam początek otrzymacie specjalny BONUS w postaci darmowych 20 zł i dodatkowe 10 zł do pierwszego depozytu. Ponadto trzy pierwsze zakłady obstawicie BEZ RYZYKA! Zasady wykorzystania są banalnie proste. Jeżeli pierwszy kupon będzie zwycięski: gratulacje\, otrzymujesz wygraną. Jeśli zaś przegrasz\, Fortuna zwróci Ci wkład do 100 zł na konto gracza. Kolejny zakład bez ryzyka to kwota do 200 zł\, a ostatni to aż 300 zł\, które Fortuna zwróci\, jeśli również okaże się nietrafiony! \n-> Gram z Fortuną! Odbieram bonus\n \nUFC 287: Pereira vs Adesanya – Karta walk\nWalka wieczoru: \n\nAlex Pereira (7-1-0) vs Israel Adesanya (23-2-0) – o pas wagi średniej UFC\n\nCo-main event: \n\nGilbert Burns (21-5-0) vs Jorge Masvidal (35-16-0)\n\nKarta główna: \n\nRob Font (19-6-0) vs Adrian Yanez (16-3-0)\nKevin Holland (23-9-0) vs Santiago Ponzinibbio (29-6-0)\nRaul Rosas Jr. (7-0-0) vs Christian Rodriguez (8-1-0)\n\nKarta wstępna: \n\nKelvin Gastelum (17-8-0) vs Chris Curtis (30-9-0)\nMichelle Waterson-Gomez (18-10-0) vs Luana Pinheiro (10-1-0)\nGerald Meerschaert (35-15-0) vs Joseph Pyfer (10-2-0)\nKarl Williams (8-1-0) vs Chase Sherman (16-11-0)\n\nKarta przedwstępna: \n\nCynthia Calvillo (9-5-1) vs Lupita Godinez (8-3-0)\nIgnacio Bahamondes (13-4-0) vs Trey Ogden (16-5-0)\nSteve Garcia (13-5-0) vs Shayilan Nuerdanbieke (39-10-0)\nSam Hughes (7-5-0) vs Jaqueline Amorim (6-0-0)\n\nOstatnia zmiana 06.04.2023 r.
URL:https://strefamma.pl/event/ufc-287-pereira-vs-adesanya-2/
LOCATION:Miami-Dade Arena\, Miami\, United States
ATTACH;FMTTYPE=image/jpeg:https://strefamma.pl/wp-content/uploads/2023/03/UFC-287-PLAKAT.jpg
END:VEVENT
BEGIN:VEVENT
DTSTART;TZID=Europe/Warsaw:20230415T220000
DTEND;TZID=Europe/Warsaw:20230416T060000
DTSTAMP:20260422T011734
CREATED:20230321T110733Z
LAST-MODIFIED:20230413T135031Z
UID:68075-1681596000-1681624800@strefamma.pl
SUMMARY:UFC on ESPN 44: Holloway vs. Allen
DESCRIPTION:Były mistrz wagi piórkowej Max Holloway wraca do gry! Hawajczyk wystąpi w main evencie gali UFC on ESPN 44\, a jego rywalem będzie Arnold Allen. \n„Blessed” pokazywał w swoich ostatnich występach\, że w kategorii piórkowej umiejętnościami ustępuje tylko jednemu zawodnikowi\, Alexandrowi Volkanovskiemu. Australijczyk trzykrotnie pokonywał Maxa Hollowaya\, który wrócił do drabinki i musi wywalczyć sobie prawo do kolejnej walki z mistrzem. \nNaprzeciwko Hawajczyka stanie Arnold Allen. Niespełna 30-letni Brytyjczyk znakomicie radzi sobie w UFC\, a w ubiegłym roku w 2. rundzie skończył ciosami Dana Hookera. Po zwycięstwie przez kontuzję zwyciężył też z Calvinem Kattarem\, a teraz „Almighty’ego” czeka kolejne wielkie wyzwanie. \nUFC: Holloway vs Allen – Gdzie oglądać?\nGdzie oglądać UFC na żywo? Transmisja z UFC on ESPN 44 z walką Holloway vs Allen dostępna będzie dla zarejestrowanych użytkowników bukmachera eFortuna.pl. Wystarczy założyć konto i postawić kupon\, by uzyskać dostęp do Fortuna TV! \n  \n \nKursy bukmacherskie na UFC on ESPN 44\nGalę UFC on ESPN 44 w całości obstawicie u bukmachera eFortuna.pl! Już na sam początek otrzymacie specjalny BONUS w postaci darmowych 20 zł i dodatkowe 10 zł do pierwszego depozytu. Ponadto trzy pierwsze zakłady obstawicie BEZ RYZYKA! \nCo to znaczy> Jeżeli pierwszy kupon będzie zwycięski: gratulacje\, otrzymujesz wygraną. Jeśli zaś przegrasz\, Fortuna zwróci Ci wkład do 100 zł na konto gracza. Kolejny zakład bez ryzyka to kwota do 200 zł\, a ostatni to aż 300 zł\, które Fortuna zwróci\, jeśli również okaże się nietrafiony! \n-> Gram z Fortuną! Odbieram bonus\n \n  \nUFC on ESPN 44: Karta walk\nWalka wieczoru: \n\nMax Holloway (23-7-0) vs Arnold Allen (19-1-0)\n\nCo-main event: \n\nEdson Barboza (22-11-0) vs Billy Quarantillo (17-4-0)\n\nKarta główna: \n\nDustin Jacoby (18-6-1) vs Azamat Murzakanov (12-0-0)\nIon Cutelaba (16-9-1) vs Tanner Boser (20-9-1)\nPedro Munhoz (19-7-0) vs Chris Gutierrez (19-3-2)\nClay Guida (38-22-0) vs Rafa García (15-3-0)\n\nKarta wstępna: \n\nBill Algeo (16-7-0) vs TJ Brown (17-9-0)\nBrandon Royval (14-6-0) vs Matheus Nicolau (19-2-1)\nZak Cummings (24-7-0) vs Ed Herman (24-15-0)\nGillian Robertson (11-7-0) vs Piera Rodriguez (9-0-0)\nLando Vannata (12-6-2) vs Daniel Zellhuber (12-1-0)\nBruna Brasil (8-2-1) vs Denise Gomes (6-2-0)\nAaron Phillips (12-4-0) vs Gaston Bolaños (6-3-0)\nJoselyne Edwards (12-4-0) vs Lucie Pudilová (14-7-0)\n\nOstatnia zmiana 13.04.2023 r.
URL:https://strefamma.pl/event/ufc-on-espn-44-holloway-vs-allen/
LOCATION:T-Mobile Center\, Kansas City\, United States
ATTACH;FMTTYPE=image/jpeg:https://strefamma.pl/wp-content/uploads/2023/03/UFC-Kansas-Holloway-vs-Allen.jpg
END:VEVENT
BEGIN:VEVENT
DTSTART;TZID=Europe/Warsaw:20230422T190000
DTEND;TZID=Europe/Warsaw:20230422T233000
DTSTAMP:20260422T011734
CREATED:20230321T074730Z
LAST-MODIFIED:20230416T095111Z
UID:68036-1682190000-1682206200@strefamma.pl
SUMMARY:KSW 81: Bartosiński vs Szczepaniak
DESCRIPTION:Dnia 22 kwietnia odbędzie się KSW 81 w Tomaszowie Mazowieckim. Pochodzący stamtąd Adrian Bartosiński stanie przed szansą na sięgnięcie po pas mistrzowski kategorii półśredniej. \nPopularny „Bartos” wciąż nie zaznał porażki w zawodowym MMA. Co więcej każdy z jego ostatnich 11. pojedynków kończył się przed czasem. Bartosiński jest już bliski wejścia na szczyt\, ale zadania na KSW 81 nie będzie miał łatwego. \nJego przeciwnikiem będzie Artur Szczepaniak. Mieszkający w Belgii Polak trafił do największej polskiej organizacji MMA w 2022 roku. Już w debiucie zwyciężył w pierwszej rundzie przez duszenie zza pleców\, kolejny występ był jeszcze bardziej emocjonujący. Szczepaniak ciężko znokautował już w 43. sekundy Braiana Hooia. \nDo okrągłej klatki powróci też Tomasz Sarara. Wybitny polski kick-bokser będzie miał szansę na odbudowanie się po porażce przez KO z Arkadiuszem Wrzoskiem. Przeciwnikiem krakowskiego wojownika będzie Holender\, Errol Zimmerman. \nGdzie oglądać KSW 81? Transmisja na żywo\nWszystkie gale organizacji KSW obejrzysz wyłącznie na platformie Viaplay. Serwis oferuje dostęp nie tylko do wydarzenia na żywo ale również możliwość odtworzenia poprzednich eventów. \nMiesięczny koszt subskrypcji to 55 zł. W tej cenie poza galami KSW otrzymamy również inne wydarzenia sportowe\, w tym angielską Premier League czy też dostęp do wielu filmów i seriali. \n-> WYKUP DOSTĘP JUŻ TERAZ!\nKursy bukmacherskie na KSW 81\nGalę KSW 81 w całości obstawicie u bukmachera eFortuna.pl! Już na sam początek otrzymacie specjalny BONUS w postaci darmowych 20 zł i dodatkowe 10 zł do pierwszego depozytu. Ponadto trzy pierwsze zakłady obstawicie BEZ RYZYKA! \nZasady wykorzystania są banalnie proste. Jeżeli pierwszy kupon będzie zwycięski: gratulacje\, otrzymujesz wygraną. Jeśli zaś przegrasz\, Fortuna zwróci Ci wkład do 100 zł na konto gracza. Kolejny zakład bez ryzyka to kwota do 200 zł\, a ostatni to aż 300 zł\, które Fortuna zwróci\, jeśli również okaże się nietrafiony! \n-> Gram z Fortuną! Odbieram bonus\n \nKarta walk KSW 81: Bartosiński vs Szczepaniak\nWalka wieczoru: \n\n77\,1 kg/170 lb: Adrian Bartosiński #1 (12-0\, 10 KO\, 1 Sub) vs Artur Szczepaniak #2 (9-1\, 5 KO\, 2 Sub) – o pas kategorii półśredniej KSW\n\nKarta główna: \n\n120\,2 kg/265 lb: Tomasz Sarara (1-1\, 1 KO) vs Errol Zimmerman (0-1)\n77\,1 kg/170 lb: Igor Michaliszyn #8 (9-2\, 3 KO\, 3 Sub) vs Krystian Bielski (9-4\, 4 KO\, 1 Sub)\n77\,1 kg/170 lb: Werlleson Martins (17-5-0) vs Patryk Surdyn (7-2-0)\n56\,7 kg/125 lb: Karolina Owczarz (5-2-0) vs Adrianna Kreft (4-0-0)\n77\,1 kg/170 lb: Marcin Krakowiak (11-4\, 5 KO\, 6 Sub) vs Henry Fadipe (13-9-1\, 9 KO\, 3 Sub)\n120.2 kg/265 lb: Kamil Gawryjołek (3-0-0) vs. Oļegs Jemeļjanovs (11-3-0)\n52.2 kg/115 lb: Sofiia Bagishvili (7-2-0) vs. Maria Silva (8-1-0)\n120.2 kg/265 lb: Filip Stawowy (9-3-0) vs. Marek Samociuk (4-3-0)\n65.8 kg/145 lb: Jonatan Kujawa (1-0-0) vs. Josef Štummer (2-0-0)\n\nOstatnia zmiana: 16.04.2023
URL:https://strefamma.pl/event/ksw-81-bartosinski-vs-szczepaniak/
LOCATION:Arena Lodowa w Tomaszowie Mazowieckim\, ul. Strzelecka 24/26\, Tomaszów Mazowiecki\, Poland
ATTACH;FMTTYPE=image/png:https://strefamma.pl/wp-content/uploads/2023/03/KSW-81-PLAKAT.png
END:VEVENT
BEGIN:VEVENT
DTSTART;TZID=Europe/Warsaw:20230422T193000
DTEND;TZID=Europe/Warsaw:20230422T233000
DTSTAMP:20260422T011734
CREATED:20230417T114603Z
LAST-MODIFIED:20230419T083431Z
UID:69627-1682191800-1682206200@strefamma.pl
SUMMARY:Knockout Boxing Night 27: Różański vs Babić
DESCRIPTION:Dnia 22 kwietnia w hali G2A Arena dojdzie do jednej z największych gal w historii polskiego boksu. Kibice zobaczą aż trzy walki o mistrzowskie tytuły z udziałem Polaków! \nO najważniejszy laur zawalczą Łukasz Różański oraz Alen Babić. Stawką w main evencie tej gali będzie pas organizacji WBC w kategorii bridger. Choć Polak jest underdogiem\, to będzie mógł liczyć na ogromne wsparcie publiczności. \nWcześniej zaś poznamy mistrzów Europy. O tytuł w wadze cruiser powalczy Michał Cieślak z Dylanem Bregeonem\, a mistrzostwo kobiet w dywizji super koguciej spróbuje wywalczyć niepokonana Laura Grzyb. Jej przeciwniczką będzie Włoszka Maria Cecchi. \nKursy bukmacherskie na galę KBN 27: Różański vs Babic\nMistrzowski pojedynek o pas WBC\, jak i inne walki z karty\, możesz obstawić na stronie STS. Dla nowych użytkowników bukmacher oferuje specjalny bonus w postaci dodatkowych 100% od pierwszego depozytu do kwoty aż 300 złotych! To nie wszystko\, gdyż możesz postawić także pierwszy zakład bez ryzyka do 100 złotych. Wystarczy zarejestrować się tutaj\, wykonać depozyt i obstawić pierwszy kupon. \n-> Odbierz bonus na mistrzowskie walki Polaków!\nKnockout Boxing Night 27: Karta walk\nWalka wieczoru: \n\nŁukasz Różański (14-0\, 13 KO) vs Alen Babić (11-0\, 10 KO) – o pas mistrzowski WBC w kategorii bridger\n\nCo-main event: \n\nMichał Cieślak (23-2\, 17 KO) vs Dylan Bregeon (12-2-1\, 3 KO) – o tytuł Mistrza Europy w kategorii cruiser\n\nKarta główna: \n\nLaura Grzyb (8-0\, 3 KO) vs Maria Cecchi (8-1\, 2 KO) – o tytuł Mistrzyni Europy w żeńskiej kategorii super koguciej\nMartin Bakole (18-1\, 13 KO) vs Igor Szewaducki (9-0\, 7 KO)\nSteed Woodall (17-1-1) vs Boris Crighton (11-2-0)\nJeamie Tshikeva (4-0-0) vs Michal Bołoz (4-4-2)\nPiotr Łącz (5-0-0) vs Milos Budincic (0-0-0)\n\nOstatnia zmiana: 17.04.2023 r
URL:https://strefamma.pl/event/knockout-boxing-night-27-rozanski-vs-babic/
LOCATION:G2A Arena\, Jasionka 953\, Jasionka\, Podkarpackie\, 36-002\, Poland
ATTACH;FMTTYPE=image/jpeg:https://strefamma.pl/wp-content/uploads/2023/04/Knockout-Boxing-Night-27-Rozanski-vs-Babic.jpg
END:VEVENT
BEGIN:VEVENT
DTSTART;TZID=Europe/Warsaw:20230422T220000
DTEND;TZID=Europe/Warsaw:20230423T060000
DTSTAMP:20260422T011734
CREATED:20230321T135113Z
LAST-MODIFIED:20230420T081047Z
UID:68085-1682200800-1682229600@strefamma.pl
SUMMARY:UFC Vegas 71: Pavlovich vs Blaydes
DESCRIPTION:Federacja UFC wróci z kolejną galą w kompleksie produkcyjnym Apex już 22 kwietnia. Po main evencie kibice spodziewają się ciężkich bomb! \nCurtis Blaydes pnie się w górę rankingu i zwycięstwo na UFC Vegas 71 na pewno przybliży go do ewentualnej walki o pas. Popularny „Razor” w ostatnim występie zaliczył bardzo szybką wygraną\, gdyż Tom Aspinall doznał kontuzji już w 15. sekundzie pojedynku. \nRywalem Blaydesa na UFC Vegas 71 będzie rozpędzony serią 5. kolejnych wygranych Sergei Pavlovich. Rosjanin pokazał się ze świetnej strony zwłaszcza w dwóch ostatnich pojedynkach. W 55. sekund skończył Derricka Lewisa\, a sekundę mniej zajęło mu pokonanie Taia Tuivasy. \nUFCVegas 71 – Gdzie oglądać?\nGdzie oglądać UFC na żywo? Transmisja z UFC Vegas 71 z walką Pavlovich vs Blaydes dostępna będzie dla zarejestrowanych użytkowników bukmachera eFortuna.pl. Wystarczy założyć konto i postawić kupon\, by uzyskać dostęp do Fortuna TV! \n  \n \nKursy bukmacherskie na UFC Vegas 71\nGalę UFC Vegas 71 w całości obstawicie u bukmachera eFortuna.pl! Już na sam początek otrzymacie specjalny BONUS w postaci darmowych 20 zł i dodatkowe 10 zł do pierwszego depozytu. Ponadto trzy pierwsze zakłady obstawicie BEZ RYZYKA! \nCo to znaczy> Jeżeli pierwszy kupon będzie zwycięski: gratulacje\, otrzymujesz wygraną. Jeśli zaś przegrasz\, Fortuna zwróci Ci wkład do 100 zł na konto gracza. Kolejny zakład bez ryzyka to kwota do 200 zł\, a ostatni to aż 300 zł\, które Fortuna zwróci\, jeśli również okaże się nietrafiony! \n-> Gram z Fortuną! Odbieram bonus\n \n  \nUFC Vegas 71: Karta walk\nWalka wieczoru: \n\nSergei Pavlovich (17-1-0) vs Curtis Blaydes (17-3-0)\n\nCo-main event: \n\nBrad Tavares (19-7-0) vs Bruno Silva (22-8-0)\n\nKarta główna: \n\nBobby Green (29-14-1) vs Jared Gordon (19-6-0)\nIasmin Lucindo (13-5-0) vs Brogan Walker (7-3-0)\nJeremiah Wells (11-2-1) vs Matt Semelsberger (11-4-0)\n\nKarta wstępna: \n\nRicky Glenn (22-6-2) vs Christos Giagos (19-10-0)\nRani Yahya (28-10-1) vs Montel Jackson (12-2-0)\nKarol Rosa (16-4-0) vs Norma Dumont (8-2-0)\nMohammed Usman (8-2-0) vs Junior Tafa (4-0-0)\nFrancis Marshall (7-0-0) vs William Gomis (11-2-0)\nPriscila Cachoeira (12-4-0) vs Karine Silva (15-4-0)\nBatgerel Danaa (12-4-0) vs Brady Hiestand (6-2-0)\n\nOstatnia zmiana 20.04.2023 r.
URL:https://strefamma.pl/event/ufc-vegas-71-pavlovich-vs-blaydes/
LOCATION:Las Vegas\, UFC Apex
ATTACH;FMTTYPE=image/jpeg:https://strefamma.pl/wp-content/uploads/2023/03/UFC-Vegas-72-Pavlovich-vs-Blaydes_PLAKAT.jpg
END:VEVENT
BEGIN:VEVENT
DTSTART;TZID=Europe/Warsaw:20230429T223000
DTEND;TZID=Europe/Warsaw:20230430T080000
DTSTAMP:20260422T011734
CREATED:20230424T080857Z
LAST-MODIFIED:20230429T104721Z
UID:70099-1682807400-1682841600@strefamma.pl
SUMMARY:UFC Vegas 72: Song vs Simon
DESCRIPTION:W nocy z 29 na 30 kwietnia odbędzie się kolejna gala UFC w kompleksie Apex. Do oktagonu tej nocy powróci Michał Oleksiejczuk! \nPierwotnym main eventem UFC Vegas 72 miała być walka byłego rywala Mateusza Gamrota\, Armana Tsarukyana. Ormianinowi wypadł jednak przeciwnik\, a federacja zdecydowała się przesunąć o tydzień zestawienie Song vs Simon. Zawodnicy z TOP 10 rankingu kategorii koguciej pojawią się w main evencie. \nPrzed nimi zaś kolejny pojedynek w kategorii średniej stoczy Michał Oleksiejczuk. Popularny „Husarz” zaliczył udany powrót do dywizji szybko rozprawiając się z Samem Alveyem. Już 4 miesiące później\, również w 1. rundzie\, przez TKO pokonał Cody’ego Brundage’a. Na UFC Vegas 72 fighter poznańskiego Ankosu zmierzy się z rozpędzonym serią 12. walk bez porażki Caio Borralho. Co ciekawe Brazylijczyk w ostatnim występie jednogłośną decyzją sędziów pokonał innego podopiecznego Andrzeja Kościelskiego\, Makhmuda Muradova. \nUFC Vegas 72 – Gdzie oglądać?\nGdzie oglądać UFC na żywo? Transmisja z UFC Vegas 72 z walką Pavlovich vs Blaydes dostępna będzie dla zarejestrowanych użytkowników bukmachera eFortuna.pl. Wystarczy założyć konto i postawić kupon\, by uzyskać dostęp do Fortuna TV! \n \nKursy bukmacherskie na UFC Vegas 72\nGalę UFC Vegas 72 w całości obstawicie u bukmachera eFortuna.pl! Już na sam początek otrzymacie specjalny BONUS w postaci darmowych 20 zł i dodatkowe 10 zł do pierwszego depozytu. Ponadto trzy pierwsze zakłady obstawicie BEZ RYZYKA! \nCo to znaczy> Jeżeli pierwszy kupon będzie zwycięski: gratulacje\, otrzymujesz wygraną. Jeśli zaś przegrasz\, Fortuna zwróci Ci wkład do 100 zł na konto gracza. Kolejny zakład bez ryzyka to kwota do 200 zł\, a ostatni to aż 300 zł\, które Fortuna zwróci\, jeśli również okaże się nietrafiony! \n-> Gram z Fortuną! Odbieram bonus\n \nUFC Vegas 72: Karta walk\nWalka wieczoru: \n\nYadong Song (19-7-1) vs Ricky Simón (20-3-0)\n\nCo-main event: \n\nCaio Borralho (13-1-0) vs Michał Oleksiejczuk (18-5-0)\n\nKarta główna: \n\nCody Brundage (8-3-0) vs Rodolfo Vieira (8-2-0)\nJulian Erosa (28-10-0) vs Fernando Padilla (14-4-0)\nWaldo Cortes-Acosta (9-0-0) vs Marcos Rogério de Lima (20-8-1)\nJosh Quinlan (6-0-0) vs Trey Waters (7-1-0)\n\nKarta wstępna: \n\nMartin Buday (11-1-0) vs Jake Collier (13-8-0)\nCody Durden (14-4-1) vs Charles Johnson (13-4-0)\nStephanie Egger (8-3-0) vs Irina Alekseeva (4-1-0)\nMarcus McGhee (6-1-0) vs Journey Newson (10-4-0)\nHailey Cowan 7-2-0) vs Jamey-Lyn Horth (5-0-0)\n\nOstatnia zmiana 29.04.2023 r
URL:https://strefamma.pl/event/ufc-vegas-72-song-vs-simon/
LOCATION:Las Vegas\, UFC Apex
ATTACH;FMTTYPE=image/jpeg:https://strefamma.pl/wp-content/uploads/2023/04/UFC-Vegas-72-Song-vs-Simon.jpg
END:VEVENT
END:VCALENDAR