BEGIN:VCALENDAR
VERSION:2.0
PRODID:-//StrefaMMA.pl - Portal sportów walki - ECPv5.16.3.1//NONSGML v1.0//EN
CALSCALE:GREGORIAN
METHOD:PUBLISH
X-ORIGINAL-URL:https://strefamma.pl
X-WR-CALDESC:Wydarzenia dla StrefaMMA.pl - Portal sportów walki
REFRESH-INTERVAL;VALUE=DURATION:PT1H
X-Robots-Tag:noindex
X-PUBLISHED-TTL:PT1H
BEGIN:VTIMEZONE
TZID:Europe/Warsaw
BEGIN:DAYLIGHT
TZOFFSETFROM:+0100
TZOFFSETTO:+0200
TZNAME:CEST
DTSTART:20230326T010000
END:DAYLIGHT
BEGIN:STANDARD
TZOFFSETFROM:+0200
TZOFFSETTO:+0100
TZNAME:CET
DTSTART:20231029T010000
END:STANDARD
END:VTIMEZONE
BEGIN:VEVENT
DTSTART;TZID=Europe/Warsaw:20230303T200000
DTEND;TZID=Europe/Warsaw:20230303T233000
DTSTAMP:20260422T024645
CREATED:20230220T144713Z
LAST-MODIFIED:20230303T111710Z
UID:65637-1677873600-1677886200@strefamma.pl
SUMMARY:GROMDA 12
DESCRIPTION:Nadchodzi kolejny krwawy piątek! GROMDA 12 odbędzie się już 3 marca i będzie nawiązywać do lat ’90!\n\nNowy klimat. Znany świat. Tak samo twardzi uliczni wojownicy.\n\nNajlepsza federacja walk na gołe pięści. Czas na krwawy piątek! Brutalne i widowiskowe starcia na gołe pięści uliczny wojowników\, legend dzielnicy oraz mistrzów w swoich dziedzinach! Czas poznać kto jest największym graczem. Kto ma charakter\, jaja ze stali i trochę szczęścia.\n-> OGLĄDAJ GROMDA 12 NA ŻYWO\n\nGROMDA 12: Karta walk\n\nTurniej GROMDA 12 \n \n\n 	Dominik „SUCHY” Suchecki vs. Patryk „ROCKER” Libuszewski\n 	Dustin „TAEDDY” Rabiega vs. Karol „MNICH” Franc\n 	Daniel „BODZIO” Pacyniak vs. Stephan „PROBLEM” Weldon\n 	Christian „POPEYE” Oheim vs. Jarosław „DYNAMIT” Kuśmierski\n\n \nExtra fighty/Ustawka \n \n\n 	Arman „ARMAN” Amiryan vs. Milanko „KALASHNIKOV” Puranovic\n 	Krzysztof „ŻOŁNIERZ” Ryta vs. Jurij „JURIJ” Sinenkov\n 	John „BAD JOHN” Ferguson vs. Sebastian „SCARFACE” Skiermański\n 	Piotr „CAPO” Półchłopek vs. Rob „BIG ROB” Cunningham\n 	Randy „KOFI KING” Randayn vs. Przemysław „REKSIO” Rekowski\n 	Simon „SAVAGE” Henriksen vs. Jakub „KAJFASZ” Sorota\n\n\n\nOstatnia zmiana: 27.02.2023 r.
URL:https://strefamma.pl/event/gromda-12/
LOCATION:Gromda Fight Club\, Pionki\, Mazowieckie\, Poland
ATTACH;FMTTYPE=image/jpeg:https://strefamma.pl/wp-content/uploads/2023/02/GROMDA-12.jpg
END:VEVENT
BEGIN:VEVENT
DTSTART;TZID=Europe/Warsaw:20230304T233000
DTEND;TZID=Europe/Warsaw:20230305T080000
DTSTAMP:20260422T024645
CREATED:20230123T123604Z
LAST-MODIFIED:20230301T100111Z
UID:63125-1677972600-1678003200@strefamma.pl
SUMMARY:UFC 285: Jones vs. Gane
DESCRIPTION:W końcu po trzech latach oczekiwań Jon Jones powróci do oktagonu. Jeden z najlepszych fighterów świata wystąpi na gali UFC 285.\n\nByły król dywizji półciężkiej stanie przed szansą na zdobycie kolejnego tytułu mistrzowskiego. Jon Jones wystąpi w walce wieczoru wydarzenia w Las Vegas i z Cirylem Gane zmierzy się o pas królewskiej kategorii wagowej. Były champion\, Francis Ngannou\, pożegnał się z federacją po wygaśnięciu kontraktu.\n\nDo kolejnej obrony tytułu wagi muszej stanie też Valentina Shevchenko. Popularna „Bullet” po pierwszej od dawna ciężkiej walce i zwycięstwie niejednogłośną decyzją sędziów stanie w szranki z Alexą Grasso.\n\n\nUFC 285: Gamrot vs Turner. Promocja na walkę Polaka!\n \n\nBukmacher eFortuna.pl przygotował specjalny bonus na walkę Mateusza Gamrota! Zasady są banalne. Po założeniu konta przez TEN LINK zrób pierwszy depozyt na kwotę min. 30 zł. Następnie postaw pierwszy kupon na zwycięstwo „Gamera” za min. 2 zł brutto\, a w przypadku gdy Twój kupon okaże się wygrany otrzymasz bonus 200 zł! Promocja trwa od 1.03 do 05.03.2023.\n\n \n\n 	Zwycięstwo Mateusza Gamrota – 1.42 (OBSTAWIAM)\n 	Zwycięstwo Jalina Turnera – 2.70 (OBSTAWIAM)\n\n \n-> Gram z Fortuną! Odbieram bonus\n\n\n\nKursy bukmacherskie na UFC 285\nWszystkie walki UFC 285 nie tylko obstawisz\, lecz także obejrzysz w całości NA ŻYWO u bukmachera eFortuna.pl. Już za samą rejestrację otrzymujesz darmowe 20 zł\, specjalny BONUS i nie jeden\, a aż TRZY ZAKŁADY BEZ RYZYKA!\n\nZasady wykorzystania są niezwykle proste. Jeżeli twój pierwszy kupon będzie zwycięski otrzymujesz wygraną\, jeżeli przegrasz Fortuna zwróci Ci wkład do 100 zł na konto gracza. Kolejny zakład bez ryzyka to kwota do 200 zł\, a ostatni to aż 300 zł\, które Fortuna zwróci\, jeśli również okaże się nietrafiony!\n-> Gram z Fortuną! Odbieram bonus\n\nKarta walk UFC 285: Jones vs. Gane\nWalka wieczoru:\n\n 	Jon Jones (26-1-0) vs. Ciryl Gane (11-1-0) – o zawakowany pas wagi ciężkiej UFC\n\nCo-main event:\n\n 	Valentina Shevchenko (23-3-0) vs. Alexa Grasso (15-3-0) – o pas wagi muszej kobiet UFC\n\nKarta główna:\n\n 	Geoff Neal (15-4-0) vs. Shavkat Rakhmonov (16-0-0)\n 	Mateusz Gamrot (21-2-0) vs. Jalin Turner (13-5-0)\n 	Bo Nickal (3-0-0) vs.Jamie Pickett (13-8-0)\n\nKarta wstępna:\n\n 	Cody Garbrandt (12-5-0) vs. Trevin Jones (13-9-0)\n 	Derek Brunson (23-8-0) vs. Dricus Du Plessis (18-2-0)\n 	Viviane Araujo (11-4-0) vs. Amanda Ribas (11-3-0)\n 	Julian Marquez (9-3-0) vs. Marc-André Barriault (14-6-0)\n\nKarta przedwstępna:\n\n 	Ian Machado (Garry 10-0-0) vs. Kenan Song (19-6-0)\n 	Mana Martinez (10-3-0) vs. Cameron Saaiman (7-0-0)\n 	Jessica Penne (14-6-0) vs. Tabatha Ricci (7-1-0)\n 	Farid Basharat (9-0-0) vs. Da’Mon Blackshear (12-4-1)\n 	Loik Radzhabov (16-4-1) vs. Esteban Ribovics (11-0-0)\n\nOstatnia aktualizacja: 28.02.2023 r
URL:https://strefamma.pl/event/ufc-285-jones-vs-gane/
LOCATION:T-Mobile Arena\, 3780 Las Vegas Blvd S\, Las Vegas\, 89158\, United States
ATTACH;FMTTYPE=image/jpeg:https://strefamma.pl/wp-content/uploads/2023/01/UFC-285-JONES-GANE.jpg
END:VEVENT
BEGIN:VEVENT
DTSTART;TZID=Europe/Warsaw:20230311T220000
DTEND;TZID=Europe/Warsaw:20230312T080000
DTSTAMP:20260422T024645
CREATED:20230213T140614Z
LAST-MODIFIED:20230321T130207Z
UID:65105-1678572000-1678608000@strefamma.pl
SUMMARY:UFC FN 221: Yan vs. Dvalishvili
DESCRIPTION:Największa organizacja MMA na świecie postanowiła zorganizować kolejną galę większym obiekcie w Las Vegas. W main evencie dojdzie do pojedynku Petra Yana z Merabem Dvalishvilim. \nTej nocy na UFC Vegas 71 nie zabraknie też polskich akcentów. W swojej 9. walce dla organizacji wystąpi Ariane Lipski\, była mistrzyni KSW. Brazylijka różnie sobie dotychczas radziła\, zaliczając 3 wygrane i 5 porażek. Jej oponentką będzie JJ Aldrich. \nPóźniej do oktagonu ponownie zawita Łuaksz Brzeski. Polak\, który kontrakt otrzymał po świetnym występie na Dana White’s Contender Series\, zadebiutował w sierpniu 2022 roku. Na gali w San Diego przegrał jednak po kontrowersyjnej niejednogłośnej decyzji z Martinem Budayem. Pierwszego zwycięstwa w organizacji na UFC Vegas 71 szukać będzie w starciu z Karlem Williamsem. \nKursy bukmacherskie na UFC Vegas 71\nGalę UFC Vegas 71 obstawisz i obejrzysz w całości NA ŻYWO u bukmachera eFortuna.pl! Na start przygotowano specjalny BONUS i aż TRZY ZAKŁADY BEZ RYZYKA! \nZasady są proste: jeśli twój pierwszy kupon będzie zwycięski otrzymujesz wygraną\, jeżeli przegrasz Fortuna zwróci Ci wkład do 100 zł na konto gracza. Kolejny zakład bez ryzyka to kwota do 200 zł\, a ostatni to aż 300 zł\, które Fortuna zwróci\, jeśli również okaże się nietrafiony! \n-> Gram z Fortuną! Odbieram bonus\n \nKarta walk UFC Vegas 71: Yan vs. Dvalishvili\nWalka wieczoru \n\nPetr Yan (16-4-0) vs. Merab Dvalishvili (15-4-0)\n\nCo-main event \n\nAlexander Volkov (35-10-0) vs. Alexandr Romanov (16-1-0)\n\nKarta główna \n\nNikita Krylov (29-9-0) vs. Ryan Spann (21-7-0)\nSaid Nurmagomedov (17-2-0) vs. Jonathan Martinez (17-4-0)\nMario Bautista (11-2-0) vs. Guido Cannetti (10-6-0)\nVitor Petrino (7-0-0) vs. Anton Turkalj (8-1-0)\n\nKarta wstępna \n\nŁukasz Brzeski (8-2-1) vs. Karl Williams (7-1-0)\nRaphael Assunção (27-9-0) vs. Davey Grant (12-6-0)\nSedriques Dumas (7-0-0) vs. Josh Fremd(9-4-0)\nTony Gravely (23-8-0) vs. Victor Henry (22-6-0)\nJJ Aldrich (11-5-0) vs. Ariane Lipski (14-8-0)\nTyson Nam (21-12-1) vs. Bruno Silva (12-5-2)\nCarlston Harris (17-5-0) vs. Jared Gooden (22-8-0)\n\nOstatnia zmiana: 11.03.2023 r.
URL:https://strefamma.pl/event/ufc-fn-221-yan-vs-dvalishvili/
LOCATION:The Theater at Virgin Hotels\, Las Vegas\, United States
ATTACH;FMTTYPE=image/jpeg:https://strefamma.pl/wp-content/uploads/2023/02/UFC-Vegas-71-baner.jpg
END:VEVENT
BEGIN:VEVENT
DTSTART;TZID=Europe/Warsaw:20230317T190000
DTEND;TZID=Europe/Warsaw:20230317T233000
DTSTAMP:20260422T024645
CREATED:20230227T200210Z
LAST-MODIFIED:20230313T111846Z
UID:66192-1679079600-1679095800@strefamma.pl
SUMMARY:KSW 80: Eskiev vs. Ruchała
DESCRIPTION:Wyjątkowo\, bo w piątek 17 marca\, odbędzie się gala KSW 80 w Lubinie. W main evencie dojdzie do walki o tymczasowy pas mistrzowski wagi piórkowej: Robert Ruchała vs. Lom-Ali Eskiev. \nNowosądeczanin po wygranej przez jednogłośną decyzję na KSW 75 w rodzinnych stronach od razu ubiegał się o walkę o pas mistrzowski. Właściciele organizacji nie mogli mu zapewnić pojedynku z Salahdinem Parnasse\, ale zorganizowali starcie o tytuł tymczasowy. \nPoczątkowo Robert Ruchała miał spotkać się z Dawidem Śmiełowskim\, jednakże ten wypadł z powodu kontuzji. Jego miejsce zajął Lom-Ali Eskiev\, który przegrał w grudniu na punkty z Danielem Rutkowskim. \nKSW 80: Transmisja na żywo\nWszystkie gale organizacji KSW obejrzysz wyłącznie na platformie Viaplay. Serwis oferuje dostęp nie tylko do wydarzenia na żywo ale również możliwość odtworzenia poprzednich eventów. \nMiesięczny koszt subskrypcji to 55 zł. W tej cenie poza galami KSW otrzymamy również inne wydarzenia sportowe\, w tym angielską Premier League czy też dostęp do wielu filmów i seriali. \n-> WYKUP DOSTĘP DO KSW 80\n \nKursy bukmacherskie na KSW 80\nGalę KSW 80 w całości obstawicie u bukmachera eFortuna.pl! Już na sam początek otrzymacie specjalny BONUS w postaci darmowych 20 zł i aż trzech ZAKŁADÓW BEZ RYZYKA! \nZasady wykorzystania są banalnie proste. Jeżeli pierwszy kupon będzie zwycięski: gratulacje\, otrzymujesz wygraną. Jeśli zaś przegrasz\, Fortuna zwróci Ci wkład do 100 zł na konto gracza. Kolejny zakład bez ryzyka to kwota do 200 zł\, a ostatni to aż 300 zł\, które Fortuna zwróci\, jeśli również okaże się nietrafiony! \n-> Gram z Fortuną! Odbieram bonus\n\nKSW 80: Karta walk\nWalka wieczoru: \n\n65\,8 kg/145 lb: Lom-Ali Eskiev #2 (20-6 1NC\, 9 KO\, 3 Sub) vs Robert Ruchała #3 (8-0\, 3 Sub) – walka o tymczasowy pas mistrzowski wagi piórkowej\n\nKarta główna: \n\n83\,9 kg/185 lb: Tom Breese #4 MW (15-4\, 5 KO\, 9 Sub) vs Bartosz Leśko #8 LHW (11-2-2\, 2 KO\, 6 Sub)\n93 kg/205 lb: Henrique Da Silva #2 (19-8\, 17 KO\, 1 Sub) vs Oumar Sy #4 (7-0\, 3 KO\, 2 Sub)\n77\,1 kg/170 lb: Michał Michalski (9-5\, 5 KO\, 1 Sub) vs Giorgi Kvelidze (10-4-0)\n56\,7 kg/125 lb: Emilia Czerwińska #4 (2-0\, 1 KO) vs Yasmin Guimarães (4-1-0)\n65\,8 kg/145 lb: Wojciech Kazieczko (3-0\, 2 KO) vs Danu Tarchila (5-1-0)\n93 kg/205 lb: Damian Piwowarczyk (5-2\, 1 KO\, 3 Sub) vs Bartek Gładkowicz (8-3\, 4 KO\, 3 Sub)\n77.1 kg/170 lb:: Kacper Koziorzębski (8-5-0) vs Borys Borkowski (4-2-0)\n61\,2kg/135lb: Kamil Szkaradek (3-0-0) vs Przemysław Górny (5-3-0)\n83\,9 kg/185 lb: Mateusz Janur (6-5\, 3 KO\, 1 Sub) vs Andi Vrtačić (3-1\, 1 KO)\n\nOstatnia zmiana: 13.03.2023 r.
URL:https://strefamma.pl/event/ksw-80-eskiev-vs-ruchala/
LOCATION:Regionalne Centrum Sportowe w Lubinie\, Odrodzenia 28\, Lubin\, Lubuskie\, 59-300\, Poland
ATTACH;FMTTYPE=image/png:https://strefamma.pl/wp-content/uploads/2023/02/KSW-80-PLAKAT.png
END:VEVENT
BEGIN:VEVENT
DTSTART;TZID=Europe/Warsaw:20230318T190000
DTEND;TZID=Europe/Warsaw:20230318T233000
DTSTAMP:20260422T024645
CREATED:20230221T152244Z
LAST-MODIFIED:20230313T142012Z
UID:65748-1679166000-1679182200@strefamma.pl
SUMMARY:HIGH League 6
DESCRIPTION:Pierwsza gala jednej z największych polskich organizacji freak fight odbędzie się w katowickim Spodku. Na High League 6 zawalczą takie nazwiska\, jak Denis Załęcki\, „pashaBiceps”\, czy Marcin Najman! \n„Pasha” stoczy drugą walkę we freak fightach. W ubiegłym roku zadebiutował brutalnie rozbijając „Owcę” w boksie\, ale tym razem w grę wchodzą też inne płaszczyzny\, bowiem Jarząbkowski z Marcinem Dubielem zmierzy się w MMA! Dla influencera będzie to drugi pojedynek w tej organizacji po jednogłośnej porażce z „Alberto”. \nNa gali wystąpi Marcin Najman\, ale wciąż nie znamy nazwiska jego rywala na HIGH League 6. Wiadomo za to\, że dojdzie do walki w boksie Denis Załęcki vs. Paweł Tyburski! Zobaczymy też starcie awizowane jako „pojedynek dziennikarzy”\, czyli Michał Cichy vs. Szalony Reporter. \nKursy bukmacherskie na galę HIGH League 6\nGalę High League 6 obstawisz wyłącznie u bukmachera eFortuna.pl! Na start przygotowano dla Ciebie specjalny BONUS\, darmowe 20 zł i aż TRZY ZAKŁADY BEZ RYZYKA! \nZasady są proste: jeśli twój pierwszy kupon będzie zwycięski otrzymujesz wygraną\, jeżeli przegrasz Fortuna zwróci Ci wkład do 100 zł na konto gracza. Kolejny zakład bez ryzyka to kwota do 200 zł\, a ostatni to aż 300 zł\, które Fortuna zwróci\, jeśli również okaże się nietrafiony! \n \n  \n  \nKarta walk HIGH League 6\nPotwierdzone walki: \n\nJarosław “pashaBiceps” Jarząbkowski vs Marcin Dubiel\nLexy Chaplin vs Paulina Hornik\nDenis Załęcki vs Paweł „Tybori” Tyburski\nMarcin Najman vs Paweł „Prezes FEN” Jóźwiak\nMateusz „Don Diego” Kubiszyn vs Dawid Załęcki\nKonrad Karwat vs Denis Labryga\nKacper „Ludwiczek” Bociański vs Dariusz „Daro Lew” Kaźmierczuk\nTomasz „Szalony Reporter” Matysiak vs Michał Cichy\nMateusz „Haribo” Gąsiewski vs Roger Salla\n\nOstatnia zmiana: 13.03.2023 r.
URL:https://strefamma.pl/event/high-league-6/
LOCATION:Spodek\, al. Wojciecha Korfantego 35\, Katowice\, Śląskie\, 40-005\, Poland
ATTACH;FMTTYPE=image/jpeg:https://strefamma.pl/wp-content/uploads/2023/02/HIGH-League-6_StrefaMMA.jpg
END:VEVENT
BEGIN:VEVENT
DTSTART;TZID=Europe/Warsaw:20230318T220000
DTEND;TZID=Europe/Warsaw:20230319T063000
DTSTAMP:20260422T024645
CREATED:20230213T142558Z
LAST-MODIFIED:20230312T085115Z
UID:65109-1679176800-1679207400@strefamma.pl
SUMMARY:UFC 286: Edwards vs. Usman 3
DESCRIPTION:UFC już 18 marca ponownie zawita do Londynu. W main evencie odbędzie się trylogia pomiędzy Kamaru Usmanem\, a Leonem Edwardsem. W stawce będzie oczywiście pas mistrzowski wagi półśredniej. \nPo blisko siedmiu latach od ostatniej porażki Leon Edwards ponownie spotkał się w oktagonie z „Nigeryjskim Koszmarem”. Uznawany za najlepszego zawodnika bez podziału na kategorie wagowe Usman był zdecydowanym faworytem i kroczył do pewnego zwycięstwa na kartach punktowych. Na minutę przed końcem został jednak znokautowany wysokim kopnięciem\, co zakończyło jego długie panowanie. \nW co-main evencie odbędzie się arcyciekawa walka w kategorii lekkiej. Wyzywany przez Mateusza Gamrota były mistrz tymczasowy\, Justin Gaethje stanie w szranki na UFC 286 z rozpędzonym falą 6. zwycięstw z rzędu kickbokserem\, Rafaelem Fizievem. \nKursy bukmacherskie na galę UFC 286: Edwards vs. Usman 3\nGalę UFC 286 obstawisz i obejrzysz w całości NA ŻYWO u bukmachera eFortuna.pl! Na start przygotowano specjalny BONUS i aż TRZY ZAKŁADY BEZ RYZYKA! \nZasady są proste: jeśli twój pierwszy kupon będzie zwycięski otrzymujesz wygraną\, jeżeli przegrasz Fortuna zwróci Ci wkład do 100 zł na konto gracza. Kolejny zakład bez ryzyka to kwota do 200 zł\, a ostatni to aż 300 zł\, które Fortuna zwróci\, jeśli również okaże się nietrafiony! \n-> Gram z Fortuną! Odbieram bonus\n \nKarta walk UFC 286\nWalka wieczoru \n\nLeon Edwards (20-3-0) vs. Kamaru Usman (20-2-0) – o pas mistrzowski wagi półśredniej \n\nCo-main event \n\nJustin Gaethje (23-4-0) vs. Rafael Fiziev (12-1-0)\n\nKarta Główna \n\nGunnar Nelson (18-5-1) vs. Bryan Barberena (18-9-0)\nJennifer Maia (20-9-1) vs. Casey O’Neill (9-0-0)\nMarvin Vettori (18-5-1) vs. Roman Dolidze (12-1-0)\n\nKarta wstępna \n\nJack Shore (16-1-0) vs. Makwan Amirkhani (17-8-0)\nChris Duncan (9-1-0) vs. Omar Morales (11-3-0)\nSam Patterson (10-1-1) vs. Yanal Ashmoz (6-0-0)\nMuhammad Mokaev (8-0-0) vs. Jafel Filho (14-2-0)\n\nKarta przedwstępna \n\nLerone Murphy (11-0-1) vs. Gabriel Santos (10-0-0)\nChristian Leroy Duncan (7-0-0) vs. Duško Todorović (12-3-0)\nJake Hadley (9-1-0) vs. Malcolm Gordon (14-6-0)\nJoanne Wood (15-8-0) vs. Luana Carolina (8-3-0)\nJai Herbert (12-4-0) vs. Ľudovít Klein (19-4-0)\nVeronica Macedo (6-4-1) vs. Juliana Miller (3-1-0)\n\nOstatnia zamiana: 12.03.2023 r.
URL:https://strefamma.pl/event/ufc-286-edwards-vs-usman-3/
LOCATION:O2 Arena\, Londyn\, United Kingdom
ATTACH;FMTTYPE=image/jpeg:https://strefamma.pl/wp-content/uploads/2023/02/UFC-286-Edwards-vs.-Usman-3.jpg
END:VEVENT
BEGIN:VEVENT
DTSTART;TZID=Europe/Warsaw:20230325T220000
DTEND;TZID=Europe/Warsaw:20230326T070000
DTSTAMP:20260422T024645
CREATED:20230213T144846Z
LAST-MODIFIED:20230319T003132Z
UID:65113-1679781600-1679814000@strefamma.pl
SUMMARY:UFC on ESPN 43: Vera vs. Sandhagen
DESCRIPTION:Największa organizacja MMA na świecie wraca do Sand Antonio w Teksasie z kolejną galą! Main eventem UFC Fight Night będzie starcie w kategorii koguciej: Marlon Vera vs. Cory Sandhagen. \nBohaterowie walki wieczoru UFC on ESPN 43 zajmują odpowiednio 4. i 5. lokatę rankingu kategorii koguciej. „Chito” Vera ostatnią porażkę zaliczył w 2020 roku\, gdy na kartach punktowych uległ Jose Aldo. Kolejnych oponentów Ekwadorczyk często pokonywał przed czasem i to w spektakularny sposób. \nPo drugiej stronie klatki znajdzie się „The Sandman”\, który po porażce z TJ-em Dillashawem otrzymał szansę zdobycia tymczasowego pasa mistrzowskiego. Na drodze stanął mu jednak Petr Yan\, który rozbił go na dystansie 25. minut. Sandhagen odbił się po tym demolując Song Yadonga\, którego sędzia nie dopuścił do ostatniej rundy ich pojedynku. \nKursy bukmacherskie na galę UFC on ESPN 43\nGalę UFC on ESPN 43 obstawisz i obejrzysz w całości NA ŻYWO u bukmachera eFortuna.pl! Na start przygotowano specjalny BONUS i aż TRZY ZAKŁADY BEZ RYZYKA! \nZasady są proste: jeśli twój pierwszy kupon będzie zwycięski otrzymujesz wygraną\, jeżeli przegrasz Fortuna zwróci Ci wkład do 100 zł na konto gracza. Kolejny zakład bez ryzyka to kwota do 200 zł\, a ostatni to aż 300 zł\, które Fortuna zwróci\, jeśli również okaże się nietrafiony! \n-> Gram z Fortuną! Odbieram bonus\n \nKarta walk UFC on ESPN 43: Vera vs. Sandhagen\nWalka wieczoru \n\nMarlon Vera (22-7-1) vs. Cory Sandhagen (15-4-0)\n\nCo-main event \n\nHolly Holm (14-6-0) vs. Yana Kunitskaya (14-6-0)\n\nKarta główna \n\nNate Landwehr (16-4-0) vs. Austin Lingo (9-1-0)\nAndrea Lee (13-6-0) vs. Maycee Barber (11-2-0)\nAlex Perez (24-7-0) vs. Manel Kape (18-6-0)\nChidi Njokuani (22-8-0) vs. Albert Duraev (15-4-0)\n\nKarta wstępna \n\nDaniel Pineda (27-14-0) vs. Tucker Lutz (12-2-0)\nSteven Peterson (19-10-0) vs. Lucas Alexander (7-3-0)\nTrevin Giles (15-4-0) vs. Preston Parsons (10-3-0)\nCJ Vergara (10-4-1) vs. Daniel da Silva (11-4-0)\nManuel Torres (13-2-0) vs. Trey Ogden (16-5-0)\nVinicius Salvador (14-4-0) vs. Victor Altamirano (11-2-0)\nTamires Vidal (7-1-0) vs. Hailey Cowan (7-2-0)\n\nOstatnia zmiana: 19.03.2023 r.
URL:https://strefamma.pl/event/ufc-on-espn-43-vera-vs-sandhagen/
LOCATION:AT&T Center\, San Antonio\, United States
ATTACH;FMTTYPE=image/jpeg:https://strefamma.pl/wp-content/uploads/2023/02/UFC-Fight-Night-Vera-vs.-Sandhagen.jpg
END:VEVENT
END:VCALENDAR