BEGIN:VCALENDAR
VERSION:2.0
PRODID:-//StrefaMMA.pl - Portal sportów walki - ECPv5.16.3.1//NONSGML v1.0//EN
CALSCALE:GREGORIAN
METHOD:PUBLISH
X-ORIGINAL-URL:https://strefamma.pl
X-WR-CALDESC:Wydarzenia dla StrefaMMA.pl - Portal sportów walki
REFRESH-INTERVAL;VALUE=DURATION:PT1H
X-Robots-Tag:noindex
X-PUBLISHED-TTL:PT1H
BEGIN:VTIMEZONE
TZID:Europe/Warsaw
BEGIN:DAYLIGHT
TZOFFSETFROM:+0100
TZOFFSETTO:+0200
TZNAME:CEST
DTSTART:20210328T010000
END:DAYLIGHT
BEGIN:STANDARD
TZOFFSETFROM:+0200
TZOFFSETTO:+0100
TZNAME:CET
DTSTART:20211031T010000
END:STANDARD
END:VTIMEZONE
BEGIN:VEVENT
DTSTART;TZID=Europe/Warsaw:20211106T235500
DTEND;TZID=Europe/Warsaw:20211107T063000
DTSTAMP:20260424T013401
CREATED:20211006T115627Z
LAST-MODIFIED:20231113T125805Z
UID:12954-1636242900-1636266600@strefamma.pl
SUMMARY:UFC 268: Usman vs. Covington 2
DESCRIPTION:Na początku listopada odbędzie się UFC 268. W walce wieczoru zobaczymy rewanżowe starcie pomiędzy Kamaru Usmanem a Colbym Covingtonem. Ponadto w co- main evencie Rose Namajunas po raz w karierze zmierzy się z Weili Zhang. Transmisja UFC 268 do obejrzenia będzie za darmo w STS TV \nCała gala od godziny 00:00 transmitowana będzie w STS TV!\nAby obejrzeć\, wystarczy otworzyć konto Tutaj. \n\n\n\n\nWalka wieczoru:\n170 lb: Kamaru Usman (19-1-0) vs. Colby Covington (16-2-0) \nKarta główna:\n115 lb: Rose Namajunas (10-4-0) vs. Weili Zhang (21-2-0)155 lb: Justin Gaethje (22-3-0) vs. Michael Chandler (22-6-0)135 lb: Frankie Edgar (24-9-1) vs. Marlon Vera (19-7-1)145 lb: Shane Burgos (13-3-0) vs. Billy Quarantillo (16-3-0) \nKarta wstępna:\n185 lb: Edmen Shahbazyan (11-2-0) vs. Nassourdine Imavov (10-3-0)155 lb: Al Iaquinta (14-6-1) vs. Bobby Green (27-12-1)185 lb: Andreas Michailidis (13-4-0) vs. Alex Pereira (3-1-0)170 lb: Jordan Williams (9-5-0) vs. Ian Garry (7-0-0)125 lb: C.J. Vergara (9-2-1) vs. Ode Osbourne (9-4-0)265 lb: Gian Villante (17-13-0) vs. Chris Barnett (21-7-0)205 lb.: Aleksa Camur (6-2-0) vs. John Allan (13-6-0)185 lb: Phil Hawes (11-2-0) vs. Chris Curtis (26-8-0)
URL:https://strefamma.pl/event/ufc-268-usman-vs-covington-2/
LOCATION:Madison Square Garden in New York City\, 46 Pennsylvania Plaza (8th Avenue & 33rd Street)\, Manhattan\, New York\, United States
ATTACH;FMTTYPE=image/jpeg:https://strefamma.pl/wp-content/uploads/2021/10/a-4.jpg
END:VEVENT
BEGIN:VEVENT
DTSTART;TZID=Europe/Warsaw:20211112T190000
DTEND;TZID=Europe/Warsaw:20211112T233000
DTSTAMP:20260424T013401
CREATED:20211108T182443Z
LAST-MODIFIED:20211108T182443Z
UID:16464-1636743600-1636759800@strefamma.pl
SUMMARY:Babilon MMA 26: Wawrzyniak vs. Łopaczyk
DESCRIPTION:Już w najbliższy piątek w Ożarowie Mazowieckim odbędzie się gala Babilon MMA 26. W walce wieczoru Tymoteusz Łopaczyk zmierzy się z Piotrem Wawrzyniakiem. \nWalka wieczoru:\n83.9 kg: Tymoteusz Łopaczyk (8-2-0) vs. Piotr Wawrzyniak (8-5-0) \nKarta główna:\n120.2 kg: Filip Stawowy (8-2-0) vs. Marcin Sianos (5-6-0)\n93 kg: Sylwester Kołecki (3-0-0) vs. Damian Kostrzewa (1-1-0)\n83.9 kg: Bartłomiej Gładkowicz (7-1-0) vs. Filip Tomczak (7-3-1)\n70.3 kg: Marcin Skrzek (6-2-0) vs. Filip Lamparski (4-2-0)\n77.1 kg: Konrad Rusiński (3-0-0) vs. Rafał Błachuta (10-8-0)\n65.8 kg\, Semi Pro: Bartosz Stawinoga (1-0-0) vs. Marcin Frycz (0-1-0)\nSemi-Pro: Joanna Walorska vs Piętak
URL:https://strefamma.pl/event/babilon-mma-26-wawrzyniak-vs-lopaczyk/
LOCATION:Ożarów Mazowiecki\,Polska
ATTACH;FMTTYPE=image/jpeg:https://strefamma.pl/wp-content/uploads/2021/11/253092591_6266509250090450_4562511618152682400_n.jpg
END:VEVENT
BEGIN:VEVENT
DTSTART;TZID=Europe/Warsaw:20211112T190000
DTEND;TZID=Europe/Warsaw:20211113T020000
DTSTAMP:20260424T013401
CREATED:20211109T120755Z
LAST-MODIFIED:20231113T125850Z
UID:16549-1636743600-1636768800@strefamma.pl
SUMMARY:Bellator 271: Cyborg vs. Kavanagh
DESCRIPTION:W najbliższy weekend odbędzie się Bellator 271\, gdzie w walce wieczoru Cris Cyborg zmierzy się z Sinead Kavangh. W walce wieczoru Tyrell Fortune zmierzy się z Lintonem Vasellem. \nWalka wieczoru:\n145 lb: Cris Cyborg (24-2-0) vs. Sinead Kavanagh (7-4-0) \nKarta główna:\n265 lb: Tyrell Fortune (11-1-0) vs. Linton Vassell (21-8-0)\n145 lb: Aaron Pico (8-3-0) vs. Justin Gonzales (12-0-0)\n145 lb.: Arlene Blencowe (14-8-0) vs. Pam Sorenson (9-3-0)\n265 lb: Steve Mowry (9-0-0) vs. Rakim Cleveland (22-13-1) \nKarta wstępna:\n125 lb: Bruna Ellen (5-3-0) vs. Desiree Yanez (5-3-0)\n170 lb: Roman Faraldo (5-0-0) vs. Robert Turnquest (11-7-0)\n145 lb: Cody Law (4-0-0) vs. Colton Hamm (4-3-0)\n125 lb: Valerie Loureda (3-1-0) vs. Taylor Turner (5-7-0)\n185 lb: Jordan Newman (3-0-0) vs. Shane O’Shea (4-2-0)\n170 lb: Mahmoud Fawzy Sebie (2-0-0) vs. Ethan Hughes (2-0-0)
URL:https://strefamma.pl/event/bellator-271-cyborg-vs-kavanagh/
LOCATION:USA
ATTACH;FMTTYPE=image/jpeg:https://strefamma.pl/wp-content/uploads/2021/11/FBDGHbJVQAAofPC.jpg-large.jpg
END:VEVENT
BEGIN:VEVENT
DTSTART;TZID=Europe/Warsaw:20211113T190000
DTEND;TZID=Europe/Warsaw:20211114T020000
DTSTAMP:20260424T013401
CREATED:20211105T121453Z
LAST-MODIFIED:20231113T125905Z
UID:15276-1636830000-1636855200@strefamma.pl
SUMMARY:UFC Vegas 42: Holloway vs. Rodriguez
DESCRIPTION:Już 13 listopada odbędzie się UFC Vegas 42. W walce wieczoru były mistrz kategorii piórkowej zmierzy się z niezwykle widowiskowym Yairem Rodriguezem. W co-main evencie Da Un Jung zmierzy się z Kennedym Nzechukwu. Transmisja UFC Vegas 42 do obejrzenia będzie za darmo w STS TV dla wszystkich aktywnych użytkowników! \nCała gala od transmitowana będzie w STS TV!\nAby obejrzeć\, wystarczy otworzyć konto Tutaj.   \n\n\n\n\n\nWalka wieczoru:\n145 lb: Max Holloway vs. Yair Rodriguez \nPozostałe:\n205 lb: Da Un Jung vs. Kennedy Nzechukwu125 lb: Andrea Lee vs. Cynthia Calvillo265 lb: Marcos Rogerio de Lima vs. Ben Rothwell205 lb: Philipe Lins vs. Ovince Saint Preux145 lb: Lando Vannata vs. TBA135 lb: Julio Arce vs. Song Yadong145 lb: Leah Letson vs. Felicia Spencer205 lb: Jailton Almeida vs. Danilo Marques145 lb: Collin Anglin vs. Sean Woodson155 lb: Joel Alvarez vs. Thiago Moises185 lb: Kyle Daukaus vs. TBA155 lb: Rafael Alves vs. Marc Diakiese
URL:https://strefamma.pl/event/ufc-vegas-42-holloway-vs-rodriguez/
LOCATION:Las Vegas\, UFC Apex
ATTACH;FMTTYPE=image/jpeg:https://strefamma.pl/wp-content/uploads/2021/11/a.jpeg
END:VEVENT
BEGIN:VEVENT
DTSTART;TZID=Europe/Warsaw:20211120T200000
DTEND;TZID=Europe/Warsaw:20211121T010000
DTSTAMP:20260424T013401
CREATED:20211106T103107Z
LAST-MODIFIED:20211114T191330Z
UID:16061-1637438400-1637456400@strefamma.pl
SUMMARY:Fame MMA 12: Wrzosek vs. Don Kasjo
DESCRIPTION:20 listopada w Ergo Arnie odbędzie się 12 gala spod szyldu Fame MMA. W walce wieczoru zobaczymy starcie bokserskie pomiędzy byłym mistrzem KSW w wadze piórkowej Marcinem Wrzoeskiem a Kasjuszem „Don Kasjo” Życińskim. Ponadto na karcie zobaczymy starcie o pas mistrzowski wagi półśredniej pomiędzy Adrianem „Polakiem” Polańskim a Maksymilianem „Wiewiórem” Wiewiórką. \nWalka wieczoru:\nMarcin „Polish Zombie” Wrzosek vs Kasjusz „Don Kasjo” Życiński – walka na zasadach bokserskich \nPozostałe:\nAdrian „Polak” Polański vs Maksymilian „Wiewiór” Wiewiórka – o pas mistrzowski wagi półśredniej\nKacper Blonsky vs Mateusz „FIT Lovers” Janusz\nKrzysztof Radzikowski vs Piotr „Bestia” Piechowiak\nJacek Murański vs Arkadiusz Tańcula\nKarolina „Zusje” Smogulecka vs Marta „Marti Renti” Rentel\nPatryk „Ryba” Karaś vs Kornel „Koro” Regel\nKamila „Kamiszka” Wybrańczyk – Anna Andrzejewska\nKrystian „Krycha UFC” Wilczak – Maciej „Szewcu” Szewczyk
URL:https://strefamma.pl/event/fame-mma-12-wrzosek-vs-don-kasjo/
LOCATION:Ergo Arena\, Gdańsk
ATTACH;FMTTYPE=image/jpeg:https://strefamma.pl/wp-content/uploads/2021/11/246124429_413363063492259_7912496328617426443_n.jpg
END:VEVENT
BEGIN:VEVENT
DTSTART;TZID=Europe/Warsaw:20211120T210000
DTEND;TZID=Europe/Warsaw:20211121T023000
DTSTAMP:20260424T013401
CREATED:20211108T090834Z
LAST-MODIFIED:20231113T125922Z
UID:16107-1637442000-1637461800@strefamma.pl
SUMMARY:UFC Vegas 43: Tate vs. Vieira
DESCRIPTION:20 listopada w Las Vegas odbędzie się gala UFC Vegas 43. W walce wieczoru Ketlen Vieira zmierzy się z byłą mistrzynią UFC. Ponadto w co-main evencie wystąpi znany polskiej publicznośći z walki z Marcinem Tyburą Augusto Sakai. Transmisja UFC Vegas 43 do obejrzenia będzie za darmo w STS TV dla wszystkich aktywnych użytkowników! \nCała gala od transmitowana będzie w STS TV!\nAby obejrzeć\, wystarczy otworzyć konto Tutaj. \n  \n\n\n\n\n Walka wieczoru: \n135 lb.: Ketlen Vieira vs. Miesha Tate \nPozostałe: \n265 lb.: Augusto Sakai vs. Tai Tuivasa 170 lb.: Sean Brady vs. Michael Chiesa 125 lb.: Joanne Calderwood vs. Taila Santos 125 lb: Cody Durden vs. Aori Qileng 115 lb: Cheyanne Buys vs. Loma Lookboonmee 155 lb: Terrance McKinney vs. Fares Ziam 155 lb: Rafa Garcia vs. Natan Levy 145 lb: Pat Sabatini vs. Gavin Tucker 205 lb: Azamat Murzakanov vs. Marcin Prachnio 125 lb: Denys Bondar vs. Malcolm Gordon 135 lb: Davey Grant vs. Adrian Yanez 145 lb: Shayilan Nuerdanbieke vs. Sean Soriano
URL:https://strefamma.pl/event/ufc-vegas-43-tate-vs-vieira/
LOCATION:Las Vegas\, UFC Apex
ATTACH;FMTTYPE=image/jpeg:https://strefamma.pl/wp-content/uploads/2021/11/a.jpg
END:VEVENT
BEGIN:VEVENT
DTSTART;TZID=Europe/Warsaw:20211127T190000
DTEND;TZID=Europe/Warsaw:20211127T233000
DTSTAMP:20260424T013401
CREATED:20211123T133325Z
LAST-MODIFIED:20231113T125937Z
UID:16570-1638039600-1638055800@strefamma.pl
SUMMARY:FEN 37: Bajor vs Wieczorek
DESCRIPTION:Już pod koniec listopada we Wrocławiu odbędzie się FEN 37. W walce wieczoru mistrz wagi lekkiej Mateusz Rębecki zmierzy się a Arkadiy’em Osipyanem. Podczas tego wieczoru odbędą się\, aż cztery walki o mistrzowskie pasy organizacji FEN. \nKarta walk: \nWalka wieczoru:\n70.3 kg: Mateusz Rębecki (14-1) vs. Arkadiy Osipyan (7-2) – o pas mistrzowski \nPozostałe:\n77 kg K-1: Dominik Zadora vs. Anatoly Hunanyan – o pas mistrzowski\n120.2 kg: Szymon Bajor (22-9) vs. Bartosz Szewczyk (3-0) – o tymczasowy pas mistrzowski\n77.1 kg: Cezary Oleksiejczuk (7-2) vs. Aigun Akhmedov (22-2) – o pas mistrzowski\n77.1 kg: Adrian Zieliński (20-11) vs. Szymon Dusza (10-6)\n83.9 kg: Krystian Bielski (8-3) vs. Piotr Kuberski (8-1)\nCW 95 kg: Adam Kowalski (13-6-1) vs. Mario Zgela (4-2)\n61.2 kg: Mariusz Joniak (8-4) vs. Lukas Chotenovsky (6-0)\n52 kg K-1: Barbara Nalepka vs. Hanna Gujwan\n93 kg Semi-Pro: Łukasz Olech vs. Paweł Całkowski \n  \n 
URL:https://strefamma.pl/event/fen-37-bajor-vs-wieczorek/
LOCATION:wrocław\, Wrocław
ATTACH;FMTTYPE=image/jpeg:https://strefamma.pl/wp-content/uploads/2021/11/fen-1.jpg
END:VEVENT
END:VCALENDAR