BEGIN:VCALENDAR
VERSION:2.0
PRODID:-//StrefaMMA.pl - Portal sportów walki - ECPv5.16.3.1//NONSGML v1.0//EN
CALSCALE:GREGORIAN
METHOD:PUBLISH
X-ORIGINAL-URL:https://strefamma.pl
X-WR-CALDESC:Wydarzenia dla StrefaMMA.pl - Portal sportów walki
REFRESH-INTERVAL;VALUE=DURATION:PT1H
X-Robots-Tag:noindex
X-PUBLISHED-TTL:PT1H
BEGIN:VTIMEZONE
TZID:Europe/Warsaw
BEGIN:DAYLIGHT
TZOFFSETFROM:+0100
TZOFFSETTO:+0200
TZNAME:CEST
DTSTART:20210328T010000
END:DAYLIGHT
BEGIN:STANDARD
TZOFFSETFROM:+0200
TZOFFSETTO:+0100
TZNAME:CET
DTSTART:20211031T010000
END:STANDARD
END:VTIMEZONE
BEGIN:VEVENT
DTSTART;TZID=Europe/Warsaw:20210605T200000
DTEND;TZID=Europe/Warsaw:20210605T234500
DTSTAMP:20260424T154725
CREATED:20210514T152808Z
LAST-MODIFIED:20210531T150711Z
UID:3133-1622923200-1622936700@strefamma.pl
SUMMARY:KSW 61: Pudzianowski vs. Jurkowski
DESCRIPTION:Na początku czerwca odbędzie się gala KSW 61. Będzie to pierwsze wydarzenie spod szyldu KSW od ponad półtora roku\, na które zostanie wpuszczona publiczność. W walce wieczoru zobaczymy pojedynek pomiędzy Mariuszem Pudzianowskim a Łukaszem Jurkowskim. W co-main evencie powróci były mistrz w wadze piórkowej Salahdine Parnasse\, który zmierzy się z widowiskowo walczącym Filipem Pejicem. \nWalka wieczoru:\n120\,2 kg/265 lb: Mariusz Pudzianowski (14-7\, 9 KO) vs Łukasz Jurkowski (17-11\, 7 KO\, 4 Sub) \nPozostałe:\n65\,8 kg/145 lb: Salahdine Parnasse (14-1-1\, 2 KO\, 4 Sub) vs Filip Pejić (15-4-2\, 10 KO\, 3 Sub)\n120\,2 kg/265 lb: Michał Kita (20-12-1\, 12 KO\, 5 Sub) vs Darko Stošić (14-4\, 9 KO\, 1 Sub)\n77\,1 kg/170 lb: Tomasz Romanowski (13-7\, 4 KO\, 1 Sub) vs Patrik Kincl (23-9\, 11 KO\, 6 Sub)\n70\,3 kg/155 lb: Roman Szymański (13-6\, 2 KO\, 3 Sub) vs Donovan Desmae (14-7\, 7 KO\, 3 Sub)\n53\,5 kg/118 lb: Karolina Owczarz (3-1\, 2 Sub) vs Monika Kučinič (1-0)\n93 kg/205 lb: Przemysław Mysiala (24-10\, 11 KO\, 12 Sub) vs Ivan Erslan (9-1\, 5 KO\, 1 Sub)\n65\,8 kg/145 lb: Damian Stasiak (12-7\, 1 KO\, 9 Sub) vs Andreii Liezhniev (19-9\, 6 KO\, 7 Sub)\n77\,1 kg/170 lb: Jakub Kamieniarz (9-7\, 1 KO\, 6 Sub) vs Adam Niedźwiedź (7-4\, 1 KO\, 6 Sub) \n 
URL:https://strefamma.pl/event/ksw-60-pudzianowski-vs-jurkowski/
LOCATION:Polska\, Polska
ATTACH;FMTTYPE=image/jpeg:https://strefamma.pl/wp-content/uploads/2021/05/186279842_3884812404907556_3925937198298531858_n.jpg
END:VEVENT
BEGIN:VEVENT
DTSTART;TZID=Europe/Warsaw:20210610T233000
DTEND;TZID=Europe/Warsaw:20210611T233000
DTSTAMP:20260424T154725
CREATED:20210608T211549Z
LAST-MODIFIED:20231113T122542Z
UID:4811-1623367800-1623454200@strefamma.pl
SUMMARY:PFL 2021 #4  z udziałem Marcina Helda
DESCRIPTION:Już w tym tygodniu odbędzie się gala PFL 2021 #4. W walce wieczoru wystąpi jedna z najlepszych pięściarek na świecie Claressa Shields\, która w debiucie zmierzy się z Brittney Elkin. Na tej gali wystąpi nasz rodak Marcin Held\, który w drugiej walce w turnieju PFL zawalczy z byłym zawodnikiem UFC Olivierem Aubinem-Mercierem. \nWalka wieczoru:\n155 lb: Claressa Shields (0-0) vs. Brittney Elkin (3-6) \nKarta główna:\n155 lb: Clay Collard (19-8) vs. Joilton Lutterbach (34-9)\n145 lb: Bubba Jenkins (15-4) vs. Bobby Moffett (13-5)\n145 lb: Brendan Loughnane (20-3) vs. Tyler Diamond (12-1) \nKarta wstępna:\n155 lb: Natan Schulte (20-4-1) vs. Alex Martinez (8-0)\n155 lb: Marcin Held (27-7) vs. Olivier Aubin-Mercier (11-5)\n155 lb: Akhmed Aliev (20-6) vs. Loik Radzhabov (13-3-1)\n145 lb: Jesse Stirn (11-4) vs. Sheymon Moraes (11-5)\n145 lb: Chris Wade (18-6) vs. Arman Ospanov (11-3)
URL:https://strefamma.pl/event/pfl-2021-4-z-udzialem-marcina-helda/
LOCATION:USA
ATTACH;FMTTYPE=image/jpeg:https://strefamma.pl/wp-content/uploads/2021/06/pfl.jpg
END:VEVENT
BEGIN:VEVENT
DTSTART;TZID=Europe/Warsaw:20210613T000000
DTEND;TZID=Europe/Warsaw:20210613T060000
DTSTAMP:20260424T154725
CREATED:20210608T211754Z
LAST-MODIFIED:20231113T122559Z
UID:4814-1623542400-1623564000@strefamma.pl
SUMMARY:UFC 263: Adesanya vs. Vettori 2
DESCRIPTION:W najbliższy weekend odbędzie się UFC 263\, gdzie zobaczymy wiele interesujących pojedynków. W walce wieczoru dojdzie do rewanżowego boju pomiędzy mistrzem wagi średniej Israelem Adesanyą a Marvinem Vettorim. \nWalka wieczoru:\n185 lb: Israel Adesanya (20-1) vs. Marvin Vettori (17-3-1) – o pas wagi mistrzowski \nKarta główna\n125 lb: Deiveson Figueiredo (20-1-1) vs. Brandon Moreno (18-5-2) – o pas mistrzowski\n170 lb: Leon Edwards (18-3) vs. Nate Diaz (20-12)\n170 lb: Demian Maia (28-10) vs. Belal Muhammad (18-3)\n205 lb: Paul Craig (14-4-1) vs. Jamahal Hill (8-0) \nKarta wstępna:\n155 lb: Drew Dober (23-10) vs. Brad Riddell (9-1)\n205 lb: Eryk Anders (13-5) vs. Darren Stewart (12-6\, 2)\n125 lb: Lauren Murphy (14-4) vs. Joanne Calderwood (15-5)\n145 lb: Movsar Evloev (14-0) vs. Hakeem Dawodu (12-1-1) \nKarta przedwstępna:\n135 lb: Pannie Kianzad (14-5) vs. Alexis Davis (20-10)\n155 lb: Frank Camacho (22-9) vs. Matt Frevola (8-2-1)\n145 lb: Chase Hooper (10-1-1) vs. Steven Peterson (18-9)\n155 lb: Fares Ziam (11-3) vs. Luigi Vendramini (9-1)\n265 lb: Carlos Felipe (10-1) vs. Jake Collier (12-5) \n 
URL:https://strefamma.pl/event/ufc-263-adesanya-vs-vettori-2/
LOCATION:Glendale
ATTACH;FMTTYPE=image/jpeg:https://strefamma.pl/wp-content/uploads/2021/06/UFC-263-Hero.jpg
END:VEVENT
BEGIN:VEVENT
DTSTART;TZID=Europe/Warsaw:20210619T171500
DTEND;TZID=Europe/Warsaw:20210619T233000
DTSTAMP:20260424T154725
CREATED:20210614T203658Z
LAST-MODIFIED:20230929T113316Z
UID:5091-1624122900-1624145400@strefamma.pl
SUMMARY:OKTAGON 25 z udziałem Kamila Mindy i Marty Waliczek
DESCRIPTION:W najbliższy weekend w Brnie odbędzie się gala OKTAGON 25. W walce wieczoru o pas mistrzowski w wadze ciężkiej Kamil Minda zmierzy się z Martinem Budayem. Ponadto na tej gali wystąpi Marta Waliczek\, która będzie chciała powrócić na ścieżkę zwycięstw. Jej rywalką będzie Rizlen Zouak. \nWalka wieczoru: \n120.2 kg: Martin Buday (7-1) vs. Kamil Minda (7-1) – o pas mistrzowski \nKarta główna:\n70.3 kg: Karol Rysavy (8-3) vs. Marek Bartl (10-9)\n77.1 kg: Bojan Velickovic (18-10-2) vs. Emmanuel Dawa (9-4)\n83.9 kg: Samuel Kristofic (13-3) vs. Al Matavao (8-4)\n52.2 kg: Monika Chochlikova (1-0) vs. Giulia Chinello (3-4) \nKarta wstępna:\n70.3 kg: Ronald Paradeiser (11-7) vs. Arda Adas (9-4)\n83.9 kg: Zdenek Polivka (5-3) vs. Abdel Rahmane Driai (6-1)\n61.2 kg: Marta Waliczek (4-3) vs. Rizlen Zouak (4-2)\n70.3 kg: Frantisek Fodor (8-5) vs. Tomas Fiala (6-4)\n77.1 kg: Vaclav Holota (4-1) vs. Daniel Hromek (2-1)\n80 kg: Jan Fajk (2-0) vs. Anatoly Tarasenko (5-3)\n70.3 kg: Jakub Bahnik (5-4) vs. Ron Becker (4-3)
URL:https://strefamma.pl/event/oktagon-25-z-udzialem-kamila-mindy-i-marty-waliczek/
LOCATION:Zoner BOBYHALL\, Brno\, Czech Republic
ATTACH;FMTTYPE=image/jpeg:https://strefamma.pl/wp-content/uploads/2021/05/oktagon.jpg
END:VEVENT
BEGIN:VEVENT
DTSTART;TZID=Europe/Warsaw:20210619T220000
DTEND;TZID=Europe/Warsaw:20210620T220000
DTSTAMP:20260424T154725
CREATED:20210614T200713Z
LAST-MODIFIED:20210614T200729Z
UID:5122-1624140000-1624226400@strefamma.pl
SUMMARY:UFC Vegas 29: Chan Sung Jung vs. Dan Ige
DESCRIPTION:W najbliższą sobotę organizacja Ultimate Fighting Championship powróci do Las Vegas z galą UFC Vegas 29. W walce wieczoru niezwykle efektownie walczący Chan Sung Jung zawalczy z Danem Ige. W co-main evencie wystąpi rosyjski weteran Alexey Oleynik\, który zawalczy z Sergeyem Spivakiem. \nWalka wieczoru:\n145 lb: Chan Sung Jung (16-6) vs. Dan Ige (15-3) \nKarta główna:\n265 lb: Alexey Oleynik (59-15-1) vs. Sergey Spivak (12-2)\n170 lb: Tim Means (31-12-1) vs. Danny Roberts (17-5)\n135 lb: Marlon Vera (18-7-1) vs. Davey Grant (11-4)\n185 lb: Wellington Turman (16-4) vs. Bruno Silva (19-6)\n170 lb: Dhiego Lima (15-8) vs. Matt Brown (22-18) \nKarta wstępna:\n205 lb: Aleksa Camur (6-1) vs. Nicolae Negumereanu (9-1)\n115 lb: Virna Jandiroba (16-2) vs. Kanako Murata (12-1)\n170 lb: Matthew Semelsberger (8-2) vs. Khaos Williams (11-2)\n145 lb: Julian Erosa (25-8) vs. Seung Woo Choi (9-3)\n265 lb: Josh Parisian (13-4) vs. Roque Martinez (15-7-2)\n155 lb: Joaquim Silva (11-2) vs. Ricky Glenn (21-6-1)\n125 lb: Lara Procopio (7-1) vs. Casey O’Neill (6-0)
URL:https://strefamma.pl/event/ufc-vegas-29-jung-vs-ige/
LOCATION:USA
ATTACH;FMTTYPE=image/jpeg:https://strefamma.pl/wp-content/uploads/2021/06/ige.jpg
END:VEVENT
BEGIN:VEVENT
DTSTART;TZID=Europe/Warsaw:20210626T190000
DTEND;TZID=Europe/Warsaw:20210626T233000
DTSTAMP:20260424T154725
CREATED:20210620T172133Z
LAST-MODIFIED:20231113T122850Z
UID:5358-1624734000-1624750200@strefamma.pl
SUMMARY:UFC Vegas 30 z udziałem Marcina Prachni
DESCRIPTION:W przyszły weekend odbędzię się UFC Vegas 30\, gdzie w walce wieczoru Ciryl Gane zmierzy się z niebezpiecznym Alexandrem Volkovem. Na tej gali powróci też nasz rodak Marcin Prachnio. \nWalka wieczoru:\n265 lb: Ciryl Gane (8-0) vs. Alexander Volkov (33-8) \nKarta główna:\n265 lb: Tanner Boser (19-8-1) vs. Ovince St. Preux (25-15)\n205 lb: Kennedy Nzechukwu (8-1) vs. Danilo Marques (11-2)\n145 lb: Andre Fili (21-8) vs. Daniel Pineda (27-14)\n170 lb: Nicolas Dalby (19-3-1) vs. Tim Means (31-12-1)\n155 lb: Renato Moicano (14-4-1) vs. Jai Herbert (10-2) \nKarta wstępna:\n135 lb: Raoni Barcelos (16-1) vs. Timur Valiev (17-2)\n170 lb: Shavkat Rakhmonov (13-0) vs. Michel Prazeres (26-3)\n205 lb: Marcin Prachnio (14-5) vs. Ike Villanueva (18-11)\n135 lb: Julia Avila (8-2) vs. Julija Stoliarenko (9-4-1)\n145 lb: Charles Rosa (13-5) vs. Justin Jaynes (16-7)\n155 lb: Yancy Medeiros (15-7) vs. Damir Hadzovic (13-6)
URL:https://strefamma.pl/event/ufc-vegas-30-z-udzialem-marcina-prachni/
LOCATION:USA
ATTACH;FMTTYPE=image/jpeg:https://strefamma.pl/wp-content/uploads/2021/06/ufc-fn-1.jpg
END:VEVENT
END:VCALENDAR