BEGIN:VCALENDAR
VERSION:2.0
PRODID:-//StrefaMMA.pl - Portal sportów walki - ECPv5.16.3.1//NONSGML v1.0//EN
CALSCALE:GREGORIAN
METHOD:PUBLISH
X-WR-CALNAME:StrefaMMA.pl - Portal sportów walki
X-ORIGINAL-URL:https://strefamma.pl
X-WR-CALDESC:Wydarzenia dla StrefaMMA.pl - Portal sportów walki
REFRESH-INTERVAL;VALUE=DURATION:PT1H
X-Robots-Tag:noindex
X-PUBLISHED-TTL:PT1H
BEGIN:VTIMEZONE
TZID:Europe/Warsaw
BEGIN:DAYLIGHT
TZOFFSETFROM:+0100
TZOFFSETTO:+0200
TZNAME:CEST
DTSTART:20210328T010000
END:DAYLIGHT
BEGIN:STANDARD
TZOFFSETFROM:+0200
TZOFFSETTO:+0100
TZNAME:CET
DTSTART:20211031T010000
END:STANDARD
END:VTIMEZONE
BEGIN:VEVENT
DTSTART;TZID=Europe/Warsaw:20210515T120000
DTEND;TZID=Europe/Warsaw:20210515T180000
DTSTAMP:20260424T173627
CREATED:20210514T141244Z
LAST-MODIFIED:20210514T141244Z
UID:3130-1621080000-1621101600@strefamma.pl
SUMMARY:ONE Championship Dangal: Verra vs. Bhullar
DESCRIPTION:W najbliższą sobotę w Singapurze odbędzie się gala ONE Championship Dangal. W walce wieczoru były zawodnik UFC\, a obecny podwójny mistrz ONE Championship Brandon Vera zmierzy się z Arjanem Bhullarem. \nWalka wieczoru:\n265 lb: Champ Brandon Vera vs. Arjan Bhullar – o pas mistrzowski \nPozostałe\n145 lb\, Muay Thai: Tawanchai PK Saenchai vs. Sean Clancy\n115 lb: Bi Nguyen vs. Ritu Phogat\n128 lb: Rayane Bastos vs. Ayaka Miura\n145 lb: Roshan Mainam vs. Gary Mangat
URL:https://strefamma.pl/event/one-championship-dangal-verra-vs-bhullar/
LOCATION:Singapur\, Singapore
ATTACH;FMTTYPE=image/jpeg:https://strefamma.pl/wp-content/uploads/2021/05/maxresdefault-2.jpg
END:VEVENT
BEGIN:VEVENT
DTSTART;TZID=Europe/Warsaw:20210515T193000
DTEND;TZID=Europe/Warsaw:20210516T000000
DTSTAMP:20260424T173627
CREATED:20210514T093048Z
LAST-MODIFIED:20231113T122238Z
UID:3121-1621107000-1621123200@strefamma.pl
SUMMARY:Fame MMA 10: Don Kasjo vs. Parke
DESCRIPTION:W sobotę 15 maja odbędzie się Fame MMA 10\, gdzie zobaczymy aż 10 pojedynków w tym dwie walki o pasy mistrzowskie. W walce wieczoru niepokonany w klatce Fame MMA zmierzy się ze znanym z KSW Normanem Parkiem. Walka odbędzie się według reguł boksu zawodowego. \nWalka wieczoru\nKasjusz „Don Kasjo” Życiński vs Norman „Stormin” Parke \nKarta główna\nMarcin Dubiel vs Cezary „Czaro” Nykiel\nDawid Malczyński vs Adrian „Polak” Polański – o pas mistrzowski\nAmadeusz „Ferrari” Roślik vs Mateusz „Haribo” Gąsiewski\nMarta „Linkimaster” Linkiewicz vs Kamila „Kamiszka” Wybrańczyk – o pas mistrzowski\nMichał Gała vs Mikołaj Śmieszek\nGabriel „Arab” Al-Sulwi vs Łukasz Lupa\nPiotr Pająk vs Alan Kwieciński\nArkadiusz „AroY” Tańcula vs Mateusz „Muran” Murański\nDawid “Ambro” Ambroziak vs. Piotr “Miejski Drwal” Szczurek \nCena za dostęp do gali FAME MMA 10: Norman Parke vs Don Kasjo wynosi 23\,99 złł Dostęp zaleca wykupić się wcześniej\, wszystko to przez ogromne przeciążenia serwerów w trakcie trwania gali – Wasza płatność może być wtedy dłużej pobierana. \n■ WYKUP PPV – TUTAJ ■
URL:https://strefamma.pl/event/fame-mma-10-don-kasjo-vs-parke/
LOCATION:Łódź\, Łódź\, Poland
ATTACH;FMTTYPE=image/jpeg:https://strefamma.pl/wp-content/uploads/2021/05/3-1.jpg
END:VEVENT
BEGIN:VEVENT
DTSTART;TZID=Europe/Warsaw:20210516T001500
DTEND;TZID=Europe/Warsaw:20210516T070000
DTSTAMP:20260424T173627
CREATED:20210514T080100Z
LAST-MODIFIED:20210514T205157Z
UID:3114-1621124100-1621148400@strefamma.pl
SUMMARY:UFC 262: Oliveira vs. Chandler
DESCRIPTION:15 maja z soboty na niedzielę UFC 262. W walce wieczoru zobaczymy starcie o pas mistrzowski w wadze lekkiej pomiędzy Charlesem Oliveirą (30-8) a Michaelem Chandlerem (22-5). W co-main evencie do klatki powróci jeden z najbardziej widowiskowych zawodników  w amerykańskiej organizacji Tony Ferguson (25-5). Jego rywalem będzie Beneil Dariush (20-4-1). \nWalka wieczoru:\n155 lb: Charles Oliveira (30-8) vs. Michael Chandler (22-5) – o pas mistrzowski \nKarta główna:\n155 lb: Tony Ferguson (25-5) vs. Beneil Dariush (20-4-1)\n125 lb: Katlyn Chookagian (15-4) vs. Viviane Araujo (10-2)\n145 lb: Shane Burgos (13-2) vs. Edson Barboza (21-9) \nKarta wstępna:\n185 lb: Ronaldo Souza (26-9) vs. Andre Muniz (20-4)\n125 lb: Matt Schnell (15-5) vs. Rogerio Bontorin (16-3)\n145 lb: Lando Vannata (11-5-2) vs. Mike Grundy (12-2)\n125 lb: Andrea Lee (11-5) vs. Antonina Shevchenko (9-2) \nKarta przedwstępna:\n185 lb: Jordan Wright (11-1) vs. Jamie Pickett (11-5)\n125 lb: Gina Mazany (7-4) vs. Priscila Cachoeira (9-3)\n155 lb: Kevin Aguilar (17-4) vs. Tucker Lutz (11-1)\n155 lb: Christos Giagos (18-8) vs. Sean Soriano (14-6)
URL:https://strefamma.pl/event/ufc-262-oliveira-vs-chandler/
LOCATION:USA
ATTACH;FMTTYPE=image/jpeg:https://strefamma.pl/wp-content/uploads/2021/05/640x356_UFC262_web.jpg
END:VEVENT
BEGIN:VEVENT
DTSTART;VALUE=DATE:20210521
DTEND;VALUE=DATE:20210522
DTSTAMP:20260424T173627
CREATED:20210514T202846Z
LAST-MODIFIED:20230929T113812Z
UID:3173-1621555200-1621641599@strefamma.pl
SUMMARY:Bellator 259: Cyborg vs. Smith 2
DESCRIPTION:21 maja w nocy z czwartku na piątek odbędzie się Bellator 259. Na tym wydarzeniu Cris Cyborg stoczy trzeci pojedynek pod szyldem Bellatora. W rewanżowym boju spotka się z Leslie Smith. W pierwszym boju na UFC 198 przez TKO zwyciężyła Brazylijka. \nWalka wieczoru:\n145 lb: Cris Cyborg (25-2) vs. Leslie Smith (12-8\, 1 NC) \nKarta główna:\n135 lb: Darion Caldwell (15-4) vs. Leandro Higo (20-5)\n205 lb: Christian Edwards (4-0) vs. Ben Parrish (4-1)\n170 lb: Austin Vanderford (10-0) vs. Fabian Edwards (9-1)\n135 lb: Jaleel Willis (14-2) vs. Maycon Mendoca (11-4) \nKarta wstępna:\n125 lb: Valerie Loureda 3-0 vs. Hannah Guy (2-1)\n155 lb: Alexander Shabliy (19-3) vs. Alfie Davis (14-3)\n155 lb: Saad Awad (23-13) vs. Nate Andrews (16-3)\n145 lb: Leah McCourt (4-1) vs. Janay Harding (6-5)\n265 lb: Davion Franklin (2-0) vs. Tyler King ( )\n155 lb: Aviv Gozali (5-0)vs. Sean Felton (5-2)\n205 lb: Grant Neal (5-0) vs. Tyree Fortune (5-0)\n125 lb: Sumiko Inaba (1-0) vs. Kristina Katsikis (1-1)
URL:https://strefamma.pl/event/bellator-259-cyborg-vs-smith-2/
LOCATION:USA
ATTACH;FMTTYPE=image/jpeg:https://strefamma.pl/wp-content/uploads/2021/05/CyborgSmith2-696x392-1.jpg
END:VEVENT
BEGIN:VEVENT
DTSTART;TZID=Europe/Warsaw:20210522T100000
DTEND;TZID=Europe/Warsaw:20210523T100000
DTSTAMP:20260424T173627
CREATED:20210514T125621Z
LAST-MODIFIED:20210517T183509Z
UID:3126-1621677600-1621764000@strefamma.pl
SUMMARY:UFC Vegas 27: Font vs. Garbrandt
DESCRIPTION:W sobotę 22 maja odbędzie się UFC Vegas 27. Na tej gali zobaczymy wiele interesujących pojedynków. W walce wieczoru zobaczymy starcie w wadze koguciej pomiędzy Robem Fontem\, a byłym mistrzem UFC w tej dywizji Codym Garbrandtem. Ponadto w karcie głównej dojdzie do ciekawego boju pomiędzy Carlą Esparzą a Xiaonan Yan. \nWalka wieczoru:\n135 lb: Rob Font (18-4) vs. Cody Garbrandt (12-3) \nKarta główna:\n115 lb: Xiaonan Yan (13-1) vs. Carla Esparza (17-6)\n265 lb: Justin Tafa (4-2) vs. Jared Vanderaa (11-5)\n145 lb: Felicia Spencer (8-2) vs. Norma Dumont (5-1)\n125 lb: David Dvořák (19-3) vs. Raulian Paiva (20-3)\n185 lb: Jack Hermansson (21-6) vs. Edmen Shahbazyan (11-1) \nKarta wstępna:\n145 lb: Bill Algeo (14-5) vs. Ricardo Ramos (14-3)\n265 lb: Ben Rothwell (38-13) vs. Chris Barnett (21-6)\n170 lb: Claudio Silva (14-2) vs. Court McGee (19-10)\n125 lb: Victor Rodriguez (7-3) vs. Bruno Silva (11-5-2)\n145 lb: Joshua Culibao (8-1-1) vs. Yilan Sha (19-6)\n155 lb: Yancy Medeiros (15-7-0) vs. Damir Hadžović (13-6)\n155 lb: Damir Ismagulov (22-1) vs. Rafael Alves (19-9)\n135 lb: Sarah Alpar (9-5) vs. Lupita Godinez (5-1) \n 
URL:https://strefamma.pl/event/ufc-vegas-27-font-vs-garbrandt/
LOCATION:USA
ATTACH;FMTTYPE=image/jpeg:https://strefamma.pl/wp-content/uploads/2021/05/ccc.jpg
END:VEVENT
BEGIN:VEVENT
DTSTART;TZID=Europe/Warsaw:20210522T193000
DTEND;TZID=Europe/Warsaw:20210522T234000
DTSTAMP:20260424T173627
CREATED:20210516T215923Z
LAST-MODIFIED:20230929T113829Z
UID:3230-1621711800-1621726800@strefamma.pl
SUMMARY:Babilon MMA 22: Błeszyński vs. Wawrzyniak
DESCRIPTION:W najbliższą sobotę odbędzie się Babilon MMA 22. Na tej gali zobaczymy wiele interesujących pojedynków. W walce wieczoru zobaczymy niedawnego pretendenta do pasa mistrzowskiego w wadze średniej Adriana Błeszyńskiego. Jego rywalem będzie Piotr Wawrzyniak. \nWalka wieczoru:\n83.9 kg: Adrian Błeszyński (9-4-1) vs. Piotr Wawrzyniak (7-5) \nPozostałe:\n70.3 kg: Marcin Jabłoński (9-2) vs. Alan Langer (11-7)\n120.2 kg: Sylwester Kołecki (2-0) vs. Konrad Konkel (1-1)\n83.9 kg: Adam Łaguna (4-1) vs. Mateusz Janur (3-2)\n65.8 kg: Karol Kutyła (4-1) vs. Adam Fidkowki (2-1)\n93 kg: Adam Tomasik (4-0) vs. Dawid Kobiera (2-2)\n70.3 kg: Damian Zuba (3-2) vs. Oskar Herczyk (3-2)\n120.2 kg\, Semi-Pro: Michał Bednarski vs. Karol Turczyński
URL:https://strefamma.pl/event/babilon-mma-22-bleszynski-vs-wawrzyniak/
LOCATION:Polska\, Polska
ATTACH;FMTTYPE=image/jpeg:https://strefamma.pl/wp-content/uploads/2021/05/babilon-mma-22.jpg
END:VEVENT
BEGIN:VEVENT
DTSTART;TZID=Europe/Warsaw:20210528T200000
DTEND;TZID=Europe/Warsaw:20210528T234500
DTSTAMP:20260424T173627
CREATED:20210514T195818Z
LAST-MODIFIED:20230929T113907Z
UID:3145-1622232000-1622245500@strefamma.pl
SUMMARY:FEN 34: Trybson vs. Borowski 2
DESCRIPTION:Pod koniec maja odbędzie się FEN 34. W walce wieczoru zobaczymy rewanżowe starcie Pawła „Trybsona” Trybały z Łukaszem „Borosiem” Borowskim. Ponadto zobaczymy starcie o tytuł w wadze do 61 kilogramów pomiędzy mistrzem Jonasem Magardem a Fransem Mlambo. \nWalka wieczoru\n93\,0 kg\, MMA: Paweł “Trybson” Trybała vs Łukasz “Boroś” Borowski \nPozostałe:\n61\,2 kg MMA: Jonas Magard vs Frans Mlambo – o pas mistrzowski\n61\,2 kg\, MMA: Aniela “Lil Masti” Bogusz vs. Ada Śledź\n77\,1 kg\, MMA: Szymon Dusza vs Cezary Oleksiejczuk\n70\,3 kg\, MMA: Łukasz Charzewski vs Damien Lapilus\n61\,2 kg\, MMA: Ekaterina Shakalova vs Jamila Sandora\n93\,0 kg\, MMA: Michał Piwowarski vs Kacper Miklasz\n110\,00 kg\, MMA: Epic Cheat Meal vs Mateusz Murański\n94\,0 kg\, MMA: Kamil Piórkowski vs Adam Radziszewski\n61\,0 kg MMA: Paulina Paola vs WiktoriaGnieciak \n 
URL:https://strefamma.pl/event/fen-34-trybson-vs-borowski/
LOCATION:warszawa
ATTACH;FMTTYPE=image/jpeg:https://strefamma.pl/wp-content/uploads/2021/05/fen-34.jpg
END:VEVENT
END:VCALENDAR