BEGIN:VCALENDAR
VERSION:2.0
PRODID:-//StrefaMMA.pl - Portal sportów walki - ECPv5.16.3.1//NONSGML v1.0//EN
CALSCALE:GREGORIAN
METHOD:PUBLISH
X-WR-CALNAME:StrefaMMA.pl - Portal sportów walki
X-ORIGINAL-URL:https://strefamma.pl
X-WR-CALDESC:Wydarzenia dla StrefaMMA.pl - Portal sportów walki
REFRESH-INTERVAL;VALUE=DURATION:PT1H
X-Robots-Tag:noindex
X-PUBLISHED-TTL:PT1H
BEGIN:VTIMEZONE
TZID:Europe/Warsaw
BEGIN:DAYLIGHT
TZOFFSETFROM:+0100
TZOFFSETTO:+0200
TZNAME:CEST
DTSTART:20240331T010000
END:DAYLIGHT
BEGIN:STANDARD
TZOFFSETFROM:+0200
TZOFFSETTO:+0100
TZNAME:CET
DTSTART:20241027T010000
END:STANDARD
END:VTIMEZONE
BEGIN:VEVENT
DTSTART;TZID=Europe/Warsaw:20240601T220000
DTEND;TZID=Europe/Warsaw:20240602T070000
DTSTAMP:20260420T184217
CREATED:20240513T115915Z
LAST-MODIFIED:20240601T123343Z
UID:100511-1717279200-1717311600@strefamma.pl
SUMMARY:UFC 302: Makhachev vs. Poirier
DESCRIPTION:W nocy z soboty 1 czerwca na niedzielę 2 czerwca czeka nas gala UFC 302. W walce wieczoru Dustin Poirier stanie przed kolejną szansą na zostanie mistrzem wagi lekkiej. Jego przeciwnikiem będzie oczywiście Islam Makhachev. \nIslam Makhachev i Dustin Poirier zmierzą się w main evencie gali w Prudential Center w Newark. Dla „Diamentu” będzie to już trzecia szansa na zostanie mistrzem. Wcześniej dwukrotnie klubowy kolega Mateusza Gamrota przegrywał przed czasem. W grudniu 2021 roku Charles Oliveira poddał go duszeniem zza pleców. Podobnie zresztą\, jak wcześniej Khabib Nurmagomedov. \nIslam Makhachev dominuje kategorię lekką i w październiku brutalnie znokautował Volkanovskiego. Dagestańczyk kontynuuje swoje panowanie\, a Dustin Poirier ma być kolejnym cennym skalpem w rekordzie. \nPodczas UFC 302 do klatki wróci też Michał Oleksiejczuk. „Husarz” zmierzy się z Kevinem Hollandem\, a pojedynek ten znalazł się w karcie głównej gali. W co-main evencie zobaczymy z kolei potyczkę Strickland vs. Costa/ \nKursy i zakłady na UFC 302: Makhachev vs. Poirier\nGalę UFC 302: Makhachev vs. Poirier w całości obstawicie u bukmachera eFortuna.pl. Na start czekają na Was liczne bonusy. Za rejestrację i depozyt otrzymacie darmowe 30 zł. Do tego trzy pierwsze zakłady do 100 zł obstawicie w całości bez ryzyka! \nOdbieram bonusy na UFC 302: Makhachev vs. Poirier! \n \nUFC 302: Makhachev vs. Poirier – KARTA WALK\nWalka wieczoru: \n\nIslam Makhachev (25-1) vs. Dustin Poirier (30-8) – walka o pas kategorii lekkiej UFC\n\nKarta główna: \n\nSean Strickland (28-6) vs. Paulo Costa (14-3)\nKevin Holland (25-11) vs. Michał Oleksiejczuk (19-7)\nNiko Price (15-7) vs. Alex Morono (24-9)\nRandy Brown (18-5) vs. Elizeu Zaleski (24-7-1)\n\nKARTA WSTĘPNA: \n\nRoman Kopylov (12-3) vs. Cesar Almeida (5-0)\nJailton Almeida (20-3) vs. Alexandr Romanov (17-2)\nGrant Dawson (20-2-1) vs. Joe Solecki (13-4)\nPhil Rowe (10-4) vs. Jake Matthews (19-7)\nMickey Gall (7-5) vs. Bassil Hafez (8-4-1)\nJoselyne Edwards (13-5) vs. Ailin Perez (9-2)\nMitch Raposo (9-1) vs. Andre Lima (8-0)\n\nOstatnia zmiana 01.06.2024 r.
URL:https://strefamma.pl/event/ufc-302-makhachev-vs-poirier/
LOCATION:Prudential Center\, 25 Lafayette St\, Newark\, 07102\, United States
ATTACH;FMTTYPE=image/jpeg:https://strefamma.pl/wp-content/uploads/2024/05/UFC-302-Makhachev-vs.-Poirier.jpg
END:VEVENT
END:VCALENDAR