BEGIN:VCALENDAR
VERSION:2.0
PRODID:-//StrefaMMA.pl - Portal sportów walki - ECPv5.16.3.1//NONSGML v1.0//EN
CALSCALE:GREGORIAN
METHOD:PUBLISH
X-ORIGINAL-URL:https://strefamma.pl
X-WR-CALDESC:Wydarzenia dla StrefaMMA.pl - Portal sportów walki
REFRESH-INTERVAL;VALUE=DURATION:PT1H
X-Robots-Tag:noindex
X-PUBLISHED-TTL:PT1H
BEGIN:VTIMEZONE
TZID:Europe/Warsaw
BEGIN:DAYLIGHT
TZOFFSETFROM:+0100
TZOFFSETTO:+0200
TZNAME:CEST
DTSTART:20240331T010000
END:DAYLIGHT
BEGIN:STANDARD
TZOFFSETFROM:+0200
TZOFFSETTO:+0100
TZNAME:CET
DTSTART:20241027T010000
END:STANDARD
END:VTIMEZONE
BEGIN:VEVENT
DTSTART;TZID=Europe/Warsaw:20240531T190000
DTEND;TZID=Europe/Warsaw:20240601T020000
DTSTAMP:20260420T184428
CREATED:20240528T063716Z
LAST-MODIFIED:20240528T063716Z
UID:101852-1717182000-1717207200@strefamma.pl
SUMMARY:GROMDA 17: VABANK
DESCRIPTION:Już 31 maja w Mieście Grzechu dojdzie do wyczekiwanego rewanżu w walce na gołe pięści. Mateusz „Don Diego” Kubiszyn stanie do obrony pasa mistrzowskiego\, który zdobył w walce z Bartłomiejem „Balboą” Domalikiem. \nW piątek 31 maja czekają nas kolejne niesamowite emocje i brutalne walki na gołe pięści! Galę GROMDA 17: VABANK zakończy pojedynek o pas mistrzowski organizacji\, którego bronić będzie Mateusz „Don Diego” Kubiszyn. Jego przeciwnikiem po raz kolejny będzie król nokautów\, Bartłomiej „Balboa” Domalik. \nTransmisja z gali GROMDA 17: Don Diego vs. Balboa 2 będzie dostępna wyłącznie w systemie PPV na GROMDA.tv. Koszt dostępu PPV wynosi 39\,99 zł. GROMDA oferuje także droższe pakiety z wyższą jakością transmisji. \n \nGROMDA 17: Karta walk\nPełna karta walk znana będzie po oficjalnej ceremonii losowania\, która odbędzie się we czwartek 30 maja. \nOstatnia zmiana: 28.05.2024 r.
URL:https://strefamma.pl/event/gromda-17-vabank/
LOCATION:Gromda Fight Club\, Pionki\, Mazowieckie\, Poland
ATTACH;FMTTYPE=image/jpeg:https://strefamma.pl/wp-content/uploads/2024/05/GROMDA-17-juz-w-ten-piatek-Wielki-rewanz-Don-Diego-vs.-Balboa.jpg
END:VEVENT
END:VCALENDAR