BEGIN:VCALENDAR
VERSION:2.0
PRODID:-//StrefaMMA.pl - Portal sportów walki - ECPv5.16.3.1//NONSGML v1.0//EN
CALSCALE:GREGORIAN
METHOD:PUBLISH
X-WR-CALNAME:StrefaMMA.pl - Portal sportów walki
X-ORIGINAL-URL:https://strefamma.pl
X-WR-CALDESC:Wydarzenia dla StrefaMMA.pl - Portal sportów walki
REFRESH-INTERVAL;VALUE=DURATION:PT1H
X-Robots-Tag:noindex
X-PUBLISHED-TTL:PT1H
BEGIN:VTIMEZONE
TZID:Europe/Warsaw
BEGIN:DAYLIGHT
TZOFFSETFROM:+0100
TZOFFSETTO:+0200
TZNAME:CEST
DTSTART:20240331T010000
END:DAYLIGHT
BEGIN:STANDARD
TZOFFSETFROM:+0200
TZOFFSETTO:+0100
TZNAME:CET
DTSTART:20241027T010000
END:STANDARD
END:VTIMEZONE
BEGIN:VEVENT
DTSTART;TZID=Europe/Warsaw:20240316T190000
DTEND;TZID=Europe/Warsaw:20240317T010000
DTSTAMP:20260420T232906
CREATED:20240227T122032Z
LAST-MODIFIED:20240315T100704Z
UID:93269-1710615600-1710637200@strefamma.pl
SUMMARY:XTB KSW 92: Wikłacz vs Jojua
DESCRIPTION:Kolejna gala największej organizacji MMA w Polsce odbędzie się w Gorzowie Wielkopolskim. Na kibiców czekają niesamowite wrażenia i walka o pas kategorii koguciej! \nJakub Wikłacz przystąpi do kolejnej obrony pasa\, po kontrowersyjnie zakończonym starciu z Sebastianem Przybyszem. Tym razem pretendentem do pasa zawodnika Ankosu MMA Poznań będzie Zuriko Jojua. \nWcześniej kolejną walkę stoczy legenda i bijące serce KSW. Michał Materla skrzyżuje ręce z byłym fighterem FEN\, Piotrem Kuberskim. Dla „Q-beara” będzie to drugi pojedynek pod szyldem tej organizacji. \nKursy i zakłady na XTB KSW 92\nGalę XTB KSW 92 w całości obstawicie u bukmachera eFortuna.pl. Na start czekają na Was liczne bonusy. Za rejestrację otrzymacie darmowe 20 zł\, a 10 zł zostanie dodane do pierwszego depozytu. Co więcej a aż trzy pierwsze zakłady do 100 zł obstawicie w całości bez ryzyka! \nOdbieram bonusy na XTB KSW 92! \n \nKARTA WALK XTB KSW 92\nWalka wieczoru: \n\n61\,2 kg/135 lb: Jakub Wikłacz #C (14-3-2\, 9 Sub) vs Zuriko Jojua #2 (9-1\, 1 KO\, 4 Sub) – Walka o pas wagi koguciej KSW\n\nKarta główna: \n\n83\,9 kg/185 lb: Piotr Kuberski #3 (13-1\, 11 KO) vs Michał Materla #5 (33-10\, 13 KO\, 13 Sub)\n65\,8 kg/145 lb: Daniel Rutkowski #3 (16-4 1NC\, 7 KO\, 1 Sub)\, vs Julio Cesar Neves Jr. (36-1\, 20 KO\, 10 Sub)\n77\,1 kg/170 lb: Maciej Jewtuszko (12-5\, 7 KO\, 5 Sub) vs Marius Žaromskis (23-10 1 NC\, 16 KO\, 1 Sub)\n77\,1 kg/170 lb: Wiktor Zalewski #9 (6-0\, 5 KO) vs. Adrian Zieliński (24-12\, 8 KO\, 6 Sub)\n83\,9 kg/185 lb: Tomasz Jakubiec (12-4\, 5 KO\, 1 Sub) vs. Wojciech Janusz (12-8\, 3 KO\, 6 Sub)\n77\,1 kg/170 lb: Oskar Szczepaniak (5-1\, 1 KO) vs Michał Gniady (2-0\, 2 KO)\n83\,9 kg/185 lb: David Hošek (10-5-1\, 7 KO\, 2 Sub) vs. Damian Mieczkowski (2-0\, 1 KO)\n\nOstatnia zmiana: 15.03.2024 r.
URL:https://strefamma.pl/event/xtb-ksw-92-wiklacz-vs-jojua/
LOCATION:Arena Gorzów\, ul. Słowiańska 16\, Gorzów Wielkopolski\, Lubuskie\, 66-400\, Poland
ATTACH;FMTTYPE=image/jpeg:https://strefamma.pl/wp-content/uploads/2024/02/XTB-KSW-92-Wiklacz-vs-Jojua.jpg
END:VEVENT
BEGIN:VEVENT
DTSTART;TZID=Europe/Warsaw:20240316T220000
DTEND;TZID=Europe/Warsaw:20240317T070000
DTSTAMP:20260420T232906
CREATED:20240311T073846Z
LAST-MODIFIED:20240315T184910Z
UID:95033-1710626400-1710658800@strefamma.pl
SUMMARY:UFC Vegas 88: Tuivasa vs Tybura
DESCRIPTION:W nocy z soboty 16 marca na niedzielę 17 marca do akcji wróci Marcin Tybura. Numer 10 rankingu wagi ciężkiej wystąpi w walce wieczoru UFC Vegas 87. \nPopularny „Tybur” po raz 19. wejdzie do oktagonu największej organizacji MMA na świecie. Polak w lipcu ubiegłego roku zaliczył błyskawiczną porażkę przez nokaut z Tomem Aspinallem. Teraz go starcie z niezwykle groźnym Taiem Tuivasą. \nKursy i zakłady bukmacherskie\nKartę walk UFC Vegas 88 możecie obstawić na stronie i w aplikacji bukmachera Fortuna. Nowi użytkownicy na start otrzymają darmowe 30 zł za rejestrację i depozyt\, a trzy pierwsze zakłady do 100 zł obstawicie bez ryzyka! To 300 zł\, które Fortuna zwróci na konto gracza \n \nUFC Vegas 87: Karta walk\nWalka wieczoru: \n\nTai Tuivasa (15-6-0) vs Marcin Tybura (24-8-0)\n\nKarta główna: \n\nBryan Battle (10-2-0) vs Ange Loosa (10-3-0)\nKennedy Nzechukwu (12-4-0) vs Ovince St. Preux (26-17-0)\nChristian Rodriguez (10-1-0) vs Isaac Dulgarian (6-0-0)\nPannie Kianzad (16-7-0) vs Macy Chiasson (8-3-0)\nGerald Meerschaert (35-17-0) vs Bryan Barberena (18-11-0)\n\nKarta wstępna: \n\nMike Davis (10-2-0) vs Natan Levy (8-1-0)\nJosiane Nunes (10-1-0) vs Chelsea Chandler (5-2-0)\nOde Osbourne (12-6-0) vs Jafel Filho (15-3-0)\nThiago Moisés (17-7-0) vs Mitch Ramirez (8-1-0)\nJosh Culibao (11-2-1) vs Danny Silva (8-1-0)\nCory McKenna (8-2-0) vs Jaqueline Amorim (7-1-0)\nChad Anheliger (12-7-0) vs Charalampos Grigoriou (8-3-0)\n\nOstatnia zmiana: 11.03.2024 r.
URL:https://strefamma.pl/event/ufc-vegas-87-tuivasa-vs-tybura/
LOCATION:Las Vegas\, UFC Apex
ATTACH;FMTTYPE=image/jpeg:https://strefamma.pl/wp-content/uploads/2024/03/UFC-Vegas-87-Karta-walk.jpg
END:VEVENT
END:VCALENDAR