BEGIN:VCALENDAR
VERSION:2.0
PRODID:-//StrefaMMA.pl - Portal sportów walki - ECPv5.16.3.1//NONSGML v1.0//EN
CALSCALE:GREGORIAN
METHOD:PUBLISH
X-WR-CALNAME:StrefaMMA.pl - Portal sportów walki
X-ORIGINAL-URL:https://strefamma.pl
X-WR-CALDESC:Wydarzenia dla StrefaMMA.pl - Portal sportów walki
REFRESH-INTERVAL;VALUE=DURATION:PT1H
X-Robots-Tag:noindex
X-PUBLISHED-TTL:PT1H
BEGIN:VTIMEZONE
TZID:Europe/Warsaw
BEGIN:DAYLIGHT
TZOFFSETFROM:+0100
TZOFFSETTO:+0200
TZNAME:CEST
DTSTART:20240331T010000
END:DAYLIGHT
BEGIN:STANDARD
TZOFFSETFROM:+0200
TZOFFSETTO:+0100
TZNAME:CET
DTSTART:20241027T010000
END:STANDARD
END:VTIMEZONE
BEGIN:VEVENT
DTSTART;TZID=Europe/Warsaw:20240302T193000
DTEND;TZID=Europe/Warsaw:20240303T020000
DTSTAMP:20260420T233030
CREATED:20240301T074402Z
LAST-MODIFIED:20240301T074402Z
UID:93515-1709407800-1709431200@strefamma.pl
SUMMARY:UFC Vegas 87: Rozenstruik vs Gaziev
DESCRIPTION:Gal UFC Vegas 87 rozpocznie się o świetnej dla polskich fanów godzinie! W sobotni wieczór czekają nas nie lada emocje z udziałem najlepszych fighterów MMA na świecie. \nW walce wieczoru kolejnej gali UFC w kompleksie Apex dojdzie do potyczki w wadze ciężkiej. Niepokonany Shamil Gaziev zmierzy się z 12. w rankingu Jairzinho Rozenstruikiem. Wcześniej zaś dojdzie do szeregu innych ciekawych starć: Petrino vs Pedro\, Perez vs Mokaev\, czy Nurmagomedov vs Almakhan \nKursy i zakłady bukmacherskie\nGalę UFC Vegas 87: Rozenstruik vs Gaziev w całości obstawisz tylko i wyłącznie na stronie i w aplikacji bukmachera Fortuna. Za rejestrację i depozyt otrzymasz darmowe 30 zł. Oprócz tego dostaniesz trzy zakłady bez ryzyka do 100 zł. To znaczy\, że stawkę do 100 zł za pierwsze kupony  Fortuna zwróci Ci na konto! \n \nKARTA WALK UFC Vegas 87\nWalka wieczoru: \n\nJairzinho Rozenstruik (13-5-0) vs Shamil Gaziev (12-0-0)\n\nKarta główna: \n\nVitor Petrino (10-0-0) vs Tyson Pedro (10-4-0)\nAlex Perez (24-7-0) vs Muhammad Mokaev (10-0-0)\nUmar Nurmagomedov (16-0-0) vs Bekzat Almakhan (17-1-0)\nMatt Schnell (16-7-0) vs Steve Erceg (11-1-0)\n\nKarta wstępna: \n\nEryk Anders (15-8-0) vs Jamie Pickett (13-10-0)\nVinicius Oliveira (19-3-0) vs Benardo Sopaj (11-2-0)\nJavid Basharat (14-0-0) vs Aiemann Zahabi (10-2-0)\nChristian Leroy Duncan (9-1-0) vs Claudio Ribeiro (11-4-0)\nĽudovít Klein (20-4-1) vs AJ Cunningham (11-3-0)\nLoik Radzhabov (17-5-1) vs A. Al-Selwady (15-3-0)\n\nOstatnia zmiana: 01.03.2024 r.
URL:https://strefamma.pl/event/ufc-vegas-87-rozenstruik-vs-gaziev/
LOCATION:Las Vegas\, UFC Apex
ATTACH;FMTTYPE=image/jpeg:https://strefamma.pl/wp-content/uploads/2024/03/UFC-VEGAS-87.jpg
END:VEVENT
END:VCALENDAR