BEGIN:VCALENDAR
VERSION:2.0
PRODID:-//StrefaMMA.pl - Portal sportów walki - ECPv5.16.3.1//NONSGML v1.0//EN
CALSCALE:GREGORIAN
METHOD:PUBLISH
X-WR-CALNAME:StrefaMMA.pl - Portal sportów walki
X-ORIGINAL-URL:https://strefamma.pl
X-WR-CALDESC:Wydarzenia dla StrefaMMA.pl - Portal sportów walki
REFRESH-INTERVAL;VALUE=DURATION:PT1H
X-Robots-Tag:noindex
X-PUBLISHED-TTL:PT1H
BEGIN:VTIMEZONE
TZID:Europe/Warsaw
BEGIN:DAYLIGHT
TZOFFSETFROM:+0100
TZOFFSETTO:+0200
TZNAME:CEST
DTSTART:20240331T010000
END:DAYLIGHT
BEGIN:STANDARD
TZOFFSETFROM:+0200
TZOFFSETTO:+0100
TZNAME:CET
DTSTART:20241027T010000
END:STANDARD
END:VTIMEZONE
BEGIN:VEVENT
DTSTART;TZID=Europe/Warsaw:20240301T190000
DTEND;TZID=Europe/Warsaw:20240302T020000
DTSTAMP:20260420T232905
CREATED:20240211T140919Z
LAST-MODIFIED:20240301T063433Z
UID:91283-1709319600-1709344800@strefamma.pl
SUMMARY:GROMDA 16: W imię zasad
DESCRIPTION:Zbliża się kolejny Krwawy Piątek! Już 1 marca odbędzie się 16. gala GROMDA\, na której można spodziewać się wielu elektryzujących zestawień. \nGROMDA 16 otworzy nowy rok dla największej w Europie organizacji walk na gołe pięści. W poprzednim wyłoniony został niekwestionowany mistrz w osobie „Don Diego”\, który też zaliczył udaną obronę tytułu. O prawo do walki z championem walczyć będą kolejni bijocy. \nW piątek 1 marca do akcji powrócą doskonale znani „Scarface”\, „Mario”\, „Wasyl”\, czy Jakub „Joker” Szmajda. Nie zabraknie też oczywiście ciekawych debiutantów i starcia zwycięzców turnieju. Jak bowiem przekazał Mariusz Grabowski\, „Basque” skrzyżuje pięści z „Bułą”. \nGalę GROMDA 16 obejrzeć będzie można wyłącznie w systemie PPV. Cena za dostęp zaczyna się od 39\,99 zł\, ale do wyboru są też rozszerzone pakiety z wieloma dodatkami! \nKARTA WALK\nSuperfighty: \n\nLander „Basque” Serey vs Michał „Buła” Banbuła\nMario vs Łazar\nArturo vs Scarface\nKiwi vs Arczi\nFury vs Domino\nWasyl vs Joker\n\nTurniej – ćwierćfinały: \n\n„SUCHY” vs „ASLAN”\n„PIASEK” vs „RUSZKI”\n„BICEK” vs „PACZEK”\n„SPEJSON” vs „SIWY”\n\nOstatnia zmiana: 01.03.2024 r.
URL:https://strefamma.pl/event/gromda-16-w-imie-zasad/
LOCATION:Gromda Fight Club\, Pionki\, Mazowieckie\, Poland
ATTACH;FMTTYPE=image/jpeg:https://strefamma.pl/wp-content/uploads/2024/02/GROMDA-16-W-imie-zasad.jpg
END:VEVENT
END:VCALENDAR