BEGIN:VCALENDAR
VERSION:2.0
PRODID:-//StrefaMMA.pl - Portal sportów walki - ECPv5.16.3.1//NONSGML v1.0//EN
CALSCALE:GREGORIAN
METHOD:PUBLISH
X-ORIGINAL-URL:https://strefamma.pl
X-WR-CALDESC:Wydarzenia dla StrefaMMA.pl - Portal sportów walki
REFRESH-INTERVAL;VALUE=DURATION:PT1H
X-Robots-Tag:noindex
X-PUBLISHED-TTL:PT1H
BEGIN:VTIMEZONE
TZID:Europe/Warsaw
BEGIN:DAYLIGHT
TZOFFSETFROM:+0100
TZOFFSETTO:+0200
TZNAME:CEST
DTSTART:20240331T010000
END:DAYLIGHT
BEGIN:STANDARD
TZOFFSETFROM:+0200
TZOFFSETTO:+0100
TZNAME:CET
DTSTART:20241027T010000
END:STANDARD
END:VTIMEZONE
BEGIN:VEVENT
DTSTART;TZID=Europe/Warsaw:20240120T190000
DTEND;TZID=Europe/Warsaw:20240121T010000
DTSTAMP:20260421T024757
CREATED:20231218T074145Z
LAST-MODIFIED:20240115T121720Z
UID:87718-1705777200-1705798800@strefamma.pl
SUMMARY:XTB KSW 90: Wrzosek vs Vitasović
DESCRIPTION:Największa polska organizacja MMA wraca na Torwar! Pierwsza gala KSW odbędzie się już 20 stycznia w stolicy Polski. Kibice ponownie mogą liczyć na niesamowite emocje\, które zapewnią rodzime i zagraniczne gwiazdy. \nGala XTB KSW 90 rozpocznie nowy rok w polskim MMA. W COS Torwar nie może zabraknąć lokalnych gwiazd. W walce wieczoru wystąpi Arkadiusz Wrzosek\, którego czeka ogromne wyzwanie. Warszawski kickbokser zmierzy się z Chorwatem Ivan Vitasoviciem\, który ma na koncie 18 zawodowych pojedynków. Zwyciężał w aż 12.\, z czego 11-krotnie przed czasem. \nPrzed Wrzoskiem do klatki wejdzie inny warszawski fighter z Uniq Fight Clubu. W organizacji zadebiutuje Bartosz Fabiński. \nKursy bukmacherskie\nGalę XTB KSW 90 w całości obstawicie u bukmachera eFortuna.pl. Na start czekają na Was liczne bonusy. Za rejestrację otrzymacie darmowe 20 zł\, a 10 zł zostanie dodane do pierwszego depozytu. Co więcej pierwsze zakłady do 100\, 200 oraz 300 zł obstawicie w całości bez ryzyka! \nOdbieram bonusy na XTB KSW 90! \n \nKARTA WALK\nWalka wieczoru: \n\n120\,2 kg/265 lb: Arkadiusz Wrzosek (3-0\, 1 KO\, 1 Sub) vs. Ivan Vitasović (12-5-1\, 9 KO\, 2 Sub)\n\nKarta główna: \n\n83\,9 kg/185 lb: Bartosz Fabiński (16-5\, 8 KO) vs. Laïd Zerhouni (11-8 1NC\, 3 KO\, 7 Sub)\n65\,8 kg/145 kb: Damian Stasiak #6 (14-9\, 1 KO\, 11 Sub) vs. Adam Soldaev #7 (7-2\, 4 KO\, 1 Sub)\n73 kg/161 lb: Ramzan Jembiev (5-1\, 3 KO\, 1 Sub) vs. Isai Ramos (7-1\, 6 Sub)\n61\,2 kg/135 lb: Werlleson Martins #3 (18-5\, 6 KO\, 8 Sub) vs. Oleksii Polishchuk #4 (11-4\, 2 KO\, 6 Sub)\n52\,5 kg/115 lb: Alexandra Toncheva (5-3-1\, 1 KO\, 1 Sub) vs. Ewelina Woźniak (7-2\, 2 KO\, 3 Sub)\n61\,2 kg/135 lb: Islam Djabrailov (9-5\, 2 KO\, 3 Sub) vs. Alfan Rocher-Labes (10-2\, 2 KO\, 4 Sub)\n120\,2 kg/265 lb: Marek Samociuk (4-4\, 2 KO) vs. Oļegs Jemeļjanovs (11-4\, 5 KO\, 1 Sub)\n70\,3 kg/155 lb: Hugo Deux (2-0\, 1 KO) vs. Gino Van Steenis (4-0\, 2 KO\, 1 Sub)\n70\,3 kg/155 lb: Szymon Karolczyk (5-3\, 3 Sub) vs. Artur Krawczyk (4-3\, 2 KO\, 1 Sub)\n\nOstatnia zmiana: 15.01.2023 r.
URL:https://strefamma.pl/event/xtb-ksw-90-wrzosek-vs-vitasovic/
LOCATION:Hala Torwar\, Warszawa\, Poland
ATTACH;FMTTYPE=image/jpeg:https://strefamma.pl/wp-content/uploads/2023/12/XTB-KSW-90-Wrzosek-vs-Vitasovic.jpg
END:VEVENT
BEGIN:VEVENT
DTSTART;TZID=Europe/Warsaw:20240120T220000
DTEND;TZID=Europe/Warsaw:20240121T073000
DTSTAMP:20260421T024757
CREATED:20231114T181304Z
LAST-MODIFIED:20231218T103313Z
UID:85244-1705788000-1705822200@strefamma.pl
SUMMARY:UFC 297: Strickland vs Du Plessis
DESCRIPTION:Organizacja UFC nowy rok rozpocznie od gali w Kanadzie\, na której zobaczymy walkę o pas wagi średniej. \n\n\n\n\n\nW main evencie UFC 297 pojawi się dobrze znany polskim kibicom Dricus Du Plessis. Afrykaner\, który w przeszłości dzierżył pas wagi półśredniej KSW\, stanie przed największą szansą w karierze. O tytuł kategorii średniej zmierzy się z Seanem Stricklandem\, który sensacyjnie pokonał Israela Adesanyę. \n\n\n\nUFC 297: Kursy bukmacherskie i transmisja\n\n\n\nGalę UFC 297: Strickland vs Du Plessis w całości obstawicie i obejrzycie na żywo w Fortuna TV. Wystarczy postawić dowolny kupon\, który da Wam dostęp do streamu live z gali! Jeśli nie posiadacie jeszcze konta możecie skorzystać ze świetnej oferty powitalnej. Oprócz bonusu otrzymacie też 3x zakład bez ryzyka do 100\, 200 oraz 300 zł. \n\n\n\nOdbierz bonusy na UFC 297 \n \nKARTA WALK\nWalka wieczoru: \n\nSean Strickland (28-5-0) vs Dricus Du Plessis (20-2-0) – o pas UFC w kat. średniej\n\nPotwierdzone walki: \n\nRaquel Pennington (15-8-0) vs Mayra Bueno Silva (10-2-1) – o pas UFC w kat. koguciej kobiet\nArnold Allen (19-2-0) vs Movsar Evloev (17-0-0)\nNeil Magny (28-11-0) vs Mike Malott (10-1-1)\nDominick Reyes (12-4-0) vs Carlos Ulberg (9-1-0)\nBrad Katona (13-2-0) vs Garrett Armfield (9-3-0)\nGillian Robertson (12-8-0) vs Polyana Viana (13-6-0)\nSerhiy Sidey (10-1-0) vs Ramon Taveras (9-2-0)\nChris Curtis (30-10-0) vs Marc-André Barriault (16-6-0)\nMalcolm Gordon (14-7-0) vs Jimmy Flick (16-7-0)\nYohan Lainesse (9-2-0) vs Sam Patterson (10-2-1)\nCharles Jourdain (15-6-1) vs Sean Woodson (10-1-1)\nJasmine Jasudavicius (9-3-0) vs Priscila Cachoeira (12-5-0)\n\nOstatnie zmiany: 18.12.2023 r.
URL:https://strefamma.pl/event/ufc-297-strickland-vs-du-plessis/
LOCATION:Scotiabank Arena\, 40 Bay St\, Toronto\, Ontario\, M5J 2X2\, Canada
ATTACH;FMTTYPE=image/jpeg:https://strefamma.pl/wp-content/uploads/2023/11/UFC-297-POSTER.jpg
END:VEVENT
END:VCALENDAR