BEGIN:VCALENDAR
VERSION:2.0
PRODID:-//StrefaMMA.pl - Portal sportów walki - ECPv5.16.3.1//NONSGML v1.0//EN
CALSCALE:GREGORIAN
METHOD:PUBLISH
X-ORIGINAL-URL:https://strefamma.pl
X-WR-CALDESC:Wydarzenia dla StrefaMMA.pl - Portal sportów walki
REFRESH-INTERVAL;VALUE=DURATION:PT1H
X-Robots-Tag:noindex
X-PUBLISHED-TTL:PT1H
BEGIN:VTIMEZONE
TZID:Europe/Warsaw
BEGIN:DAYLIGHT
TZOFFSETFROM:+0100
TZOFFSETTO:+0200
TZNAME:CEST
DTSTART:20240331T010000
END:DAYLIGHT
BEGIN:STANDARD
TZOFFSETFROM:+0200
TZOFFSETTO:+0100
TZNAME:CET
DTSTART:20241027T010000
END:STANDARD
END:VTIMEZONE
BEGIN:VEVENT
DTSTART;TZID=Europe/Warsaw:20240113T190000
DTEND;TZID=Europe/Warsaw:20240114T010000
DTSTAMP:20260421T042437
CREATED:20240102T132313Z
LAST-MODIFIED:20240112T162008Z
UID:88684-1705172400-1705194000@strefamma.pl
SUMMARY:Prime Show MMA 7
DESCRIPTION:Nowy rok otworzy gala spod szyldu Prime Show MMA! Już w sobotę 13 stycznia dojdzie do kolejnej gali freakowej organizacji. \nW main evencie dojdzie do wielkiego rewanżu. Walką wieczoru Prime Show MMA 7 będzie pojedynek Paweł Jóźwiak vs Jacek Murański. Stary „Muran” w końcu otrzyma starcie na zasadach\, o których sporo mówił w ostatnich wywiadach\, czy Dirty Street Boxing. Dozwolone mają być uderzenia łokciami\, głową oraz backfisty. Kolejną walkę stoczy też „Don Kasjo”\, ale tym razem jego pojedynek nie odbędzie się w boksie. Życiński zmierzy się z Adamem Soroko w formule K-1. Dla Kasjusza będzie to pierwsza walka na innych zasadach od 2020 roku. \nKURSY BUKMACHERSKIE\n\nGalę Prime Show MMA 7 w całości obstawicie u bukmachera eFortuna.pl. Na start czekają na Was liczne bonusy. Za rejestrację otrzymacie darmowe 20 zł\, a 10 zł zostanie dodane do pierwszego depozytu. Co więcej pierwsze 3 zakłady do 100 zł obstawicie w całości bez ryzyka! To aż 300 zł\, które Fortuna zwróci wam w przypadku przegranej. \nZgarnij darmowe 20 zł na Prime Show MMA 7! \n\n\n\n \nKARTA WALK\nWalka wieczoru: \n\nPaweł Jóźwiak vs Jacek Murański\n\nKarta główna: \n\nKasjusz “Don Kasjo” Życiński vs. Adam Soroko – K-1\nPaweł “Trybson” Trybała vs. Erko Jun – MMA\nNatan “Bóg Estetyki” Marcoń vs. Bagieta/Kapela – MMA\nFinał Igrzysk Gladiatorów – 4 zawodników\, każdy na każdego\, MMA\nNatalia Wayne vs. Bernadeta “Bouncing Betty” Urbańska – MMA\nMichał “Bagieta” Gorzelańczyk vs. Jaś Kapela – MMA\nTomasz Chic vs. Andrzej “Żurom” Żuromski – boks\, małe rękawice\nPatryk “Wielki Bu” Masiak vs. 2 ochroniarzy – boks\, małe rękawice\nDawid “Ambro” Ambroziak vs. Grzegorz “Hellboy” Głuszcz – boks\, małe rękawice\nMichał Cichy vs. Marek “Kirimasu” Jówko – MMA\n\nKarta wstępna: \n\nAdrian “Puszbarber” Salwa & Tomasz Olejnik vs. Hubert “Dredziasty” Węzka & Maciej “Stary Wiewiór” Wiewiórka\nŁukasz “Magical Jr” Malankowski & Dawid “Harnaś” Haras vs. Jakub Lasik & Ronaldo „Czarny Polak” Miranda\n\nOstatnia zmiana: 12.01.2024 r.
URL:https://strefamma.pl/event/prime-show-mma-7/
LOCATION:Hala Widowiskowo – Sportowa Koszalin\, Śniadeckich 4\, Koszalin\, Zachodniopomorskie\, 75-453\, Poland
ATTACH;FMTTYPE=image/jpeg:https://strefamma.pl/wp-content/uploads/2024/01/Prime-Show-MMA-7.jpg
END:VEVENT
BEGIN:VEVENT
DTSTART;TZID=Europe/Warsaw:20240113T220000
DTEND;TZID=Europe/Warsaw:20240114T050000
DTSTAMP:20260421T042437
CREATED:20231218T091945Z
LAST-MODIFIED:20240113T140538Z
UID:87747-1705183200-1705208400@strefamma.pl
SUMMARY:UFC Vegas 84: Ankalaev vs Walker
DESCRIPTION:Pierwsza gala największej organizacji MMA na świecie odbędzie się w nocy z 13 na 14 stycznia. W walce wieczoru dojdzie do rewanżu między zawodnikami czołówki kategorii półciężkiej. \nPo nieudanej próbie zdobycia pasa Magomed Ankalaev aż 10 miesięcy czekał na kolejny pojedynek. Rosjanin zmierzył się w Abu Dhabi z Jonnym Walkerem\, ale to starcie zostało uznane za nieodbyte. Brazylijczyk oberwał kolanem w parterze\, a lekarz stwierdził\, że nie jest on w stanie kontynuować pojedynku. Chwilę później w klatce doszło do awantury. \nPewnym było\, że Dana White ponownie zestawi ze sobą zawodników. Obaj należą do czołówki kategorii półciężkiej i liczą\, że kilka wygranych zapewni im pojedynek o pas. \nKursy bukmacherskie\nWszystkie walki UFC Vegas 84: Ankalaev vs Walker obstawić możecie u bukmachera eFortuna.pl. Grając jakikolwiek zakład za dowolną stawkę otrzymujecie też dostęp do Fortuna TV\, gdzie możecie obejrzeć galę na żywo! \nJeśli jeszcze nie posiadacie konta\, możecie skorzystać z kapitalnej oferty powitalnej. Nowi gracze otrzymają 20 zł za rejestrację i dodatkowe 10 zł do pierwszego depozytu. Co więcej trzy pierwsze zakłady do 100 zł\, 200 zł i 300 zł obstawicie bez ryzyka! W przypadku przegranej Fortuna zwróci stawkę na konto gracza. \nOdbierz bonusy na UFC Vegas 84! \n \nKARTA WALK\nKarta główna: \n\nMagomed Ankalaev (18-1-1) vs Johnny Walker (21-7-0)\n\nKarta główna: \n\nJim Miller (36-17-0) vs Gabriel Benítez (23-10-0)\nRicky Simón (20-4-0) vs Mario Bautista (13-2-0)\nPhil Hawes (12-5-0) vs Brunno Ferreira (10-1-0)\nAndrei Arlovski (34-22-0) vs Waldo Cortes-Acosta (10-1-0)\n\nKarta wstępna: \n\nMatthew Semelsberger (11-6-0) vs Preston Parsons (10-4-0)\nMarcus McGhee (8-1-0) vs Gaston Bolaños (7-3-0)\nFarid Basharat (11-0-0) vs Taylor Lapilus (19-3-0)\nWestin Wilson (16-8-0) vs Jean Silva (11-2-0)\nTom Nolan (6-0-0) vs Nikolas Motta (13-5-0)\nFelipe Bunes (13-6-0) vs Joshua Van (9-1-0)\n\nOstatnia zmiana: 13.01.2023 r.
URL:https://strefamma.pl/event/ufc-vegas-84-ankalaev-vs-walker/
LOCATION:Las Vegas\, UFC Apex
ATTACH;FMTTYPE=image/jpeg:https://strefamma.pl/wp-content/uploads/2023/12/UFC-Vegas-84-Ankalaev-vs-Walker.jpg
END:VEVENT
END:VCALENDAR