BEGIN:VCALENDAR
VERSION:2.0
PRODID:-//StrefaMMA.pl - Portal sportów walki - ECPv5.16.3.1//NONSGML v1.0//EN
CALSCALE:GREGORIAN
METHOD:PUBLISH
X-WR-CALNAME:StrefaMMA.pl - Portal sportów walki
X-ORIGINAL-URL:https://strefamma.pl
X-WR-CALDESC:Wydarzenia dla StrefaMMA.pl - Portal sportów walki
REFRESH-INTERVAL;VALUE=DURATION:PT1H
X-Robots-Tag:noindex
X-PUBLISHED-TTL:PT1H
BEGIN:VTIMEZONE
TZID:Europe/Warsaw
BEGIN:DAYLIGHT
TZOFFSETFROM:+0100
TZOFFSETTO:+0200
TZNAME:CEST
DTSTART:20230326T010000
END:DAYLIGHT
BEGIN:STANDARD
TZOFFSETFROM:+0200
TZOFFSETTO:+0100
TZNAME:CET
DTSTART:20231029T010000
END:STANDARD
END:VTIMEZONE
BEGIN:VEVENT
DTSTART;TZID=Europe/Warsaw:20231216T190000
DTEND;TZID=Europe/Warsaw:20231217T030000
DTSTAMP:20260421T071425
CREATED:20231030T141355Z
LAST-MODIFIED:20231204T144302Z
UID:84124-1702753200-1702782000@strefamma.pl
SUMMARY:XTB KSW 89: Bartosiński vs Parnasse
DESCRIPTION:Organizacja KSW po raz kolejny napisze nową kartę w historii światowego MMA. Galę w Gliwicach uświetni starcie Bartosiński vs Parnasse\, w którym to Francuz może zgarnąć 3. tytuł i stać się pierwszym triple champem! \nKSW ponownie zakończy rok galą w Arenie Gliwice\, gdzie kibice zawsze otrzymują masę niesamowitych wrażeń. Nie inaczej będzie w 2023 roku\, dzięki grudniowym wydarzeniu KSW 89. Adrian Bartosiński przystąpi do pierwszej obrony pasa kategorii półśredniej. Jego rywalem będzie podwójny mistrz organizacji\, Salahdine Parnasse. To pierwszy raz w historii MMA\, gdy zawodnik staje przed szansą na zdobycie potrójnej korony! \nOprócz tego nie zabraknie też niesamowitych debiutów w osobach Marcina Helda i Łukasza Charzewskiego. Fani nie mogą się też doczekać starcia o pas kategorii średniej. Legendarny Michał Materla zmierzy się z Pawłem Pawlakiem. \nKARTA WALK\nWalka wieczoru: \n\n77\,1 kg/170 lb: Adrian Bartosiński #C (13-0\, 11 KO\, 1 Sub) vs. Salahdine Parnasse #C LW FW (18-1\, 3 KO\, 7 Sub) – walka o pas wagi półśredniej KSW\n\nKarta główna: \n\n83\,9 kg/185 lb: Paweł Pawlak #C (21-4-1 11 KO\, 3 Sub) vs. Michał Materla #4 (33-9\, 13 KO\, 13 Sub) – walka o pas kategorii średniej\n83\,9 kg/185 lb: Tomasz Romanowski #2 (18-9 1NC\, 7 KO\, 1 Sub) vs. Damian Janikowski #5 (9-5\, 5 KO\, 1 Sub)\n70\,3 kg/155 lb: Rauli Tutarauli #4 (32-7\, 21 KO\, 3 Sub) vs. Marcin Held (28-9\, 4 KO\, 15 Sub)\n77\,1 kg/170 lb: Andrzej Grzebyk #1 (20-6\, 12 KO\, 3 Sub) vs. Madars Fleminas (12-4\, 6 KO\, 1 Sub)\n120\,2 kg/265 lb: Szymon Bajor #4 (24-10\, 10 KO\, 10 Sub) vs. Viktor Pešta #5 (19-8\, 8 KO\, 7 Sub)\n70\,3 kg/155 lb: Sebastian Rajewski #9 (12-8\, 4 KO) vs. Wilson Varela #10 (10-5\, 3 KO\, 4 Sub)\n65\,8 kg/145 lb: Łukasz Charzewski (12-1 1NC\, 2 KO\, 2 Sub) vs. Ahmed Vila (11-4-1 1 NC\, 6 Sub)\n56\,7 kg/125 lb: Emilia Czerwińska (2-1\, 1 KO) vs. Natalia Baczyńska-Krawiec (7-3\, 1 KO)\n65\,8 kg/145 lb: Wojciech Kazieczko (3-1\, 2 KO) vs. Michał Domin (5-3\, 2 KO\, 2 Sub)\n\nOstatnia zmiana 04.12.2023 r.
URL:https://strefamma.pl/event/xtb-ksw-89-bartosinski-vs-parnasse/
LOCATION:PreZero Arena Gliwice\, Akademicka 50\, Gliwice\, Poland
ATTACH;FMTTYPE=image/jpeg:https://strefamma.pl/wp-content/uploads/2023/10/XTB-KSW-89-Bartosinski-vs-Parnasse.jpg
END:VEVENT
BEGIN:VEVENT
DTSTART;TZID=Europe/Warsaw:20231216T220000
DTEND;TZID=Europe/Warsaw:20231217T070000
DTSTAMP:20260421T071425
CREATED:20230925T125008Z
LAST-MODIFIED:20231216T150229Z
UID:81405-1702764000-1702796400@strefamma.pl
SUMMARY:UFC 296: Edwards vs Covington
DESCRIPTION:Ostatnia numerowana gala UFC 2023 roku odbędzie się w T-Mobile Arenie w Las Vegas. Zakończą ją dwa pojedynki o mistrzowskie tytuły: kategorii półśredniej oraz muszej. \nBrytyjski mistrz Leon Edwards stanie do kolejnej obrony po tym\, jak udało mu się pokonać przez decyzję byłego championa\, długo nie niepokonanego Kamaru Usmana. Teraz popularnego „Rocky’ego” czeka pojedynek z fighterem\, który zdecydowanie będzie chciał mu zajść za skórę. Colby Covington to jeden z najaktywniejszych trash talkerów w całym MMA i na pewno można spodziewać się mocnych słów z jego strony. \nPrzed nimi do klatki wejdzie mistrz wagi muszej\, Alexandre Pantoja. Brazylijczyk zaskoczył wielu zwyciężając na pełnym dystansie z Brandonem Moreno. Jeszcze w tym roku „The Cannibala” czeka pierwsza obrona przeciwko fighterowi\, którego już raz pokonał. Pretendentem został  Brandon Royval\, który nie zaznał porażki od 3. walkach\, a ostatnią poniósł z rąk… Alexandre Pantoji. \nUFC 296 – Kursy i zakłady bukmacherskie\nWszystkie walki UFC 296 obstawić możecie u bukmachera eFortuna.pl. Grając jakikolwiek zakład za dowolną stawkę otrzymujecie też dostęp do Fortuna TV\, gdzie możecie obejrzeć galę na żywo! \nJeśli jeszcze nie posiadacie konta\, możecie skorzystać z kapitalnej oferty powitalnej. Nowi gracze otrzymają 20 zł za rejestrację i dodatkowe 10 zł do pierwszego depozytu. Co więcej trzy pierwsze zakłady do 100 zł\, 200 zł i 300 zł obstawicie bez ryzyka! W przypadku przegranej Fortuna zwróci stawkę na konto gracza. \nOdbierz bonusy na UFC 296 i oglądaj za darmo! \n \nKarta walk\nWalka wieczoru: \n\nLeon Edwards (21-3-0) vs Colby Covington (17-3-0) – o pas wagi półśredniej UFC\n\nKarta główna: \n\nAlexandre Pantoja (26-5-0) vs Brandon Royval (15-6-0) – o pas wagi muszej UFC\nShavkat Rakhmonov (17-0-0) vs Stephen Thompson (17-6-1)\nTony Ferguson (25-9-0) vs Paddy Pimblett (20-3-0)\nJosh Emmett (18-4-0) vs Bryce Mitchell (16-1-0)\n\nKarta wstępna: \n\nIrene Aldana (14-7-0) vs Karol Rosa (17-5-0)\nCody Garbrandt (13-5-0) vs Brian Kelleher (24-14-0)\nCasey O’Neill (9-1-0) vs Ariane Lipski (16-8-0)\nAlonzo Menifield (14-3-1) vs Dustin Jacoby (19-7-1)\nTagir Ulanbekov (14-2-0) vs Cody Durden (16-4-1)\nAndre Fili (22-10-0) vs Lucas Almeida (14-2-0)\nShamil Gaziev (11-0-0) vs Martin Buday (13-1-0)\nRandy Brown (17-5-0) vs Muslim Salikhov (19-4-0)\n\nOstatnia zmiana: 16.12.2023 r.
URL:https://strefamma.pl/event/ufc-296-edwards-vs-covington/
LOCATION:T-Mobile Arena\, 3780 Las Vegas Blvd S\, Las Vegas\, 89158\, United States
ATTACH;FMTTYPE=image/jpeg:https://strefamma.pl/wp-content/uploads/2023/09/UFC-296-Edwards-Covington.jpg
END:VEVENT
END:VCALENDAR