BEGIN:VCALENDAR
VERSION:2.0
PRODID:-//StrefaMMA.pl - Portal sportów walki - ECPv5.16.3.1//NONSGML v1.0//EN
CALSCALE:GREGORIAN
METHOD:PUBLISH
X-WR-CALNAME:StrefaMMA.pl - Portal sportów walki
X-ORIGINAL-URL:https://strefamma.pl
X-WR-CALDESC:Wydarzenia dla StrefaMMA.pl - Portal sportów walki
REFRESH-INTERVAL;VALUE=DURATION:PT1H
X-Robots-Tag:noindex
X-PUBLISHED-TTL:PT1H
BEGIN:VTIMEZONE
TZID:Europe/Warsaw
BEGIN:DAYLIGHT
TZOFFSETFROM:+0100
TZOFFSETTO:+0200
TZNAME:CEST
DTSTART:20230326T010000
END:DAYLIGHT
BEGIN:STANDARD
TZOFFSETFROM:+0200
TZOFFSETTO:+0100
TZNAME:CET
DTSTART:20231029T010000
END:STANDARD
END:VTIMEZONE
BEGIN:VEVENT
DTSTART;TZID=Europe/Warsaw:20231117T230000
DTEND;TZID=Europe/Warsaw:20231118T040000
DTSTAMP:20260421T084640
CREATED:20231114T162738Z
LAST-MODIFIED:20231114T162948Z
UID:85237-1700262000-1700280000@strefamma.pl
SUMMARY:Bellator 301: Amosov vs Jackson
DESCRIPTION:Bellator MMA nie zwalnia tempa po jubileuszowej gali i już 17 listopada odbędzie się kolejne wydarzenie. Event w Chicago uświetnią aż dwie walki o mistrzowskie tytuły. \n\n\n\nW main evencie niepokonany Yaroslav Amosov stanie do drugiej obrony tytułu kategorii półśredniej. Ukrainiec ma na swoim koncie aż 27 wygranych\, z czego 19 odnosił przed czasem. Na gali Bellator 301 zmierzy się z napędzonym serią 6. zwycięstw z rzędu Jasonem Jacksonem. \n\n\n\nWcześniej dojdzie do arcyciekawego pojedynku w ramach World Grand Prix w wadze lekkiej. Patricky Pitbull\, który w ćwierćfinale zwyciężył po brutalnych low kickach\, tym razem spotka się z ciężko bijącym Rosjaninem Alexandrem Shabliym. Co-main eventem najbliższej gali Bellator MMA zostało z kolei starci o pas wagi koguciej. Spisywany na straty Sergio Pettis stanie w szranki z Patchym Mixem. \n\n\n\nKursy na galę Bellator 301\n\n\n\nGalę w całości obstawicie u bukmachera Fortuna. Jeśli nie posiadacie jeszcze konta możecie skorzystać ze świetnej oferty powitalnej. Oprócz bonusu otrzymacie też 3x zakład bez ryzyka do 100\, 200 oraz 300 zł. \n\n\n\nOdbierz bonusy na Bellator 301 \n \nKARTA WALK\nWalka wieczoru: \n\nYaroslav Amosov (27-0-0) vs Jason Jackson (16-4-0)  – o pas kat. półśredniej Bellator MMA\n\nKarta główna: \n\nSergio Pettis (23-5-0) vs Patchy Mix (18-1-0) – o pas kat. koguciej Bellator MMA\nRaufeon Stots (19-2-0) vs Danny Sabatello (14-3-0)\nAJ McKee Jr. (20-1-0) vs Sidney Outlaw (17-5-0)\nPatricky Pitbull (25-11-0) vs Alexander Shabliy (23-3-0)\n\nKarta wstępna: \n\nTyrell Fortune (13-3-0) vs Marcelo Golm (10-4-0)\nDenise Kielholtz (7-5-0) vs Sumiko Inaba (6-0-0)\nTimur Khizriev (13-0-0) vs Justin Gonzales (14-2-0)\nArchie Colgan (8-0-0) vs Pieter Buist (17-7-0)\nKeri Taylor-Melendez (5-0-0) vs Sabriye Sengül (3-3-0)\nMatheus Mattos (13-2-1) vs Richard Palencia (10-1-0)\nMike Hamel (11-5-0) vs Tim Wilde (16-4-1)\nIslam Mamedov (22-3-1) vs Killys Mota (15-3-0)\nCody Law (7-2-0) vs Jefferson Pontes (6-0-0)\nRamazan Kuramagomedov (11-0-0) vs Randall Wallace (20-9-1)\nYves Landu (19-9-0) vs Isao Kobayashi (27-5-2)\n\nOstatnia zmiana: 14.11.2023 r.
URL:https://strefamma.pl/event/bellator-301-amosov-vs-jackson/
LOCATION:Wintrust Arena\, 200 E Cermak Rd\, Chicago\, 60616\, United States
ATTACH;FMTTYPE=image/jpeg:https://strefamma.pl/wp-content/uploads/2023/11/Bellator-301-Amosov-vs-Jackson.jpg
END:VEVENT
BEGIN:VEVENT
DTSTART;TZID=Europe/Warsaw:20231118T200000
DTEND;TZID=Europe/Warsaw:20231119T040000
DTSTAMP:20260421T084640
CREATED:20231114T155203Z
LAST-MODIFIED:20231114T155203Z
UID:85231-1700337600-1700366400@strefamma.pl
SUMMARY:UFC Vegas 82: Allen vs Craig
DESCRIPTION:Organizacja UFC wraca do kompleksu Apex\, gdzie zobaczymy aż 13 pojedynków. Kartę zamknie starcie fighterów z TOP 15 wagi średniej: Brendan Allen vs Paul Craig.\n\n \n\nZajmujący 10. lokatę w rankingu Brendan Allen będzie chciał przedłużyć swoją serię\, która obecnie wynosi 5 zwycięstw z rzędu. Amerykanin pokonywał aż 4 z nich odniósł po poddanie przez mataleo\, a jedną z jego ofiar był Krzysztof Jotko.\n\n \n\nNiczego nie ujmując oponentom „All Ina”\, tym razem ciężej będzie o wygraną w parterze. Paul Craig to wybitny zawodnik rodem z BJJ\, który aż 13-krotnie poddawał swoich oponentów\, by skończyć z ręką w górze. „Bearjew” pozostaje też jedynym zawodnikiem\, który pokonał Magomeda Ankalaeva.\n\n \nUFC Vegas 82: Kursy bukmacherskie i transmisja\n \n\nGalę UFC Vegas 82: Allen vs Craig w całości obstawicie i obejrzycie na żywo w Fortuna TV. Wystarczy postawić dowolny kupon\, który da Wam dostęp do streamu live z gali! Jeśli nie posiadacie jeszcze konta możecie skorzystać ze świetnej oferty powitalnej. Oprócz bonusu otrzymacie też 3x zakład bez ryzyka do 100\, 200 oraz 300 zł.\n\n \nOdbierz bonusy na UFC Vegas 82 \n\nKARTA WALK\nWalka wieczoru:\n\n 	Brendan Allen (22-5-0) vs Paul Craig (17-6-1)\n\nKarta główna (początek 23:00 w Fortuna TV)\n\n 	Jake Matthews (19-6-0) vs Michael Morales (15-0-0)\n 	Jordan Leavitt (11-2-0) vs Chase Hooper (12-3-1)\n 	Payton Talbott (6-0-0) vs Nick Aguirre (7-1-0)\n 	Amanda Ribas (11-4-0) vs Luana Pinheiro (11-1-0)\n 	Uros Medic (9-1-0) vs Jonny Parsons (9-3-0)\n\nKarta wstępna (początek 20:00 w Fortuna TV)\n\n 	Uros Medic (9-1-0) vs Jonny Parsons (9-3-0)\n 	Nikolas Motta (13-5-0) vs Trey Ogden (16-6-0)\n 	Lucie Pudilová (14-8-0) vs Ailin Perez (8-2-0)\n 	Mick Parkin (7-0-0) vs Caio Machado (8-1-1)\n 	Jonathan Pearce (14-4-0) vs Joanderson Brito (15-3-1)\n 	Chad Anheliger (12-6-0) vs Jose Johnson (15-8-0)\n 	Charles Johnson (13-5-0) vs Rafael Estevam (11-0-0)\n 	Lucas Alexander (8-3-0) vs Jeka Saragih (13-3-0)\n\nOstatnia zmiana: 14.11.2023 r.
URL:https://strefamma.pl/event/ufc-vegas-82-allen-vs-craig/
LOCATION:Las Vegas\, UFC Apex
ATTACH;FMTTYPE=image/jpeg:https://strefamma.pl/wp-content/uploads/2023/11/UFC-VEGAS-82-Allen-Craig.jpg
END:VEVENT
END:VCALENDAR