BEGIN:VCALENDAR
VERSION:2.0
PRODID:-//StrefaMMA.pl - Portal sportów walki - ECPv5.16.3.1//NONSGML v1.0//EN
CALSCALE:GREGORIAN
METHOD:PUBLISH
X-ORIGINAL-URL:https://strefamma.pl
X-WR-CALDESC:Wydarzenia dla StrefaMMA.pl - Portal sportów walki
REFRESH-INTERVAL;VALUE=DURATION:PT1H
X-Robots-Tag:noindex
X-PUBLISHED-TTL:PT1H
BEGIN:VTIMEZONE
TZID:Europe/Warsaw
BEGIN:DAYLIGHT
TZOFFSETFROM:+0100
TZOFFSETTO:+0200
TZNAME:CEST
DTSTART:20230326T010000
END:DAYLIGHT
BEGIN:STANDARD
TZOFFSETFROM:+0200
TZOFFSETTO:+0100
TZNAME:CET
DTSTART:20231029T010000
END:STANDARD
END:VTIMEZONE
BEGIN:VEVENT
DTSTART;TZID=Europe/Warsaw:20231111T190000
DTEND;TZID=Europe/Warsaw:20231112T010000
DTSTAMP:20260421T084922
CREATED:20230925T083204Z
LAST-MODIFIED:20231111T080006Z
UID:81372-1699729200-1699750800@strefamma.pl
SUMMARY:XTB KSW 88: Rutkowski vs Kaczmarczyk
DESCRIPTION:W Dzień Niepodległości organizacja KSW zawita do Radomia\, gdzie kibiców czeka nie lada wydarzenie! W walce wieczoru dojdzie do starcia na szczycie kategorii piórkowej. \nO tym\, że dojdzie do tego eventu poinformował… Patryk Kaczmarczyk po ostatniej wygranej przez decyzję. Młody fighter bardzo chciał i ostatecznie wystąpi w Radomiu. Jego oponentem będzie Daniel Rutkowski\, który niedawno podpisał nowy kontrakt z organizacją. Popularny „Rutek” stanie przed szansą na powstrzymanie kolejnego młodego wilka. W czerwcu Radomianin pokonał po pewnej decyzji Adama Soldaeva. \nXTB KSW 88: Kursy i zakłady bukmacherskie\nKartę walk obstawić możecie u bukmachera eFortuna.pl. Nowi użytkownicy mogą liczyć na specjalną ofertę powitalną\, wartą ponad 600 zł. \nJuż po samej rejestracji na konto wpłynie darmowe 20 zł\, a następnych 10 zł dodane zostanie do pierwszego depozytu. Co więcej trzy pierwsze zakłady do 100 zł\, 200 zł i 300 zł obstawicie bez ryzyka! W przypadku przegranej Fortuna zwróci stawkę na konto gracza. \nOdbierz bonusy na KSW 88! \n \nKARTA WALK\nWalka wieczoru: \n\n65\,8 kg/145 lb: Daniel Rutkowski #2 (16-3 1NC\, 7 KO\, 1 Sub) vs. Patryk Kaczmarczyk #6 (10-2\, 3 KO\, 2 Sub)\n\nKarta główna: \n\n83\,8 kg/185 lb: Bartosz Leśko (13-3-2\, 2 KO\, 7 Sub) vs. Piotr Kuberski (12-1\, 10 KO)\n93 kg/205 lb: Luis Da Silva #5 (19-9\, 17 KO\, 1 Sub) vs. Marcin Wójcik (18-8\, 10 KO\, 6 Sub)\n83\,8 kg/185 lb: Albert Odzimkowski (12-7 1 NC\, 4 KO\, 7 Sub) vs. Jorge Luiz Bueno (10-3 1NC\, 6 KO\, 2 Sub)\n120\,2 kg/265 lb: Štefan Vojčák #6 (6-1\, 3 KO\, 3 Sub) vs. Kamil Gawryjołek (5-0\, 4 KO\, 1 Sub)\n65\,8 kg/145 lb: Daniel Tarchila #8 (6-2\, 2 KO\, 2 Sub) vs. Vladyslav Falbiychuk (0-0)\n72 kg/159 lb: Ramzan Jembiev #9 (4-1\, 2 KO) vs. Fabian Łuczak (2-0)\n52\,2 kg/115 lb: Anita Bekus (7-3\, 2 KO) vs. Maria Silva (9-1\, 3 KO\, 4 Sub)\n83\,9 kg/185 lb: Krystian Bielski (9-5\, 4 KO\, 1 Sub) vs. Konrad Rusiński (5-1\, 1 KO\, 3 Sub)\n80 kg/ 176 lb: Jacek Gać (2-0\, 2 KO) vs. Michał Gniady (1-0\, 1 KO)\n\nOstatnia zmiana 11.11.2023 r.
URL:https://strefamma.pl/event/xtb-ksw-88-rutkowski-vs-kaczmarczyk/
LOCATION:Radomskie Cntrum Sportu\, Radom\, Radom\, Poland
ATTACH;FMTTYPE=image/jpeg:https://strefamma.pl/wp-content/uploads/2023/09/KSW-88-Rutkowski-vs-Kaczmarczyk.jpg
END:VEVENT
BEGIN:VEVENT
DTSTART;TZID=Europe/Warsaw:20231111T220000
DTEND;TZID=Europe/Warsaw:20231112T100000
DTSTAMP:20260421T084922
CREATED:20230925T112004Z
LAST-MODIFIED:20231030T125546Z
UID:81395-1699740000-1699783200@strefamma.pl
SUMMARY:UFC 295: Prochazka vs Pereira
DESCRIPTION:Największa organizacja MMA na świecie wraca do Madison Square Garden z kolejnym niesamowitym wydarzeniem. Kartę walk gali UFC w mekce sportów walki zamkną aż dwa pojedynki o mistrzowskie tytuły! \nJon Jones ponad 3 lata kazał czekać fanom na swój debiut w królewskiej kategorii wagowej. Amerykanin ostatecznie zmierzył się z Cirylem Gane\, którego poddał w zaledwie 124 sekundy. Już chwilę później wyzwał jednego z najlepszych ciężkich w historii. Stipe Miocic oglądał zwycięstwo „Bonesa” z bliska\, a teraz przyjdzie czas na bezpośrednie starcie! \nPrzed nimi zaś dojdzie do pojedynku o wakujący tytuł dywizji półciężkiej. Jiri Prochazka powraca do akcji po wielomiesięcznej przerwie spowodowanej kontuzją. Czeski fighter przez uraz nie był w stanie przystąpić do pierwszej obrony\, a w międzyczasie krajobraz kategorii do 205. funtów uległ dużym zmianom. „Denisa” w Madison Square Garden zmierzy się z Alexem Pereirą\, który w ubiegłym roku w tej arenie sięgnął po koronę wagi średniej. \nKursy bukmacherskie na UFC 295\nWszystkie walki UFC 295 obstawić możecie u bukmachera eFortuna.pl. Grając jakikolwiek zakład za dowolną stawkę otrzymujecie też dostęp do Fortuna TV\, gdzie możecie obejrzeć galę na żywo! \nJeśli jeszcze nie posiadacie konta\, możecie skorzystać z kapitalnej oferty powitalnej. Nowi gracze otrzymają 20 zł za rejestrację i dodatkowe 10 zł do pierwszego depozytu. Co więcej trzy pierwsze zakłady do 100 zł\, 200 zł i 300 zł obstawicie bez ryzyka! W przypadku przegranej Fortuna zwróci stawkę na konto gracza. \nOdbierz bonusy na UFC 295 i oglądaj LIVE! \n \nKARTA WALK\nWalka wieczoru: \n\nJiří Procházka (29-3-1) vs Alex Pereira (8-2-0) – o wakujący pas wagi półciężkiej UFC\n\nKarta główna: \n\nSergei Pavlovich (18-1-0) vs Tom Aspinall (13-3-0) – o tymczasowy pas wagi ciężkiej UFC\nJéssica Andrade (24-12-0) vs Mackenzie Dern (13-3-0)\nJoshua Van (8-1-0) vs Kevin Borjas (9-1-0)\nMatt Schnell (16-8-0) vs Steve Erceg (10-1-0)\nJared Gordon 19-6-0) vs Mark Madsen (12-1-0)\nPat Sabatini (18-4-0) vs Diego Lopes (22-6-0)\nMateusz Rębecki (18-1-0) vs Nurullo Aliev (9-0-0)\nDennis Buzukja (11-3-0) vs Jamall Emmers (19-7-0)\nMatt Frevola (11-3-1) vs Benoit Saint-Denis (12-1-0)\n\nOstatnia zmiana: 30.10.2023 r.
URL:https://strefamma.pl/event/ufc-295-prochazka-vs-pereira/
LOCATION:Madison Square Garden\, 46 Pennsylvania Plaza (8th Avenue & 33rd Street)\, New York\, United States
ATTACH;FMTTYPE=image/jpeg:https://strefamma.pl/wp-content/uploads/2023/09/UFC-295-Prochazka-vs-Pereira.jpg
END:VEVENT
END:VCALENDAR