BEGIN:VCALENDAR
VERSION:2.0
PRODID:-//StrefaMMA.pl - Portal sportów walki - ECPv5.16.3.1//NONSGML v1.0//EN
CALSCALE:GREGORIAN
METHOD:PUBLISH
X-ORIGINAL-URL:https://strefamma.pl
X-WR-CALDESC:Wydarzenia dla StrefaMMA.pl - Portal sportów walki
REFRESH-INTERVAL;VALUE=DURATION:PT1H
X-Robots-Tag:noindex
X-PUBLISHED-TTL:PT1H
BEGIN:VTIMEZONE
TZID:Europe/Warsaw
BEGIN:DAYLIGHT
TZOFFSETFROM:+0100
TZOFFSETTO:+0200
TZNAME:CEST
DTSTART:20230326T010000
END:DAYLIGHT
BEGIN:STANDARD
TZOFFSETFROM:+0200
TZOFFSETTO:+0100
TZNAME:CET
DTSTART:20231029T010000
END:STANDARD
END:VTIMEZONE
BEGIN:VEVENT
DTSTART;TZID=Europe/Warsaw:20231014T190000
DTEND;TZID=Europe/Warsaw:20231015T010000
DTSTAMP:20260421T132236
CREATED:20230821T131717Z
LAST-MODIFIED:20230925T072647Z
UID:78589-1697310000-1697331600@strefamma.pl
SUMMARY:KSW 87: Stošić vs Martinek
DESCRIPTION:Największa polska organizacja MMA powraca do Czech! Już w październiku odbędzie się kolejna gala KSW w kraju naszych południowych sąsiadów. \nW walce wieczoru KSW 87 zobaczymy starcie na szczycie wagi ciężkiej\, które będzie też eliminatorem do starcia z Philem De Friesem. Lokalny bohater Michal Martinek spotka się z numerem 1 rankingu\, Darko Stošićem. \nKolejne pojedynki stoczą też inni czescy fighterzy. Leo Brichta kapitalnie zaprezentował się na Stadionie Narodowym\, a w Trzyńcu czeka go pojedynek z Romanem Szymańskim. Mimo porażki w debiucie broni nie składa Filip Macek. Specjalista od poddań będzie chciał się podnieść po porażce z Sebastianem Przybyszem i stoczy bój z Oleksijem Polischuckiem. \nKursy bukmacherskie na KSW 87\nKartę walk obstawić możecie u bukmachera eFortuna.pl. Nowi użytkownicy mogą liczyć na specjalną ofertę powitalną\, wartą ponad 600 zł. \nJuż po samej rejestracji na konto wpłynie darmowe 20 zł\, a następnych 10 zł dodane zostanie do pierwszego depozytu. Co więcej trzy pierwsze zakłady do 100 zł\, 200 zł i 300 zł obstawicie bez ryzyka! W przypadku przegranej Fortuna zwróci stawkę na konto gracza. \n-> Odbierz bonusy na KSW 87!\n \nKSW 87: Stošić vs Martinek – Karta walk\nWalka wieczoru: \n\n120\,2 kg/265 lb: Darko Stošić #1 (18-6\, 12 KO\, 1 Sub) vs. Michal Martínek #3 (10-4\, 6 KO\, 1 Sub)\n\nKarta główna: \n\n70\,3 kg/155 lb: Roman Szymański #3 (17-7\, 4 KO\, 4 Sub) vs. Leo Brichta #7 (11-3 1NC\, 5 KO\, 4 Sub)\n93 kg/205 lb: Ivan Erslan #1 (13-2 1NC\, 9 KO\, 1 Sub) vs. Rafał Haratyk (16-5-2\, 4 KO\, 5 Sub)\n61\,2 kg/135 lb: Filip Macek #4 (27-18-1\, 4 KO\, 20 Sub) vs. Oleksii Polishchuk (10-4\, 2 KO\, 5 Sub)\n93 kg/205 lb: Vojtech Garba (8-4\, 6 KO) vs. Michał Dreczkowski (3-0\, 3 KO)\n87 kg/192 lb: Adrian Dudek (6-3\, 5 KO\, 1 Sub) vs. Lukáš Dvořák (5-2\, 1 KO\, 4 Sub)\n70\,3 kg/155 lb: Sahil Siraj (8-2\, 7 KO) vs. Ahmed Abdulkadirov (9-1\, 8 KO)\n65\,8 kg/145 lb: Josef Štummer (3-0\, 1 Sub) vs. Dawid Kareta (4-3\, 2 Sub)\n61\,2 kg/135 lb: Carl McNally (2-1\,2 Sub) vs. Tobiasz Le (3-1\,2 KO)\n\nOstatnia zmiana 25.09.2023 r.
URL:https://strefamma.pl/event/ksw-87-stosic-vs-martinek/
LOCATION:Trzyniec\, Trzyniec\, Czech Republic
ATTACH;FMTTYPE=image/jpeg:https://strefamma.pl/wp-content/uploads/2023/08/KSW-87-Stosic-vs-Martinek.jpg
END:VEVENT
BEGIN:VEVENT
DTSTART;TZID=Europe/Warsaw:20231014T220000
DTEND;TZID=Europe/Warsaw:20231015T070000
DTSTAMP:20260421T132236
CREATED:20230925T131801Z
LAST-MODIFIED:20231014T122738Z
UID:81415-1697320800-1697353200@strefamma.pl
SUMMARY:UFC Vegas 81: Yusuff vs Barboza
DESCRIPTION:Kolejna gala UFC z cyklu Fight Night ponownie odbędzie się w kompleksie Apex. Wielkie emocje zwiastuje zwłaszcza walka wieczoru\, która odbędzie się w kategorii piórkowej. \nEvent UFC Vegas 81 zamknie pojedynek Sodiq Yusuff vs Edson Barboza. Niezwykle doświadczony Brazylijczyk przed kilkoma miesiącami w swoim stylu powrócił na ścieżkę zwycięstw\, kończąc kolanem Billy’ego Quarantillo. Podniósł się tym samym po dwóch kolejnych porażkach. Młodszy o 7 lat Nigeryjczyk po raz pierwszy w tym roku stanie do walki. Yusuff będzie liczył na przedłużenie passy dwóch wygranych z rzędu. \nUFC Vegas 81: Kursy i zakłady bukmacherskie\nWszystkie walki UFC Vegas 81 obstawić możecie u bukmachera eFortuna.pl. Grając jakikolwiek zakład za dowolną stawkę otrzymujecie też dostęp do Fortuna TV\, gdzie możecie obejrzeć galę na żywo! \nJeśli jeszcze nie posiadacie konta\, możecie skorzystać z kapitalnej oferty powitalnej. Nowi gracze otrzymają 20 zł za rejestrację i dodatkowe 10 zł do pierwszego depozytu. Co więcej trzy pierwsze zakłady do 100 zł\, 200 zł i 300 zł obstawicie bez ryzyka! W przypadku przegranej Fortuna zwróci stawkę na konto gracza. \nOdbierz bonusy na UFC Vegas 81! \n \nUFC Vegas 81 – Karta walk\nWalka wieczoru: \n\nSodiq Yusuff (13-2-0) vs Edson Barboza (23-11-0)\n\nKarta główna: \n\nJennifer Maia (21-9-1) vs Viviane Araujo (11-5-0)\nJonathan Martinez (18-4-0) vs Adrian Yanez (16-4-0)\nMichel Pereira (28-11-0) vs Marc-André Barriault (16-6-0)\nChristian Rodriguez (9-1-0) vs Cameron Saaiman (9-0-0)\n\nKarta wstępna: \n\nIrina Alekseeva (5-1-0) vs Melissa Dixon (5-0-0)\nAshley Yoder (8-8-0) vs Emily Ducote (12-8-0)\nDarren Elkins (27-11-0) vs TJ Brown (17-10-0)\nTainara Lisboa (6-2-0) vs Ravena Oliveira (7-1-1)\nEdgar Cháirez (10-5-0) vs Daniel Lacerda (11-5-0)\n\nOstatnia zmiana: 25.09.2023 r.
URL:https://strefamma.pl/event/ufc-vegas-81-yussuf-vs-barboza/
LOCATION:Las Vegas\, UFC Apex
ATTACH;FMTTYPE=image/jpeg:https://strefamma.pl/wp-content/uploads/2023/09/UFC-Vegas-81-Yussuf-vs-Barboza.jpg
END:VEVENT
END:VCALENDAR