BEGIN:VCALENDAR
VERSION:2.0
PRODID:-//StrefaMMA.pl - Portal sportów walki - ECPv5.16.3.1//NONSGML v1.0//EN
CALSCALE:GREGORIAN
METHOD:PUBLISH
X-WR-CALNAME:StrefaMMA.pl - Portal sportów walki
X-ORIGINAL-URL:https://strefamma.pl
X-WR-CALDESC:Wydarzenia dla StrefaMMA.pl - Portal sportów walki
REFRESH-INTERVAL;VALUE=DURATION:PT1H
X-Robots-Tag:noindex
X-PUBLISHED-TTL:PT1H
BEGIN:VTIMEZONE
TZID:Europe/Warsaw
BEGIN:DAYLIGHT
TZOFFSETFROM:+0100
TZOFFSETTO:+0200
TZNAME:CEST
DTSTART:20230326T010000
END:DAYLIGHT
BEGIN:STANDARD
TZOFFSETFROM:+0200
TZOFFSETTO:+0100
TZNAME:CET
DTSTART:20231029T010000
END:STANDARD
END:VTIMEZONE
BEGIN:VEVENT
DTSTART;TZID=Europe/Warsaw:20230923T220000
DTEND;TZID=Europe/Warsaw:20230924T080000
DTSTAMP:20260421T130657
CREATED:20230807T122223Z
LAST-MODIFIED:20230918T063928Z
UID:77444-1695506400-1695542400@strefamma.pl
SUMMARY:UFC Vegas 79: Fiziev vs Gamrot
DESCRIPTION:W main evencie UFC Vegas 79 znalazło się miejsce dla czołowego polskiego lekkiego. Mateusz Gamrot zmierzy się z groźnym kick-bokserem\, Rafaelem Fizievem. \nByły podwójny mistrz KSW odkuł się już po ubiegłorocznej porażce z Beneilem Dariushem. „Gamer” wskoczył na zastępstwo do Jalina Turnera\, którego pokonał niejednogłośną decyzją sędziowską. Teraz Polak gotów jest wykonać kolejny krok w kierunku mistrzostwa wagi lekkiej! \nNajpierw jednak musi pokonać Rafaela Fizieva. Reprezentujący Azerbejdżan „Ataman” to niezwykle groźny zawodnik\, który często dostarczał masę emocji dając krwawe pojedynki. Ostatni nie poszedł po jego myśli. Trenujący w tajskim Tiger Muay Thai zawodnik przegrał większościową decyzją arbitrów z Justinem Gaethje. \nUFC Vegas 79: Kursy bukmacherskie\nWszystkie walki UFC Vegas 79: Fiziev vs Gamrot obstawić możecie u bukmachera eFortuna.pl. Grając jakikolwiek zakład za dowolną stawkę otrzymujecie też dostęp do Fortuna TV\, gdzie możecie obejrzeć galę na żywo! \nJeśli jeszcze nie posiadacie konta\, możecie skorzystać z kapitalnej oferty powitalnej. Nowi gracze otrzymają 20 zł za rejestrację i dodatkowe 10 zł do pierwszego depozytu. Co więcej trzy pierwsze zakłady do 100 zł\, 200 zł i 300 zł obstawicie bez ryzyka! W przypadku przegranej Fortuna zwróci stawkę na konto gracza. \n-> Odbierz bonusy na UFC Vegas 79!\n \nUFC Vegas 79: Fiziev vs Gamrot – Karta walk\nWalka wieczoru: \n\nRafael Fiziev (12-2-0) vs Mateusz Gamrot (22-2-0)\n\nKarta główna: \n\nBryce Mitchell (15-1-0) vs Dan Ige (17-6-0)\nMarina Rodriguez (16-3-2) vs Michelle Waterson-Gomez (18-11-0)\nBryan Battle (9-2-0) vs AJ Fletcher (10-2-0)\nCharles Jourdain (14-6-1) vs Ricardo Ramos (16-4-0)\n\nKarta wstępna: \n\nMiles Johns (13-2-0) vs Dam Argueta (9-1-0)\nTim Means (32-15-1) vs Andre Fialho (16-7-0)\nJacob Malkoun (7-2-0) vs Cody Brundage (8-5-0)\nJake Collier (13-9-0) vs Mohammed Usman (9-2-0)\nMizuki Inoue (14-6-0) vs Hannah Goldy (6-3-0)\nMontserrat Rendon (5-0-0) vs Tamires Vidal (7-1-0)\n\nOstatnia zmiana: 18.09.2023 r.
URL:https://strefamma.pl/event/ufc-vegas-79-fiziev-vs-gamrot/
LOCATION:Las Vegas\, UFC Apex
ATTACH;FMTTYPE=image/jpeg:https://strefamma.pl/wp-content/uploads/2023/08/UFC-Vegas-79-Fiziev-vs-Gamrot-1.jpg
END:VEVENT
END:VCALENDAR