BEGIN:VCALENDAR
VERSION:2.0
PRODID:-//StrefaMMA.pl - Portal sportów walki - ECPv5.16.3.1//NONSGML v1.0//EN
CALSCALE:GREGORIAN
METHOD:PUBLISH
X-ORIGINAL-URL:https://strefamma.pl
X-WR-CALDESC:Wydarzenia dla StrefaMMA.pl - Portal sportów walki
REFRESH-INTERVAL;VALUE=DURATION:PT1H
X-Robots-Tag:noindex
X-PUBLISHED-TTL:PT1H
BEGIN:VTIMEZONE
TZID:Europe/Warsaw
BEGIN:DAYLIGHT
TZOFFSETFROM:+0100
TZOFFSETTO:+0200
TZNAME:CEST
DTSTART:20230326T010000
END:DAYLIGHT
BEGIN:STANDARD
TZOFFSETFROM:+0200
TZOFFSETTO:+0100
TZNAME:CET
DTSTART:20231029T010000
END:STANDARD
END:VTIMEZONE
BEGIN:VEVENT
DTSTART;TZID=Europe/Warsaw:20230916T190000
DTEND;TZID=Europe/Warsaw:20230917T003000
DTSTAMP:20260421T130821
CREATED:20230723T093107Z
LAST-MODIFIED:20230913T122215Z
UID:76271-1694890800-1694910600@strefamma.pl
SUMMARY:KSW 86: Wikłacz vs Przybysz 4
DESCRIPTION:We wrześniu organizacja KSW z kolejnym eventem zawita do Wrocławia. W main evencie do pierwszej obrony stanie mistrz wagi koguciej\, Jakub Wikłacz. \nChampion kategorii do 135. funtów po raz ostatni w klatce stawił się w grudniu\, gdy niejednogłośną decyzją sędziów pokonał w trylogii Sebastiana Przybysza. Fighter Czerwonego Smoka Poznań miał też wystąpić na XTB KSW Colosseum 2\, jednak jego pojedynek wypadł z karty po niewypełnieniu limitu przez rywala. \nJak podano\, przeciwnikiem Wikłacza ponownie będzie właśnie „Sebić”. Tetralogia między panami zapowiada się iście niesamowicie po tym\, co prezentowali w swoich wcześniejszych występach! \nKSW 86: Kursy i zakłady bukmacherskie\nKartę walk obstawić możecie u bukmachera eFortuna.pl. Nowi użytkownicy mogą liczyć na specjalną ofertę powitalną\, wartą ponad 600 zł. \nJuż po samej rejestracji na konto wpłynie darmowe 20 zł\, a następnych 10 zł dodane zostanie do pierwszego depozytu. Co więcej trzy pierwsze zakłady do 100 zł\, 200 zł i 300 zł obstawicie bez ryzyka! W przypadku przegranej Fortuna zwróci stawkę na konto gracza. \n-> Odbierz bonusy na KSW 86!\n \nKarta walk KSW 86\nWalka  wieczoru: \n\n61\,2 kg/135 lb: Jakub Wikłacz #C (14-3-1\, 9 Sub) vs Sebastian Przybysz #1 (12-3\, 5 KO\, 4 Sub) – o pas wagi koguciej KSW\n\nKarta główna: \n\n83\,9 kg/185 lb: Michał Michalski (10-5\, 6 KO\, 1 Sub) vs Dominik Humburger (7-0\, 6 KO)\n65\,8 kg/145 lb: Lom-Ali Eskiev #3 (20-7 1NC\, 9 KO\, 3 Sub) vs Dawid Śmiełowski #4 (10-0\, 8 KO\, 2 Sub)\n77\,1 kg/170 lb: Artur Szczepaniak #2 (9-2\, 5 KO\, 2 Sub) vs Henry Fadipe #8 (14-10-1\, 9 KO\, 3 Sub)\n77\,1 kg/170 lb: Kacper Koziorzębski (9-5\, 4 KO) vs Wiktor Zalewski (5-0\, 4 KO)\n93 kg/205 lb: Damian Piwowarczyk #7 (6-2\, 2 KO\, 3 Sub) vs. Łukasz Sudolski #8 (10-2\, 6 KO\, 1 Sub)\n120\,2 kg/265 lb: Filip Stawowy #5 (10-3\, 8 KO\, 1 Sub) vs Viktor Pešta (18-8\, 8 KO\, 6 Sub)\n61\,2 kg/135 lb: Mariusz Joniak (11-4\, 1 KO\, 8 Sub) vs Miljan Zdravković (6-0\, 3 KO)\n77\,1 kg/170 lb: Oskar Szczepaniak (4-1\, 1 KO) vs Adrian Gralak (5-1 1NC\, 2 KO\, 1 Sub)\n\nOstatnia zmiana: 13.09.2023 r.
URL:https://strefamma.pl/event/ksw-86-wiklacz-vs-przybysz-4/
LOCATION:Hala Orbita\, Wejherowska 34\, Wrocław\, Dolnośląskie\, 54-239\, Poland
ATTACH;FMTTYPE=image/jpeg:https://strefamma.pl/wp-content/uploads/2023/07/KSW-86-Wiklacz-vs-Przybysz.jpg
END:VEVENT
BEGIN:VEVENT
DTSTART;TZID=Europe/Warsaw:20230917T010000
DTEND;TZID=Europe/Warsaw:20230917T083000
DTSTAMP:20260421T130821
CREATED:20230913T064432Z
LAST-MODIFIED:20230913T064432Z
UID:80417-1694912400-1694939400@strefamma.pl
SUMMARY:Noche UFC: Grasso vs Shevchenko 2
DESCRIPTION:Największa organizacja MMA na świecie postanowiła zorganizować event z okazji meksykańskiego dnia niepodległości. W walce wieczoru dojdzie do rewanżu o pas UFC! \nValentina Shevchenko w marcu przystępowała do kolejnej obrony\, która ponownie miała być formalnością. Popularna „Bullet” mierzyła się z Alexą Grasso\, która\, niczym wiele miesięcy później Sean Strickland\, odniosła sensacyjne zwycięstwo. Teraz dojdzie do ponownego spotkania\, w którym Meksykanka raz jeszcze jest underdogiem. \nKarta walk Noche UFC jest pełna głośnych nazwisk. W co-main evencie w kategorii półśredniej ekscytujący fighter Jack Della Maddalena zmierzy się z Kevinem Hollandem. Przed nimi do oktagonu powróci najmłodszy debiutant w historii organizacji\, Raul Rosas Jr.. \nNoche UFC – Kursy bukmacherskie\nWszystkie walki UFC Noche obstawić możecie u bukmachera eFortuna.pl. Grając jakikolwiek zakład za dowolną stawkę otrzymujecie też dostęp do Fortuna TV\, gdzie możecie obejrzeć galę na żywo! \nJeśli jeszcze nie posiadacie konta\, możecie skorzystać z kapitalnej oferty powitalnej. Nowi gracze otrzymają 20 zł za rejestrację i dodatkowe 10 zł do pierwszego depozytu. Co więcej trzy pierwsze zakłady do 100 zł\, 200 zł i 300 zł obstawicie bez ryzyka! W przypadku przegranej Fortuna zwróci stawkę na konto gracza. \n-> Odbierz bonusy na Noche UFC! \n \nKarta walk\nWalka wieczoru: \n\nAlexa Grasso (16-3-0) vs Valentina Shevchenko (23-4-0) – o pas żeńskiej kategorii muszej UFC\n\nKarta główna: \n\nKevin Holland (25-9-0) vs Jack Della Maddalena (15-2-0)\nRaul Rosas Jr. (7-1-0) vs Terrence Mitchell (14-3-0)\nDaniel Zellhuber (13-1-0) vs Christos Giagos (20-10-0)\nFernando Padilla (15-4-0) vs Kyle Nelson (14-5-1)\n\nKarta wstępna: \n\nLupita Godinez (10-3-0) vs Elise Reed (7-3-0)\nRoman Kopylov (11-2-0) vs Josh Fremd (11-4-0)\nEdgar Cháirez (10-5-0) vs Daniel Lacerda (11-5-0)\nTracy Cortez (10-1-0) vs Jasmine Jasudavicius (9-2-0)\nCharlie Campbell (7-2-0) vs Alex Reyes (13-3-0)\nJosefine Knutsson (6-0-0) vs Marnic Mann (6-1-0)\n\nOstatnia zmiana: 13.09.2023 r.
URL:https://strefamma.pl/event/noche-ufc-grasso-vs-shevchenko-2/
LOCATION:T-Mobile Arena\, 3780 Las Vegas Blvd S\, Las Vegas\, 89158\, United States
ATTACH;FMTTYPE=image/jpeg:https://strefamma.pl/wp-content/uploads/2023/09/Noche-UFC-Grasso-vs-Shevchenko-2.jpg
END:VEVENT
END:VCALENDAR