BEGIN:VCALENDAR
VERSION:2.0
PRODID:-//StrefaMMA.pl - Portal sportów walki - ECPv5.16.3.1//NONSGML v1.0//EN
CALSCALE:GREGORIAN
METHOD:PUBLISH
X-ORIGINAL-URL:https://strefamma.pl
X-WR-CALDESC:Wydarzenia dla StrefaMMA.pl - Portal sportów walki
REFRESH-INTERVAL;VALUE=DURATION:PT1H
X-Robots-Tag:noindex
X-PUBLISHED-TTL:PT1H
BEGIN:VTIMEZONE
TZID:Europe/Warsaw
BEGIN:DAYLIGHT
TZOFFSETFROM:+0100
TZOFFSETTO:+0200
TZNAME:CEST
DTSTART:20230326T010000
END:DAYLIGHT
BEGIN:STANDARD
TZOFFSETFROM:+0200
TZOFFSETTO:+0100
TZNAME:CET
DTSTART:20231029T010000
END:STANDARD
END:VTIMEZONE
BEGIN:VEVENT
DTSTART;TZID=Europe/Warsaw:20230910T003000
DTEND;TZID=Europe/Warsaw:20230910T090000
DTSTAMP:20260421T130847
CREATED:20230904T081715Z
LAST-MODIFIED:20230904T081715Z
UID:79699-1694305800-1694336400@strefamma.pl
SUMMARY:UFC 293: Adesanya vs Strickland
DESCRIPTION:Organizacja UFC powraca do Australii\, gdzie wielkie emocje zapewni walka wieczoru o pas wagi średniej. \nIsrael Adesanya rozpoczął kolejne panowanie z tytułem mistrzowskim po zwycięstwie przez KO na Alexie Pereirze. Nigeryjczyk bardzo chciał zmierzyć się z byłym fighterem i championem KSW\, Dricusem Du Plessisem. Afrykaner nie był jednak w stanie powrócić do akcji już we wrześniu. \nW związku z tym federacja doprowadziła do zestawienia\, w którym nie brakuje złej krwi. Sean Strickland często zaczepia Adesanyę w wywiadach ku uciesze publiczności. Sam „Izzy” z kolei czuje ogromną złość do oponenta\, co zwiastuje kapitalne starcie na UFC 293! \nGdzie oglądać UFC na żywo? Transmisja LIVE dostępna będzie w całości w Fortuna TV. Szczegóły poniżej! \nUFC 293 – Kursy bukmacherskie\nWszystkie walki UFC 293: Adesanya vs Strickland obstawić możecie u bukmachera eFortuna.pl. Grając jakikolwiek zakład za dowolną stawkę otrzymujecie też dostęp do Fortuna TV\, gdzie możecie obejrzeć galę na żywo! \nJeśli jeszcze nie posiadacie konta\, możecie skorzystać z kapitalnej oferty powitalnej. Nowi gracze otrzymają 20 zł za rejestrację i dodatkowe 10 zł do pierwszego depozytu. Co więcej trzy pierwsze zakłady do 100 zł\, 200 zł i 300 zł obstawicie bez ryzyka! W przypadku przegranej Fortuna zwróci stawkę na konto gracza. \n-> Odbierz bonusy na UFC 293!\n \nKarta walk UFC 293: Adesanya vs Strickland\nWalka wieczoru: \n\nIsrael Adesanya (24-2-0) vs Sean Strickland (27-5-0)– o pas wagi średniej UFC\n\nKarta główna: \n\nTai Tuivasa (15-5-0) vs Alexander Volkov (36-10-0)\nManel Kape (18-6-0) vs Felipe dos Santos (7-0-0)\nJustin Tafa (6-3-0) vs Austen Lane (12-3-0)\nTyson Pedro (9-4-0) vs Anton Turkalj (8-2-0)\n\nKarta wstępna: \n\nCarlos Ulberg (8-1-0) vs Da Un Jung (15-4-1)\nJack Jenkins (12-2-0) vs Chepe Mariscal (14-6-0)\nJamie Mullarkey (16-6-0) vs John Makdessi (18-8-0)\nNasrat Haqparast (14-5-0) vs Landon Quiñones (7-1-1)\n\nKarta przedwstępna: \n\nBlood Diamond (3-2-0) vs Charlie Radtke (7-3-0)\nShane Young (13-7-0) vs Gabriel Miranda (16-6-0)\nKevin Jousset (8-2-0) vs Kiefer Crosbie (10-3-0)\n\nOstatnia zmiana 04.09.2023 r.
URL:https://strefamma.pl/event/ufc-293-adesanya-vs-strickland/
LOCATION:Qudos Bank Arena\, Sydney\, Australia
ATTACH;FMTTYPE=image/jpeg:https://strefamma.pl/wp-content/uploads/2023/09/UFC-293-Adesanya-vs-Strickland.jpg
END:VEVENT
END:VCALENDAR